{ "currentVersion": 10.91, "serviceDescription": "
Date of Image:<\/span><\/p> 4/26/2019<\/span><\/p> Date of Next Image:<\/span><\/p> Unknown<\/span><\/p> Summary:<\/span><\/p> The Advanced Rapid Imaging and Analysis (ARIA) team at NASA's Jet Propulsion Laboratory in Pasadena, California, created these Flood Proxy Maps depicting areas of Quebec, Canada, that are likely flooded as a result of rain and rapid snow melt, shown by blue pixels. The maps were derived from synthetic aperture radar (SAR) images from the Copernicus Sentinel-1 (April 26) satellites operated by the European Space Agency (ESA). <\/span><\/p> Suggested Usage:<\/span><\/p> Potentially flooding is shown by blue pixels.<\/span><\/p> This flood proxy map should be used as guidance to identify areas that are likely flooded, and may be less reliable over urban and vegetated areas. <\/span><\/p> Satellite/Sensor:<\/span><\/p> Synthetic Aperture Radar (SAR) on European Space Agency's (ESA) Copernicus Sentinel-1A satellite<\/span><\/p> Resolution: 30 meters<\/span><\/p> Credits:<\/span><\/p> Contains modified Copernicus Sentinel data (2019) analyzed by the NASA-JPL/Caltech ARIA team. This task was carried out at JPL funded by NASA Disasters Program.<\/span><\/p><\/div><\/div>",
"name": "quebec_flooding_2019/aria_fpm_20190426",
"description": " Date of Image:<\/span><\/p> 4/26/2019<\/span><\/p> Date of Next Image:<\/span><\/p> Unknown<\/span><\/p> Summary:<\/span><\/p> The Advanced Rapid Imaging and Analysis (ARIA) team at NASA's Jet Propulsion Laboratory in Pasadena, California, created these Flood Proxy Maps depicting areas of Quebec, Canada, that are likely flooded as a result of rain and rapid snow melt, shown by blue pixels. The maps were derived from synthetic aperture radar (SAR) images from the Copernicus Sentinel-1 (April 26) satellites operated by the European Space Agency (ESA). <\/span><\/p> Suggested Usage:<\/span><\/p> Potentially flooding is shown by blue pixels.<\/span><\/p> This flood proxy map should be used as guidance to identify areas that are likely flooded, and may be less reliable over urban and vegetated areas. <\/span><\/p> Satellite/Sensor:<\/span><\/p> Synthetic Aperture Radar (SAR) on European Space Agency's (ESA) Copernicus Sentinel-1A satellite<\/span><\/p> Resolution: 30 meters<\/span><\/p> Credits:<\/span><\/p> Contains modified Copernicus Sentinel data (2019) analyzed by the NASA-JPL/Caltech ARIA team. This task was carried out at JPL funded by NASA Disasters Program.<\/span><\/p><\/div><\/div>",
"extent": {
"xmin": -73.7486134,
"ymin": 44.42018891049234,
"xmax": -70.18253019565611,
"ymax": 46.201009,
"spatialReference": {
"wkid": 4326,
"latestWkid": 4326
}
},
"initialExtent": {
"xmin": -73.7486134,
"ymin": 44.42018891049234,
"xmax": -70.18253019565611,
"ymax": 46.201009,
"spatialReference": {
"wkid": 4326,
"latestWkid": 4326
}
},
"fullExtent": {
"xmin": -73.7486134,
"ymin": 44.42018891049234,
"xmax": -70.18253019565611,
"ymax": 46.201009,
"spatialReference": {
"wkid": 4326,
"latestWkid": 4326
}
},
"hasMultidimensions": false,
"pixelSizeX": 2.7768908303565514E-4,
"pixelSizeY": 2.776890830356552E-4,
"datasetFormat": "TIFF",
"uncompressedSize": 82355746,
"blockWidth": 128,
"blockHeight": 128,
"compressionType": "None",
"bandNames": [
"Band_1"
],
"allowCopy": true,
"allowAnalysis": true,
"bandCount": 1,
"noDataValue": 0,
"noDataValues": [
0
],
"pixelType": "U8",
"minPixelSize": 0,
"maxPixelSize": 0,
"copyrightText": "Contains modified Copernicus Sentinel data (2019) analyzed by the NASA-JPL/Caltech ARIA team. This task was carried out at JPL funded by NASA Disasters Program.",
"serviceDataType": "esriImageServiceDataTypeGeneric",
"serviceSourceType": "esriImageServiceSourceTypeDataset",
"minValues": [
255
],
"maxValues": [
255
],
"meanValues": [
255
],
"stdvValues": [
0
],
"objectIdField": "",
"fields": [],
"capabilities": "Mensuration,Image,Metadata",
"defaultMosaicMethod": "Center",
"allowedMosaicMethods": "",
"sortField": "",
"sortValue": null,
"sortAscending": true,
"mosaicOperator": "First",
"defaultCompressionQuality": 75,
"defaultResamplingMethod": "Bilinear",
"maxImageHeight": 4100,
"maxImageWidth": 15000,
"allowRasterFunction": true,
"rasterFunctionInfos": [
{
"name": "aria_fpm_band4",
"description": "A raster function template.",
"help": ""
},
{
"name": "None",
"description": "",
"help": ""
}
],
"rasterTypeInfos": [
{
"name": "Raster Dataset",
"description": "Supports all ArcGIS Raster Datasets",
"help": ""
}
],
"mensurationCapabilities": "Basic",
"hasHistograms": true,
"hasColormap": false,
"hasRasterAttributeTable": false,
"minScale": 0,
"maxScale": 0,
"exportTilesAllowed": false,
"supportsStatistics": false,
"supportsAdvancedQueries": false,
"editFieldsInfo": null,
"ownershipBasedAccessControlForRasters": null,
"allowComputeTiePoints": false,
"useStandardizedQueries": true,
"advancedQueryCapabilities": {
"useStandardizedQueries": true,
"supportsStatistics": false,
"supportsOrderBy": false,
"supportsDistinct": false,
"supportsPagination": false
},
"spatialReference": {
"wkid": 4326,
"latestWkid": 4326
}
}