{
 "currentVersion": 10.91,
 "serviceDescription": "Date of Image:6/18/2019Date of Next Image:UnknownSummary:The Advanced Rapid Imaging and Analysis (ARIA) team at NASA's Jet Propulsion Laboratory in Pasadena, California, created these Flood Proxy Maps depicting areas of Uruguay that are likely flooded as a result of heavy rain, shown by light blue pixels. The maps were derived from synthetic aperture radar (SAR) data acquired on June 18, 2019 by the Copernicus Sentinel-1 satellites operated by the European Space Agency (ESA). Suggested Usage:Potentially flooding is shown by blue pixels.This flood proxy map should be used as guidance to identify areas that are likely flooded, and may be less reliable over urban and vegetated areas. Satellite/Sensor:Synthetic Aperture Radar (SAR) on European Space Agency's (ESA) Copernicus Sentinel-1A satelliteResolution: 30 metersCredits:Contains modified Copernicus Sentinel data (2019) analyzed by the NASA-JPL/Caltech ARIA team. This task was carried out at JPL funded by NASA Disasters Program.",
 "name": "uruguay_floods_201906/sentinel1_ariafpm_20190618",
 "description": "Date of Image:6/18/2019Date of Next Image:UnknownSummary:The Advanced Rapid Imaging and Analysis (ARIA) team at NASA's Jet Propulsion Laboratory in Pasadena, California, created these Flood Proxy Maps depicting areas of Uruguay that are likely flooded as a result of heavy rain, shown by light blue pixels. The maps were derived from synthetic aperture radar (SAR) data acquired on June 18, 2019 by the Copernicus Sentinel-1 satellites operated by the European Space Agency (ESA). Suggested Usage:Potentially flooding is shown by blue pixels.This flood proxy map should be used as guidance to identify areas that are likely flooded, and may be less reliable over urban and vegetated areas. Satellite/Sensor:Synthetic Aperture Radar (SAR) on European Space Agency's (ESA) Copernicus Sentinel-1A satelliteResolution: 30 metersCredits:Contains modified Copernicus Sentinel data (2019) analyzed by the NASA-JPL/Caltech ARIA team. This task was carried out at JPL funded by NASA Disasters Program.",
 "extent": {
  "xmin": -56.9706376,
  "ymin": -35.165596744924116,
  "xmax": -53.30779443252017,
  "ymax": -31.5024759,
  "spatialReference": {
   "wkid": 4326,
   "latestWkid": 4326
  }
 },
 "initialExtent": {
  "xmin": -56.9706376,
  "ymin": -35.165596744924116,
  "xmax": -53.30779443252017,
  "ymax": -31.5024759,
  "spatialReference": {
   "wkid": 4326,
   "latestWkid": 4326
  }
 },
 "fullExtent": {
  "xmin": -56.9706376,
  "ymin": -35.165596744924116,
  "xmax": -53.30779443252017,
  "ymax": -31.5024759,
  "spatialReference": {
   "wkid": 4326,
   "latestWkid": 4326
  }
 },
 "hasMultidimensions": false,
 "pixelSizeX": 2.7767744427866235E-4,
 "pixelSizeY": 2.776774442786625E-4,
 "datasetFormat": "TIFF",
 "uncompressedSize": 174015672,
 "blockWidth": 128,
 "blockHeight": 128,
 "compressionType": "None",
 "bandNames": [
  "Band_1"
 ],
 "allowCopy": true,
 "allowAnalysis": true,
 "bandCount": 1,
 "noDataValue": 0,
 "noDataValues": [
  0
 ],
 "pixelType": "U8",
 "minPixelSize": 0,
 "maxPixelSize": 0,
 "copyrightText": "Contains modified Copernicus Sentinel data (2019) analyzed by the NASA-JPL/Caltech ARIA team. This task was carried out at JPL funded by NASA Disasters Program.",
 "serviceDataType": "esriImageServiceDataTypeGeneric",
 "serviceSourceType": "esriImageServiceSourceTypeDataset",
 "minValues": [
  255
 ],
 "maxValues": [
  255
 ],
 "meanValues": [
  255
 ],
 "stdvValues": [
  0
 ],
 "objectIdField": "",
 "fields": [],
 "capabilities": "Mensuration,Image,Metadata",
 "defaultMosaicMethod": "Center",
 "allowedMosaicMethods": "",
 "sortField": "",
 "sortValue": null,
 "sortAscending": true,
 "mosaicOperator": "First",
 "defaultCompressionQuality": 75,
 "defaultResamplingMethod": "Bilinear",
 "maxImageHeight": 4100,
 "maxImageWidth": 15000,
 "allowRasterFunction": true,
 "rasterFunctionInfos": [
  {
   "name": "aria_fpm_band4",
   "description": "A raster function template.",
   "help": ""
  },
  {
   "name": "None",
   "description": "",
   "help": ""
  }
 ],
 "rasterTypeInfos": [
  {
   "name": "Raster Dataset",
   "description": "Supports all ArcGIS Raster Datasets",
   "help": ""
  }
 ],
 "mensurationCapabilities": "Basic",
 "hasHistograms": true,
 "hasColormap": false,
 "hasRasterAttributeTable": true,
 "minScale": 0,
 "maxScale": 0,
 "exportTilesAllowed": false,
 "supportsStatistics": false,
 "supportsAdvancedQueries": false,
 "editFieldsInfo": null,
 "ownershipBasedAccessControlForRasters": null,
 "allowComputeTiePoints": false,
 "useStandardizedQueries": true,
 "advancedQueryCapabilities": {
  "useStandardizedQueries": true,
  "supportsStatistics": false,
  "supportsOrderBy": false,
  "supportsDistinct": false,
  "supportsPagination": false
 },
 "spatialReference": {
  "wkid": 4326,
  "latestWkid": 4326
 }
}
