{
 "currentVersion": 10.91,
 "serviceDescription": "Date of Imagery: \n3/4/2019 \n\nNext Potential Update: \nNone \n\nSummary: Using data from the Copernicus Sentinel-1 satellites, scientists are able to create maps of the extent of water due to significant decrease of backscattered radar signal over the flood area in Uruguay. The synthetic aperture radar (SAR) aboard Sentinel-1 allows for the detection of water on the surface when clouds are present as well as during the night time hours. The images were taken before (June 6, 2019) and after (June 18, 2019) the flooding event.\n\nSuggested Usage: \nLikely flooded areas are shown in light blue. This product should be used as guidance to identify areas that are potentially flooded and may contain false positives over agricultural areas. \n\nSatellite/Sensor: \nSynthetic Aperture Radar (SAR) from Copernicus Sentinel-1 operated by the European Space Agency (ESA); 10 meter resolution \n\nCredits: \nSentinel data used in this derived product, contains modified Copernicus Sentinel data (2019), processed by ESA and analyzed by NASA-Goddard Space Flight Center.",
 "name": "uruguay_floods_201906/sentinel1_waterextent_20190618",
 "description": "Date of Imagery: \n3/4/2019 \n\nNext Potential Update: \nNone \n\nSummary: Using data from the Copernicus Sentinel-1 satellites, scientists are able to create maps of the extent of water due to significant decrease of backscattered radar signal over the flood area in Uruguay. The synthetic aperture radar (SAR) aboard Sentinel-1 allows for the detection of water on the surface when clouds are present as well as during the night time hours. The images were taken before (June 6, 2019) and after (June 18, 2019) the flooding event.\n\nSuggested Usage: \nLikely flooded areas are shown in light blue. This product should be used as guidance to identify areas that are potentially flooded and may contain false positives over agricultural areas. \n\nSatellite/Sensor: \nSynthetic Aperture Radar (SAR) from Copernicus Sentinel-1 operated by the European Space Agency (ESA); 10 meter resolution \n\nCredits: \nSentinel data used in this derived product, contains modified Copernicus Sentinel data (2019), processed by ESA and analyzed by NASA-Goddard Space Flight Center.",
 "extent": {
  "xmin": -57.04777484232979,
  "ymin": -35.20098636567451,
  "xmax": -53.36353398178382,
  "ymax": -31.60136635438693,
  "spatialReference": {
   "wkid": 4326,
   "latestWkid": 4326
  }
 },
 "initialExtent": {
  "xmin": -57.04777484232979,
  "ymin": -35.20098636567451,
  "xmax": -53.36353398178382,
  "ymax": -31.60136635438693,
  "spatialReference": {
   "wkid": 4326,
   "latestWkid": 4326
  }
 },
 "fullExtent": {
  "xmin": -57.04777484232979,
  "ymin": -35.20098636567451,
  "xmax": -53.36353398178382,
  "ymax": -31.60136635438693,
  "spatialReference": {
   "wkid": 4326,
   "latestWkid": 4326
  }
 },
 "hasMultidimensions": false,
 "pixelSizeX": 8.983105016814107E-5,
 "pixelSizeY": 8.983105016814106E-5,
 "datasetFormat": "TIFF",
 "uncompressedSize": 1643431923,
 "blockWidth": 128,
 "blockHeight": 128,
 "compressionType": "None",
 "bandNames": [
  "Band_1"
 ],
 "allowCopy": true,
 "allowAnalysis": true,
 "bandCount": 1,
 "noDataValue": 0,
 "noDataValues": [
  0
 ],
 "pixelType": "U8",
 "minPixelSize": 0,
 "maxPixelSize": 0,
 "copyrightText": "NASA-GSFC, ESA Copernicus",
 "serviceDataType": "esriImageServiceDataTypeGeneric",
 "serviceSourceType": "esriImageServiceSourceTypeDataset",
 "minValues": [
  255
 ],
 "maxValues": [
  255
 ],
 "meanValues": [
  255
 ],
 "stdvValues": [
  0
 ],
 "objectIdField": "",
 "fields": [],
 "capabilities": "Mensuration,Image,Metadata",
 "defaultMosaicMethod": "Center",
 "allowedMosaicMethods": "",
 "sortField": "",
 "sortValue": null,
 "sortAscending": true,
 "mosaicOperator": "First",
 "defaultCompressionQuality": 75,
 "defaultResamplingMethod": "Bilinear",
 "maxImageHeight": 4100,
 "maxImageWidth": 15000,
 "allowRasterFunction": true,
 "rasterFunctionInfos": [
  {
   "name": "gsfc_water_extent_201906",
   "description": "A raster function template.",
   "help": ""
  },
  {
   "name": "None",
   "description": "",
   "help": ""
  }
 ],
 "rasterTypeInfos": [
  {
   "name": "Raster Dataset",
   "description": "Supports all ArcGIS Raster Datasets",
   "help": ""
  }
 ],
 "mensurationCapabilities": "Basic",
 "hasHistograms": true,
 "hasColormap": false,
 "hasRasterAttributeTable": true,
 "minScale": 0,
 "maxScale": 0,
 "exportTilesAllowed": false,
 "supportsStatistics": false,
 "supportsAdvancedQueries": false,
 "editFieldsInfo": null,
 "ownershipBasedAccessControlForRasters": null,
 "allowComputeTiePoints": false,
 "useStandardizedQueries": true,
 "advancedQueryCapabilities": {
  "useStandardizedQueries": true,
  "supportsStatistics": false,
  "supportsOrderBy": false,
  "supportsDistinct": false,
  "supportsPagination": false
 },
 "spatialReference": {
  "wkid": 4326,
  "latestWkid": 4326
 }
}
