{
 "currentVersion": 10.91,
 "serviceDescription": "Date Captured: \n8/24/20 \n\n\n\nSummary: 2D imagery captured by the Multi-Angle Imaging SpectroRadiometer (MISR) instrument on 8/24/20 for the California Fires. We can tell the height of a cloud or smoke plume above Earth\u2019s surface by viewing it from space at different angles. This MISR 2D imagery shows smoke plumes from the fires in California.\n\nSatellite/Sensor: \nMISR/Terra \n\nResolution: \n~1km \n\n\n\nCredits: \nThese data were captured during Terra orbit 110026. The smoke plume height calculation was performed using the MISR INteractive eXplorer (MINX) software tool, which is publicly available at https://github.com/nasa/MINX. MISR was built and is managed by NASA's Jet Propulsion Laboratory, Pasadena, California, for NASA's Science Mission Directorate, Washington, D.C. The Terra spacecraft is managed by NASA's Goddard Space Flight Center, Greenbelt, Maryland. The MISR data were obtained from the NASA Langley Research Center Atmospheric Science Data Center, Hampton, Virginia. JPL is a division of the California Institute of Technology in Pasadena.\nTerms of Use: NASA data and products are freely available to federal, state, public, non-profit and commercial users. This information can be experimental- or research-grade data products and may not be appropriate for operational use. These NASA data products, services, and the Disasters Mapping Portal are intended to aid decision makers and enhance situational awareness, but these data are not guaranteed to be consistently available or routinely updated. Use of this product should include: \"Credit: NASA/GSFC/LaRC/JPL-Caltech, MISR Team\"\n",
 "name": "ca_fires_202008/misr_2d_imagery_08242020",
 "description": "Date Captured: \n8/24/20 \n\n\n\nSummary: 2D imagery captured by the Multi-Angle Imaging SpectroRadiometer (MISR) instrument on 8/24/20 for the California Fires. We can tell the height of a cloud or smoke plume above Earth\u2019s surface by viewing it from space at different angles. This MISR 2D imagery shows smoke plumes from the fires in California.\n\nSatellite/Sensor: \nMISR/Terra \n\nResolution: \n~1km \n\n\n\nCredits: \nThese data were captured during Terra orbit 110026. The smoke plume height calculation was performed using the MISR INteractive eXplorer (MINX) software tool, which is publicly available at https://github.com/nasa/MINX. MISR was built and is managed by NASA's Jet Propulsion Laboratory, Pasadena, California, for NASA's Science Mission Directorate, Washington, D.C. The Terra spacecraft is managed by NASA's Goddard Space Flight Center, Greenbelt, Maryland. The MISR data were obtained from the NASA Langley Research Center Atmospheric Science Data Center, Hampton, Virginia. JPL is a division of the California Institute of Technology in Pasadena.\nTerms of Use: NASA data and products are freely available to federal, state, public, non-profit and commercial users. This information can be experimental- or research-grade data products and may not be appropriate for operational use. These NASA data products, services, and the Disasters Mapping Portal are intended to aid decision makers and enhance situational awareness, but these data are not guaranteed to be consistently available or routinely updated. Use of this product should include: \"Credit: NASA/GSFC/LaRC/JPL-Caltech, MISR Team\"\n",
 "extent": {
  "xmin": 156750,
  "ymin": 3980075,
  "xmax": 777700,
  "ymax": 4748700,
  "spatialReference": {
   "wkid": 32610,
   "latestWkid": 32610
  }
 },
 "initialExtent": {
  "xmin": 156750,
  "ymin": 3980075,
  "xmax": 777700,
  "ymax": 4748700,
  "spatialReference": {
   "wkid": 32610,
   "latestWkid": 32610
  }
 },
 "fullExtent": {
  "xmin": 156750,
  "ymin": 3980075,
  "xmax": 777700,
  "ymax": 4748700,
  "spatialReference": {
   "wkid": 32610,
   "latestWkid": 32610
  }
 },
 "hasMultidimensions": false,
 "pixelSizeX": 275,
 "pixelSizeY": 275,
 "datasetFormat": "TIFF",
 "uncompressedSize": 18933330,
 "blockWidth": 2258,
 "blockHeight": 1,
 "compressionType": "LZW",
 "bandNames": [
  "Band_1",
  "Band_2",
  "Band_3"
 ],
 "allowCopy": true,
 "allowAnalysis": true,
 "bandCount": 3,
 "noDataValue": 0,
 "noDataValues": [
  0,
  0,
  0
 ],
 "pixelType": "U8",
 "minPixelSize": 0,
 "maxPixelSize": 0,
 "copyrightText": "NASA/GSFC/LaRC/JPL-Caltech, MISR Team",
 "serviceDataType": "esriImageServiceDataTypeRGB",
 "serviceSourceType": "esriImageServiceSourceTypeDataset",
 "minValues": [],
 "maxValues": [],
 "meanValues": [],
 "stdvValues": [],
 "objectIdField": "",
 "fields": [],
 "capabilities": "Mensuration,Image,Metadata",
 "defaultMosaicMethod": "Center",
 "allowedMosaicMethods": "",
 "sortField": "",
 "sortValue": null,
 "sortAscending": true,
 "mosaicOperator": "First",
 "defaultCompressionQuality": 75,
 "defaultResamplingMethod": "Bilinear",
 "maxImageHeight": 4100,
 "maxImageWidth": 15000,
 "allowRasterFunction": true,
 "rasterFunctionInfos": [
  {
   "name": "None",
   "description": "",
   "help": ""
  }
 ],
 "rasterTypeInfos": [
  {
   "name": "Raster Dataset",
   "description": "Supports all ArcGIS Raster Datasets",
   "help": ""
  }
 ],
 "mensurationCapabilities": "Basic",
 "hasHistograms": false,
 "hasColormap": false,
 "hasRasterAttributeTable": false,
 "minScale": 0,
 "maxScale": 0,
 "exportTilesAllowed": false,
 "supportsStatistics": false,
 "supportsAdvancedQueries": false,
 "editFieldsInfo": null,
 "ownershipBasedAccessControlForRasters": null,
 "allowComputeTiePoints": false,
 "useStandardizedQueries": true,
 "advancedQueryCapabilities": {
  "useStandardizedQueries": true,
  "supportsStatistics": false,
  "supportsOrderBy": false,
  "supportsDistinct": false,
  "supportsPagination": false
 },
 "spatialReference": {
  "wkid": 32610,
  "latestWkid": 32610
 }
}
