{ "currentVersion": 10.91, "serviceDescription": "

Date of Images:<\/span><\/p>
3/29/2020 and 4/10/2020<\/span><\/p>
Date of Next Image:<\/span><\/p>
Unknown<\/span><\/p>
Summary:<\/span><\/p>
The Advanced Rapid Imaging and Analysis (ARIA) team at NASA's Jet Propulsion Laboratory and California Institute of Technology in Pasadena, California, in collaboration with the Earth Observatory of Singapore (EOS), created this Damage Proxy Map (DPM) depicting areas that are likely damaged caused by Cyclone Harold. The map was derived from synthetic aperture radar (SAR) images from the Copernicus Sentinel-1 satellites, operated by the European Space Agency (ESA). The team compared the post-event images acquired on March 29, 2020 and April 10, 2020 with pre-event images taken since September 2019. Analysed by the ARIA-SG team at the Earth Observatory of Singapore (EOS) in collaboration with NASA-JPL and Caltech. Data processing used an AWS Open Dataset of Copernicus Sentinel-1 data for the Asia region (<\/span>https://registry.opendata.aws/sentinel1-slc-seasia-pds<\/span><\/a>). The color variation from yellow to red indicates increasingly more significant surface change.<\/span><\/p>
This damage proxy map should be used as guidance to identify damaged areas, and may be less reliable over vegetated areas. For example, the scattered colored pixels over vegetated areas may be false positives, and the lack of colored pixels over vegetated areas does not necessarily mean no damage. This map is most sensitive to building damage, but small scale change or partial structural damage may not be detected by this map.<\/span><\/p>
Suggested Use:<\/span><\/p>
This damage proxy map shows surface change with yellow to red indiciating more significant change or building damage due to the cyclone. The damage proxy map should be used as guidance to identify damaged areas and may be less reliable over vegetated areas. The lack of colored pixels over vegeated areas does not necessarily mean no damage. Small scale change or partial structural damage may not be detected by this map.<\/span><\/p>
Satellite/Sensor:<\/span><\/p>
Copernicus Sentinel-1 Synthetic Aperture Radar (SAR)<\/span><\/p>
Resolution:<\/span><\/p>
30 meters<\/span><\/p>
Credits:<\/span><\/p>
The image contains modified Copernicus Sentinel data (2020), analyzed by the ARIA-SG team at the Earth Observatory of Singapore (EOS) in collaboration with NASA-JPL/Caltech ARIA team. Data processing used an AWS Open Dataset of Copernicus Sentinel-1 data for the Asia region (<\/span>https://registry.opendata.aws/sentinel1-slc-seasia-pds<\/span><\/a>).<\/span><\/p>
ESRI REST Endpoint:<\/span><\/p>
See URL section on right side of the page<\/span><\/p><\/div><\/div><\/div>", "name": "cyclone_harold_2020/aria_dpm_vanuatu_20200410", "description": "

Date of Images:<\/span><\/p>
3/29/2020 and 4/10/2020<\/span><\/p>
Date of Next Image:<\/span><\/p>
Unknown<\/span><\/p>
Summary:<\/span><\/p>
The Advanced Rapid Imaging and Analysis (ARIA) team at NASA's Jet Propulsion Laboratory and California Institute of Technology in Pasadena, California, in collaboration with the Earth Observatory of Singapore (EOS), created this Damage Proxy Map (DPM) depicting areas that are likely damaged caused by Cyclone Harold. The map was derived from synthetic aperture radar (SAR) images from the Copernicus Sentinel-1 satellites, operated by the European Space Agency (ESA). The team compared the post-event images acquired on March 29, 2020 and April 10, 2020 with pre-event images taken since September 2019. Analysed by the ARIA-SG team at the Earth Observatory of Singapore (EOS) in collaboration with NASA-JPL and Caltech. Data processing used an AWS Open Dataset of Copernicus Sentinel-1 data for the Asia region (<\/span>https://registry.opendata.aws/sentinel1-slc-seasia-pds<\/span><\/a>). The color variation from yellow to red indicates increasingly more significant surface change.<\/span><\/p>
This damage proxy map should be used as guidance to identify damaged areas, and may be less reliable over vegetated areas. For example, the scattered colored pixels over vegetated areas may be false positives, and the lack of colored pixels over vegetated areas does not necessarily mean no damage. This map is most sensitive to building damage, but small scale change or partial structural damage may not be detected by this map.<\/span><\/p>
Suggested Use:<\/span><\/p>
This damage proxy map shows surface change with yellow to red indiciating more significant change or building damage due to the cyclone. The damage proxy map should be used as guidance to identify damaged areas and may be less reliable over vegetated areas. The lack of colored pixels over vegeated areas does not necessarily mean no damage. Small scale change or partial structural damage may not be detected by this map.<\/span><\/p>
Satellite/Sensor:<\/span><\/p>
Copernicus Sentinel-1 Synthetic Aperture Radar (SAR)<\/span><\/p>
Resolution:<\/span><\/p>
30 meters<\/span><\/p>
Credits:<\/span><\/p>
The image contains modified Copernicus Sentinel data (2020), analyzed by the ARIA-SG team at the Earth Observatory of Singapore (EOS) in collaboration with NASA-JPL/Caltech ARIA team. Data processing used an AWS Open Dataset of Copernicus Sentinel-1 data for the Asia region (<\/span>https://registry.opendata.aws/sentinel1-slc-seasia-pds<\/span><\/a>).<\/span><\/p>
ESRI REST Endpoint:<\/span><\/p>
See URL section on right side of the page<\/span><\/p><\/div><\/div><\/div>", "extent": { "xmin": 166.3430589137103, "ymin": -17.687534683478205, "xmax": 169.47417002482138, "ymax": -13.935034683478259, "spatialReference": { "wkid": 4326, "latestWkid": 4326 } }, "initialExtent": { "xmin": 166.3430589137103, "ymin": -17.687534683478205, "xmax": 169.47417002482138, "ymax": -13.935034683478259, "spatialReference": { "wkid": 4326, "latestWkid": 4326 } }, "fullExtent": { "xmin": 166.3430589137103, "ymin": -17.687534683478205, "xmax": 169.47417002482138, "ymax": -13.935034683478259, "spatialReference": { "wkid": 4326, "latestWkid": 4326 } }, "hasMultidimensions": false, "pixelSizeX": 2.7777777777777393E-4, "pixelSizeY": 2.777777777777738E-4, "datasetFormat": "TIFF", "uncompressedSize": 456786528, "blockWidth": 11272, "blockHeight": 1, "compressionType": "None", "bandNames": [ "Band_1" ], "allowCopy": true, "allowAnalysis": true, "bandCount": 3, "noDataValue": 256, "noDataValues": [ 256, 256, 256 ], "pixelType": "U8", "minPixelSize": 0, "maxPixelSize": 0, "copyrightText": "ARIA-SG, Earth Observatory of Singapore, NASA-JPL/Caltech ARIA team, ESA", "serviceDataType": "esriImageServiceDataTypeThematic", "serviceSourceType": "esriImageServiceSourceTypeDataset", "minValues": [], "maxValues": [], "meanValues": [], "stdvValues": [], "objectIdField": "", "fields": [], "capabilities": "Mensuration,Image,Metadata", "defaultMosaicMethod": "Center", "allowedMosaicMethods": "", "sortField": "", "sortValue": null, "sortAscending": true, "mosaicOperator": "First", "defaultCompressionQuality": 75, "defaultResamplingMethod": "Nearest", "maxImageHeight": 4100, "maxImageWidth": 15000, "allowRasterFunction": true, "rasterFunctionInfos": [ { "name": "RGB Composite", "description": "A raster function template.", "help": "" }, { "name": "None", "description": "", "help": "" } ], "rasterTypeInfos": [ { "name": "Raster Dataset", "description": "Supports all ArcGIS Raster Datasets", "help": "" } ], "mensurationCapabilities": "Basic", "hasHistograms": false, "hasColormap": false, "hasRasterAttributeTable": false, "minScale": 0, "maxScale": 0, "exportTilesAllowed": false, "supportsStatistics": false, "supportsAdvancedQueries": false, "editFieldsInfo": null, "ownershipBasedAccessControlForRasters": null, "allowComputeTiePoints": false, "useStandardizedQueries": true, "advancedQueryCapabilities": { "useStandardizedQueries": true, "supportsStatistics": false, "supportsOrderBy": false, "supportsDistinct": false, "supportsPagination": false }, "spatialReference": { "wkid": 4326, "latestWkid": 4326 } }