{
 "currentVersion": 10.91,
 "serviceDescription": "Summary:\n\nThe Advanced Rapid Imaging and Analysis (ARIA) team at NASA's Jet Propulsion Laboratory and California Institute of Technology in Pasadena, California, in collaboration with the Earth Observatory of Singapore (EOS), created this Flood Proxy Map (FPM). Derived from synthetic aperture radar data acquired by the Copernicus Sentinel-1 satellites operated by the European Space Agency (ESA) from October 3rd, 2018 up through April 9th, 2020, after the event. This map should be used as a guidance to identify areas that are likely flooded, and may be less reliable over urban and vegetated areas. Analysed by the ARIA-SG team at the Earth Observatory of Singapore (EOS) in collaboration with NASA-JPL and Caltech. Data processing used an AWS Open Dataset of Copernicus Sentinel-1 data for the Asia region (https://registry.opendata.aws/sentinel1-slc-seasia-pds). \n\nSuggested Use:\n\nLikely flooded areas are shown as blue. This FPM should be used as guidance to identify flooded areas, and may be less reliable over vegetated areas and flooded areas.\n\nSatellite/Sensor:\n\nSynthetic Aperture Radar (SAR) from Copernicus Sentinel-1 operated by the European Space Agency (ESA);\n\n30 meter resolution\n\nCredits:\n\nThe image contains modified Copernicus Sentinel data (2020), analyzed by the ARIA-SG team at the Earth Observatory of Singapore (EOS) in collaboration with NASA-JPL/Caltech ARIA team. Data processing used an AWS Open Dataset of Copernicus Sentinel-1 data for the Asia region (https://registry.opendata.aws/sentinel1-slc-seasia-pds).\n\n \nEsri REST Endpoint:\n\n See URL section on right side of page.\n\n\nWMS Endpoint:",
 "name": "cyclone_harold_2020/aria_fpm_fiji_20200409",
 "description": "Summary:\n\nThe Advanced Rapid Imaging and Analysis (ARIA) team at NASA's Jet Propulsion Laboratory and California Institute of Technology in Pasadena, California, in collaboration with the Earth Observatory of Singapore (EOS), created this Flood Proxy Map (FPM). Derived from synthetic aperture radar data acquired by the Copernicus Sentinel-1 satellites operated by the European Space Agency (ESA) from October 3rd, 2018 up through April 9th, 2020, after the event. This map should be used as a guidance to identify areas that are likely flooded, and may be less reliable over urban and vegetated areas. Analysed by the ARIA-SG team at the Earth Observatory of Singapore (EOS) in collaboration with NASA-JPL and Caltech. Data processing used an AWS Open Dataset of Copernicus Sentinel-1 data for the Asia region (https://registry.opendata.aws/sentinel1-slc-seasia-pds). \n\nSuggested Use:\n\nLikely flooded areas are shown as blue. This FPM should be used as guidance to identify flooded areas, and may be less reliable over vegetated areas and flooded areas.\n\nSatellite/Sensor:\n\nSynthetic Aperture Radar (SAR) from Copernicus Sentinel-1 operated by the European Space Agency (ESA);\n\n30 meter resolution\n\nCredits:\n\nThe image contains modified Copernicus Sentinel data (2020), analyzed by the ARIA-SG team at the Earth Observatory of Singapore (EOS) in collaboration with NASA-JPL/Caltech ARIA team. Data processing used an AWS Open Dataset of Copernicus Sentinel-1 data for the Asia region (https://registry.opendata.aws/sentinel1-slc-seasia-pds).\n\n \nEsri REST Endpoint:\n\n See URL section on right side of page.\n\n\nWMS Endpoint:",
 "extent": {
  "xmin": 177.40375,
  "ymin": -17.909861111111113,
  "xmax": 177.94986111111112,
  "ymax": -17.399583333333336,
  "spatialReference": {
   "wkid": 4326,
   "latestWkid": 4326
  }
 },
 "initialExtent": {
  "xmin": 177.40375,
  "ymin": -17.909861111111113,
  "xmax": 177.94986111111112,
  "ymax": -17.399583333333336,
  "spatialReference": {
   "wkid": 4326,
   "latestWkid": 4326
  }
 },
 "fullExtent": {
  "xmin": 177.40375,
  "ymin": -17.909861111111113,
  "xmax": 177.94986111111112,
  "ymax": -17.399583333333336,
  "spatialReference": {
   "wkid": 4326,
   "latestWkid": 4326
  }
 },
 "hasMultidimensions": false,
 "pixelSizeX": 2.7777777777778054E-4,
 "pixelSizeY": 2.777777777777772E-4,
 "datasetFormat": "TIFF",
 "uncompressedSize": 451443,
 "blockWidth": 1966,
 "blockHeight": 33,
 "compressionType": "PACKBITS",
 "bandNames": [
  "Band_1"
 ],
 "allowCopy": true,
 "allowAnalysis": true,
 "bandCount": 1,
 "noDataValue": 0,
 "noDataValues": [
  0
 ],
 "pixelType": "U1",
 "minPixelSize": 0,
 "maxPixelSize": 0,
 "copyrightText": "ARIA-SG, Earth Observatory of Singapore, NASA-JPL/Caltech ARIA team, ESA",
 "serviceDataType": "esriImageServiceDataTypeThematic",
 "serviceSourceType": "esriImageServiceSourceTypeDataset",
 "minValues": [],
 "maxValues": [],
 "meanValues": [],
 "stdvValues": [],
 "objectIdField": "",
 "fields": [],
 "capabilities": "Mensuration,Image,Metadata",
 "defaultMosaicMethod": "Center",
 "allowedMosaicMethods": "",
 "sortField": "",
 "sortValue": null,
 "sortAscending": true,
 "mosaicOperator": "First",
 "defaultCompressionQuality": 75,
 "defaultResamplingMethod": "Bilinear",
 "maxImageHeight": 4100,
 "maxImageWidth": 15000,
 "allowRasterFunction": true,
 "rasterFunctionInfos": [
  {
   "name": "aria_fpm_colormap",
   "description": "A raster function template.",
   "help": ""
  },
  {
   "name": "None",
   "description": "",
   "help": ""
  }
 ],
 "rasterTypeInfos": [
  {
   "name": "Raster Dataset",
   "description": "Supports all ArcGIS Raster Datasets",
   "help": ""
  }
 ],
 "mensurationCapabilities": "Basic",
 "hasHistograms": false,
 "hasColormap": false,
 "hasRasterAttributeTable": false,
 "minScale": 0,
 "maxScale": 0,
 "exportTilesAllowed": false,
 "supportsStatistics": false,
 "supportsAdvancedQueries": false,
 "editFieldsInfo": null,
 "ownershipBasedAccessControlForRasters": null,
 "allowComputeTiePoints": false,
 "useStandardizedQueries": true,
 "advancedQueryCapabilities": {
  "useStandardizedQueries": true,
  "supportsStatistics": false,
  "supportsOrderBy": false,
  "supportsDistinct": false,
  "supportsPagination": false
 },
 "spatialReference": {
  "wkid": 4326,
  "latestWkid": 4326
 }
}