{ "currentVersion": 10.91, "serviceDescription": "

Date of Image:<\/span><\/p>
8/15/2021<\/span><\/p>
Date of Next Image:<\/span><\/p>
Unknown<\/span><\/p>
Summary:<\/span><\/p>
Scientists with the Advanced Rapid Imaging and Analysis project (ARIA), a collaboration between NASA's Jet Propulsion Laboratory, Pasadena, California, and the California Institute of Technology in Pasadena, analyzed interferometric synthetic aperture radar (SAR) images from the radar instrument on the Copernicus Sentinel-1A satellite operated by the European Space Agency (ESA) to calculate a map of the deformation of Earth's surface caused by the quake. This false-color map shows the amount of permanent surface movement caused almost entirely by the earthquake, as viewed by the satellite, during a 12-day interval between radar images acquired by the Sentinel-1A satellite on August 3 and August 15, 2021. <\/span><\/p>
In this map, the colors of the surface displacements are proportional to the surface motion. The blue tones show the areas that have moved toward the satellite by as much as 16 inches (40 centimeters) in a combination of up and eastward motion. The blue area that moved towards the satellite is close to the epicenter and likely indicates there was large slip on the fault beneath this area. The area to the west with various shades of red moved away from the satellite, mostly downward or westward, by as much as 8 inches (20 cm). The two areas of significant ground movement (darker red and blue) are both west of the epicenter and indicate the fault rupture proceeded westward from its starting point. Areas with gray are open water or heavy vegetation that prevents the radar measurements from measuring change between satellite images. Scientists use these maps to build detailed models of the fault slip at depth and associated land movements to better understand the impact on future earthquake activity. <\/span><\/p>
Suggested Use:<\/span><\/p>
In this map, the colors of the surface displacements are proportional to the surface motion. The blue tones show the areas that have moved toward the satellite by as much as 16 inches (40 centimeters) in a combination of up and eastward motion. The blue area that moved towards the satellite is close to the epicenter and likely indicates there was large slip on the fault beneath this area. The area to the west with various shades of red moved away from the satellite, mostly downward or westward, by as much as 8 inches (20 cm). <\/span><\/p>
Satellite/Sensor:<\/span><\/p>
Copernicus Sentinel-1 Synthetic Aperture Radar (SAR)<\/span><\/p>
Resolution:<\/span><\/p>
30 meters<\/span><\/p>
Credits: <\/span><\/p>
The Sentinel-1 data were provided by ESA. Contains modified Copernicus data 2021, processed by ESA and NASA/JPL. The NISAR (NASA-ISRO SAR) mission under development will acquire data similar to this wide-swath Sentinel-1 data when it is launched.<\/span><\/p>
Esri REST Endpoint:<\/b><\/span><\/p>
See URL section on right side of page<\/span><\/p>
WMS Endpoint:<\/b><\/span><\/p>
https://maps.disasters.nasa.gov/ags04/services/haiti_earthquake_202108/aria_displacement_sentinel1_20210815/ImageServer/WMSServer<\/a>
<\/span><\/p>
Data Download:<\/b><\/span><\/p>
https://aria-share.jpl.nasa.gov/20210814-Hait_EQ/Displacements/<\/span><\/a><\/p><\/div><\/div><\/div>", "name": "haiti_earthquake_202108/aria_displacement_sentinel1_20210815", "description": "

Date of Image:<\/span><\/p>
8/15/2021<\/span><\/p>
Date of Next Image:<\/span><\/p>
Unknown<\/span><\/p>
Summary:<\/span><\/p>
Scientists with the Advanced Rapid Imaging and Analysis project (ARIA), a collaboration between NASA's Jet Propulsion Laboratory, Pasadena, California, and the California Institute of Technology in Pasadena, analyzed interferometric synthetic aperture radar (SAR) images from the radar instrument on the Copernicus Sentinel-1A satellite operated by the European Space Agency (ESA) to calculate a map of the deformation of Earth's surface caused by the quake. This false-color map shows the amount of permanent surface movement caused almost entirely by the earthquake, as viewed by the satellite, during a 12-day interval between radar images acquired by the Sentinel-1A satellite on August 3 and August 15, 2021. <\/span><\/p>
In this map, the colors of the surface displacements are proportional to the surface motion. The blue tones show the areas that have moved toward the satellite by as much as 16 inches (40 centimeters) in a combination of up and eastward motion. The blue area that moved towards the satellite is close to the epicenter and likely indicates there was large slip on the fault beneath this area. The area to the west with various shades of red moved away from the satellite, mostly downward or westward, by as much as 8 inches (20 cm). The two areas of significant ground movement (darker red and blue) are both west of the epicenter and indicate the fault rupture proceeded westward from its starting point. Areas with gray are open water or heavy vegetation that prevents the radar measurements from measuring change between satellite images. Scientists use these maps to build detailed models of the fault slip at depth and associated land movements to better understand the impact on future earthquake activity. <\/span><\/p>
Suggested Use:<\/span><\/p>
In this map, the colors of the surface displacements are proportional to the surface motion. The blue tones show the areas that have moved toward the satellite by as much as 16 inches (40 centimeters) in a combination of up and eastward motion. The blue area that moved towards the satellite is close to the epicenter and likely indicates there was large slip on the fault beneath this area. The area to the west with various shades of red moved away from the satellite, mostly downward or westward, by as much as 8 inches (20 cm). <\/span><\/p>
Satellite/Sensor:<\/span><\/p>
Copernicus Sentinel-1 Synthetic Aperture Radar (SAR)<\/span><\/p>
Resolution:<\/span><\/p>
30 meters<\/span><\/p>
Credits: <\/span><\/p>
The Sentinel-1 data were provided by ESA. Contains modified Copernicus data 2021, processed by ESA and NASA/JPL. The NISAR (NASA-ISRO SAR) mission under development will acquire data similar to this wide-swath Sentinel-1 data when it is launched.<\/span><\/p>
Esri REST Endpoint:<\/b><\/span><\/p>
See URL section on right side of page<\/span><\/p>
WMS Endpoint:<\/b><\/span><\/p>
https://maps.disasters.nasa.gov/ags04/services/haiti_earthquake_202108/aria_displacement_sentinel1_20210815/ImageServer/WMSServer<\/a>
<\/span><\/p>
Data Download:<\/b><\/span><\/p>
https://aria-share.jpl.nasa.gov/20210814-Hait_EQ/Displacements/<\/span><\/a><\/p><\/div><\/div><\/div>", "extent": { "xmin": -75.00138888888888, "ymin": 17.809444444444445, "xmax": -72.27638888888889, "ymax": 19.65444444444444, "spatialReference": { "wkid": 4326, "latestWkid": 4326 } }, "initialExtent": { "xmin": -75.00138888888888, "ymin": 17.809444444444445, "xmax": -72.27638888888889, "ymax": 19.65444444444444, "spatialReference": { "wkid": 4326, "latestWkid": 4326 } }, "fullExtent": { "xmin": -75.00138888888888, "ymin": 17.809444444444445, "xmax": -72.27638888888889, "ymax": 19.65444444444444, "spatialReference": { "wkid": 4326, "latestWkid": 4326 } }, "hasMultidimensions": false, "pixelSizeX": 8.333333333333315E-4, "pixelSizeY": 8.333333333333312E-4, "datasetFormat": "TIFF", "uncompressedSize": 28959120, "blockWidth": 3270, "blockHeight": 1, "compressionType": "None", "bandNames": [ "Band_1" ], "allowCopy": true, "allowAnalysis": true, "bandCount": 1, "noDataValue": "NaN", "noDataValues": [ "NaN" ], "pixelType": "F32", "minPixelSize": 0, "maxPixelSize": 0, "copyrightText": "NASA-JPL/Caltech ARIA Team, ESA, Copernicus", "serviceDataType": "esriImageServiceDataTypeGeneric", "serviceSourceType": "esriImageServiceSourceTypeDataset", "minValues": [ -0.14847721159458 ], "maxValues": [ 0.46566206216812 ], "meanValues": [ 0.027153858349936 ], "stdvValues": [ 0.053638381932884 ], "objectIdField": "", "fields": [], "capabilities": "Mensuration,Image,Metadata", "defaultMosaicMethod": "Center", "allowedMosaicMethods": "", "sortField": "", "sortValue": null, "sortAscending": true, "mosaicOperator": "First", "defaultCompressionQuality": 75, "defaultResamplingMethod": "Bilinear", "maxImageHeight": 4100, "maxImageWidth": 15000, "allowRasterFunction": true, "rasterFunctionInfos": [ { "name": "aria_displacement_haiti_eq_20210815", "description": "A raster function template.", "help": "" }, { "name": "None", "description": "", "help": "" } ], "rasterTypeInfos": [ { "name": "Raster Dataset", "description": "Supports all ArcGIS Raster Datasets", "help": "" } ], "mensurationCapabilities": "Basic", "hasHistograms": true, "hasColormap": false, "hasRasterAttributeTable": false, "minScale": 0, "maxScale": 0, "exportTilesAllowed": false, "supportsStatistics": false, "supportsAdvancedQueries": false, "editFieldsInfo": null, "ownershipBasedAccessControlForRasters": null, "allowComputeTiePoints": false, "useStandardizedQueries": true, "advancedQueryCapabilities": { "useStandardizedQueries": true, "supportsStatistics": false, "supportsOrderBy": false, "supportsDistinct": false, "supportsPagination": false }, "spatialReference": { "wkid": 4326, "latestWkid": 4326 } }