{ "currentVersion": 10.91, "serviceDescription": "

For Version 1 of the 8/15/2021 DPM: <\/span>https://maps.disasters.nasa.gov/arcgis/home/item.html?id=cb0386417ce84a04bc0d132bb560f740<\/span><\/a><\/p>
NOTE: <\/span>There are likely significant numbers of false positives in the mountainous and vegetated areas as well as mapped landslides. This map is most sensitive to building damage and liquefaction, but small scale change or partial structural damage may not be detected.<\/span><\/p>
Summary:<\/span><\/p>
The Advanced Rapid Imaging and Analysis (ARIA) team at NASA's Jet Propulsion Laboratory and California Institute of Technology in Southern California, in collaboration with the Earth Observatory of Singapore (EOS), created this Damage Proxy Map (DPM) depicting areas that are likely damaged by the Mw7.2 earthquake (Aug 14, 2021, local time) in west Haiti. The map was derived from synthetic aperture radar (SAR) images on Aug 15, 2021 by the Copernicus Sentinel-1 satellites operated by the European Space Agency (ESA). The pre-event images were taken before (Aug 03, 2021 and July 22, 2021) the earthquake. <\/span><\/p>
The image covers an area of 96 by 250 kilometers (60 by 155 miles). Each pixel measures about 30 meters across. The color variation from yellow to red indicates increasingly more significant surface change. Preliminary validation was done by comparing with the Media reports. <\/span><\/p>
Suggested Use:<\/span><\/p>
The color variation from yellow to red indicates increasingly more significant surface change. Preliminary validation was done by comparing with the Media reports. <\/span><\/p>
This damage proxy map should be used as guidance to identify damaged areas, and may be less reliable over vegetated areas. For example, the scattered colored pixels over vegetated areas may be false positives, and the lack of colored pixels over vegetated areas does not necessarily mean no damage. This map is most sensitive to building damage, but small scale change or partial structural damage may not be detected by this map. Other strong land changes such as landslides, liquefaction or flooding in areas with no buildings can also show a positive signal on the damage proxy map.<\/span><\/p>
NOTE: This DPM should only be used over urban areas and is not expected to be reliable over vegetated areas where false negatives are to be expected. There are likely significant numbers of false positives in the mountainous and vegetated areas as well as mapped landslides. This map is most sensitive to building damage and liquefaction, but small scale change or partial structural damage may not be detected.<\/span><\/p>
Satellite/Sensor:<\/span><\/p>
Copernicus Sentinel-1 Synthetic Aperture Radar (SAR)<\/span><\/p>
Resolution:<\/span><\/p>
30 meters<\/span><\/p>
Credits:<\/span><\/p>
Sentinel-1 data were accessed through the Copernicus Open Hub and the Alaska Satellite Facility server. The product contains modified Copernicus Sentinel data (2021), processed by ESA and analyzed by the NASA-JPL/Caltech ARIA team and EOS team. Part of the funding was provided by NASA's Earth Science Disasters Program.<\/span><\/p>
For more information about ARIA, visit: <\/span>http://aria.jpl.nasa.gov<\/span><\/a><\/p>
For more information about EOS, visit: <\/span>http://earthobservatory.sg<\/span><\/a><\/p>
Esri REST Endpoint:<\/span><\/p>
See URL section on right side of page<\/span><\/p>
WMS Endpoint:<\/span><\/p>
Data Download:<\/span><\/p>
https://aria-share.jpl.nasa.gov/20210814-Haiti_EQ/DPM/<\/span><\/a><\/p><\/div><\/div><\/div>", "name": "haiti_earthquake_202108/aria_dpm_sentinel1_v2_20210815", "description": "

For Version 1 of the 8/15/2021 DPM: <\/span>https://maps.disasters.nasa.gov/arcgis/home/item.html?id=cb0386417ce84a04bc0d132bb560f740<\/span><\/a><\/p>
NOTE: <\/span>There are likely significant numbers of false positives in the mountainous and vegetated areas as well as mapped landslides. This map is most sensitive to building damage and liquefaction, but small scale change or partial structural damage may not be detected.<\/span><\/p>
Summary:<\/span><\/p>
The Advanced Rapid Imaging and Analysis (ARIA) team at NASA's Jet Propulsion Laboratory and California Institute of Technology in Southern California, in collaboration with the Earth Observatory of Singapore (EOS), created this Damage Proxy Map (DPM) depicting areas that are likely damaged by the Mw7.2 earthquake (Aug 14, 2021, local time) in west Haiti. The map was derived from synthetic aperture radar (SAR) images on Aug 15, 2021 by the Copernicus Sentinel-1 satellites operated by the European Space Agency (ESA). The pre-event images were taken before (Aug 03, 2021 and July 22, 2021) the earthquake. <\/span><\/p>
The image covers an area of 96 by 250 kilometers (60 by 155 miles). Each pixel measures about 30 meters across. The color variation from yellow to red indicates increasingly more significant surface change. Preliminary validation was done by comparing with the Media reports. <\/span><\/p>
Suggested Use:<\/span><\/p>
The color variation from yellow to red indicates increasingly more significant surface change. Preliminary validation was done by comparing with the Media reports. <\/span><\/p>
This damage proxy map should be used as guidance to identify damaged areas, and may be less reliable over vegetated areas. For example, the scattered colored pixels over vegetated areas may be false positives, and the lack of colored pixels over vegetated areas does not necessarily mean no damage. This map is most sensitive to building damage, but small scale change or partial structural damage may not be detected by this map. Other strong land changes such as landslides, liquefaction or flooding in areas with no buildings can also show a positive signal on the damage proxy map.<\/span><\/p>
NOTE: This DPM should only be used over urban areas and is not expected to be reliable over vegetated areas where false negatives are to be expected. There are likely significant numbers of false positives in the mountainous and vegetated areas as well as mapped landslides. This map is most sensitive to building damage and liquefaction, but small scale change or partial structural damage may not be detected.<\/span><\/p>
Satellite/Sensor:<\/span><\/p>
Copernicus Sentinel-1 Synthetic Aperture Radar (SAR)<\/span><\/p>
Resolution:<\/span><\/p>
30 meters<\/span><\/p>
Credits:<\/span><\/p>
Sentinel-1 data were accessed through the Copernicus Open Hub and the Alaska Satellite Facility server. The product contains modified Copernicus Sentinel data (2021), processed by ESA and analyzed by the NASA-JPL/Caltech ARIA team and EOS team. Part of the funding was provided by NASA's Earth Science Disasters Program.<\/span><\/p>
For more information about ARIA, visit: <\/span>http://aria.jpl.nasa.gov<\/span><\/a><\/p>
For more information about EOS, visit: <\/span>http://earthobservatory.sg<\/span><\/a><\/p>
Esri REST Endpoint:<\/span><\/p>
See URL section on right side of page<\/span><\/p>
WMS Endpoint:<\/span><\/p>
Data Download:<\/span><\/p>
https://aria-share.jpl.nasa.gov/20210814-Haiti_EQ/DPM/<\/span><\/a><\/p><\/div><\/div><\/div>", "extent": { "xmin": -74.9213834, "ymin": 17.81158503398398, "xmax": -72.38832320011181, "ymax": 18.9736934, "spatialReference": { "wkid": 4326, "latestWkid": 4326 } }, "initialExtent": { "xmin": -74.9213834, "ymin": 17.81158503398398, "xmax": -72.38832320011181, "ymax": 18.9736934, "spatialReference": { "wkid": 4326, "latestWkid": 4326 } }, "fullExtent": { "xmin": -74.9213834, "ymin": 17.81158503398398, "xmax": -72.38832320011181, "ymax": 18.9736934, "spatialReference": { "wkid": 4326, "latestWkid": 4326 } }, "hasMultidimensions": false, "pixelSizeX": 1.3885868873414006E-4, "pixelSizeY": 1.3885868873413998E-4, "datasetFormat": "TIFF", "uncompressedSize": 610669192, "blockWidth": 18242, "blockHeight": 1, "compressionType": "None", "bandNames": [ "Band_1", "Band_2", "Band_3", "Band_4" ], "allowCopy": true, "allowAnalysis": true, "bandCount": 4, "pixelType": "U8", "minPixelSize": 0, "maxPixelSize": 0, "copyrightText": "NASA-JPL/Caltech ARIA team and EOS team, Copernicus, ESA", "serviceDataType": "esriImageServiceDataTypeGeneric", "serviceSourceType": "esriImageServiceSourceTypeDataset", "minValues": [], "maxValues": [], "meanValues": [], "stdvValues": [], "objectIdField": "", "fields": [], "capabilities": "Mensuration,Image,Metadata", "defaultMosaicMethod": "Center", "allowedMosaicMethods": "", "sortField": "", "sortValue": null, "sortAscending": true, "mosaicOperator": "First", "defaultCompressionQuality": 75, "defaultResamplingMethod": "Nearest", "maxImageHeight": 4100, "maxImageWidth": 15000, "allowRasterFunction": true, "rasterFunctionInfos": [ { "name": "RGB Composite", "description": "A raster function template.", "help": "" }, { "name": "None", "description": "", "help": "" } ], "rasterTypeInfos": [ { "name": "Raster Dataset", "description": "Supports all ArcGIS Raster Datasets", "help": "" } ], "mensurationCapabilities": "Basic", "hasHistograms": false, "hasColormap": false, "hasRasterAttributeTable": false, "minScale": 0, "maxScale": 0, "exportTilesAllowed": false, "supportsStatistics": false, "supportsAdvancedQueries": false, "editFieldsInfo": null, "ownershipBasedAccessControlForRasters": null, "allowComputeTiePoints": false, "useStandardizedQueries": true, "advancedQueryCapabilities": { "useStandardizedQueries": true, "supportsStatistics": false, "supportsOrderBy": false, "supportsDistinct": false, "supportsPagination": false }, "spatialReference": { "wkid": 4326, "latestWkid": 4326 } }