{ "currentVersion": 10.91, "serviceDescription": "

Date of Image:<\/span><\/p>
8/13/2023<\/span><\/p>
Date of Next Image:<\/span><\/p>
Unknown<\/span><\/p>
Summary:<\/span><\/p>
The Advanced Rapid Imaging and Analysis (ARIA) team at NASA's Jet Propulsion Laboratory and California Institute of Technology created the Damage Proxy Map (DPM1) depicting areas that are likely damaged in Hawaii in the U.S. due to Wildfire in early August 2023. The detail on the PNG image shows the extreme devastation of Lahaina, Maui. This map was derived from synthetic aperture radar (SAR) images acquired by the ALOS 2 satellites operated by the Japan Aerospace Exploration Agency (JAXA) in July 17 2022, June 18 2023, and August 13 2023.<\/span><\/p>
Suggested Use:<\/span><\/p>
The color variation from pale yellow to red indicates increasingly more significant surface change (drop in radar reflections). Preliminary validation was done by comparing with the Media reports and other images. <\/span><\/p>
This damage proxy map should be used as guidance to identify damaged areas or areas affected by flood and may be less reliable over vegetated areas. For example, the scattered colored pixels over vegetated areas may be false positives, and the lack of colored pixels over vegetated areas does not necessarily mean no damage. <\/span><\/p>
Satellite/Sensor:<\/span><\/p>
Japan Aerospace Exploration Agency (JAXA) ALOS-2 <\/span><\/p>
Resolution:<\/span><\/p>
30 meters<\/span><\/p>
Credits:<\/span><\/p>
The product contains modified ALOS-2 data (2022-2023), processed by JAXA and analyzed by the NASA-JPL/Caltech ARIA team. NASA's Earth Applied Sciences Disasters Program provided part of the funding.<\/span><\/p>
Esri REST Endpoint:<\/span><\/p>
See URL section on right side of page<\/span><\/p>
WMS Endpoint:<\/span><\/p>
https://maps.disasters.nasa.gov/ags04/services/hawaii_wildfires_august2023/aria_dpm_alos2_20230813/ImageServer/WMSServer<\/a>
<\/span><\/p>
Data Download:<\/span><\/p>
https://aria-share.jpl.nasa.gov/20230808-Wildfire-Maui_Hawaii/DPM/<\/span><\/a><\/p><\/div><\/div><\/div>", "name": "hawaii_wildfires_august2023/aria_dpm_alos2_20230813", "description": "

Date of Image:<\/span><\/p>
8/13/2023<\/span><\/p>
Date of Next Image:<\/span><\/p>
Unknown<\/span><\/p>
Summary:<\/span><\/p>
The Advanced Rapid Imaging and Analysis (ARIA) team at NASA's Jet Propulsion Laboratory and California Institute of Technology created the Damage Proxy Map (DPM1) depicting areas that are likely damaged in Hawaii in the U.S. due to Wildfire in early August 2023. The detail on the PNG image shows the extreme devastation of Lahaina, Maui. This map was derived from synthetic aperture radar (SAR) images acquired by the ALOS 2 satellites operated by the Japan Aerospace Exploration Agency (JAXA) in July 17 2022, June 18 2023, and August 13 2023.<\/span><\/p>
Suggested Use:<\/span><\/p>
The color variation from pale yellow to red indicates increasingly more significant surface change (drop in radar reflections). Preliminary validation was done by comparing with the Media reports and other images. <\/span><\/p>
This damage proxy map should be used as guidance to identify damaged areas or areas affected by flood and may be less reliable over vegetated areas. For example, the scattered colored pixels over vegetated areas may be false positives, and the lack of colored pixels over vegetated areas does not necessarily mean no damage. <\/span><\/p>
Satellite/Sensor:<\/span><\/p>
Japan Aerospace Exploration Agency (JAXA) ALOS-2 <\/span><\/p>
Resolution:<\/span><\/p>
30 meters<\/span><\/p>
Credits:<\/span><\/p>
The product contains modified ALOS-2 data (2022-2023), processed by JAXA and analyzed by the NASA-JPL/Caltech ARIA team. NASA's Earth Applied Sciences Disasters Program provided part of the funding.<\/span><\/p>
Esri REST Endpoint:<\/span><\/p>
See URL section on right side of page<\/span><\/p>
WMS Endpoint:<\/span><\/p>
https://maps.disasters.nasa.gov/ags04/services/hawaii_wildfires_august2023/aria_dpm_alos2_20230813/ImageServer/WMSServer<\/a>
<\/span><\/p>
Data Download:<\/span><\/p>
https://aria-share.jpl.nasa.gov/20230808-Wildfire-Maui_Hawaii/DPM/<\/span><\/a><\/p><\/div><\/div><\/div>", "extent": { "xmin": -157.03461, "ymin": 20.27703, "xmax": -156.24211, "ymax": 21.00786, "spatialReference": { "wkid": 4326, "latestWkid": 4326 } }, "initialExtent": { "xmin": -157.03461, "ymin": 20.27703, "xmax": -156.24211, "ymax": 21.00786, "spatialReference": { "wkid": 4326, "latestWkid": 4326 } }, "fullExtent": { "xmin": -157.03461, "ymin": 20.27703, "xmax": -156.24211, "ymax": 21.00786, "spatialReference": { "wkid": 4326, "latestWkid": 4326 } }, "hasMultidimensions": false, "pixelSizeX": 2.777777777777742E-4, "pixelSizeY": 2.777765108323835E-4, "datasetFormat": "TIFF", "uncompressedSize": 30024972, "blockWidth": 2853, "blockHeight": 1, "compressionType": "None", "bandNames": [ "Band_1", "Band_2", "Band_3", "Band_4" ], "allowCopy": true, "allowAnalysis": true, "bandCount": 4, "pixelType": "U8", "minPixelSize": 0, "maxPixelSize": 0, "copyrightText": "JAXA, NASA-JPL/Caltech ARIA team, NASA Disasters Program, NASA", "serviceDataType": "esriImageServiceDataTypeGeneric", "serviceSourceType": "esriImageServiceSourceTypeDataset", "minValues": [], "maxValues": [], "meanValues": [], "stdvValues": [], "objectIdField": "", "fields": [], "capabilities": "Mensuration,Image,Metadata", "defaultMosaicMethod": "Center", "allowedMosaicMethods": "", "sortField": "", "sortValue": null, "sortAscending": true, "mosaicOperator": "First", "defaultCompressionQuality": 75, "defaultResamplingMethod": "Nearest", "maxImageHeight": 4100, "maxImageWidth": 15000, "allowRasterFunction": true, "rasterFunctionInfos": [ { "name": "RGB Composite", "description": "A raster function template.", "help": "" }, { "name": "None", "description": "", "help": "" } ], "rasterTypeInfos": [ { "name": "Raster Dataset", "description": "Supports all ArcGIS Raster Datasets", "help": "" } ], "mensurationCapabilities": "Basic", "hasHistograms": false, "hasColormap": false, "hasRasterAttributeTable": false, "minScale": 0, "maxScale": 0, "exportTilesAllowed": false, "supportsStatistics": false, "supportsAdvancedQueries": false, "editFieldsInfo": null, "ownershipBasedAccessControlForRasters": null, "allowComputeTiePoints": false, "useStandardizedQueries": true, "advancedQueryCapabilities": { "useStandardizedQueries": true, "supportsStatistics": false, "supportsOrderBy": false, "supportsDistinct": false, "supportsPagination": false }, "spatialReference": { "wkid": 4326, "latestWkid": 4326 } }