{ "currentVersion": 10.91, "serviceDescription": "

Date of Image:<\/span><\/p>
9/4/2019<\/span><\/p>
Date of Next Image:<\/span><\/p>
Unknown<\/span><\/p>
Summary:<\/span><\/p>
The Advanced Rapid Imaging and Analysis (ARIA) team at NASA's Jet Propulsion Laboratory and California Institute of Technology in Pasadena, California, created this Damage Proxy Map (DPM) depicting areas of the Bahamas that are likely damaged (shown by red and yellow pixels) as a result of Hurricane Dorian that made a landfall as Category 5 storm Sunday (September 1) afternoon. The map was derived from synthetic aperture radar (SAR) data acquired around 7pm (local time) on September 2, 2019 by the European Union's Copernicus Sentinel-1 satellites operated by the European Space Agency (ESA). The pre-event images were taken before (August 21, 2019) and the post-event image was acquired a day after the hurricane's landfall.<\/span><\/p>
Suggested Use:<\/span><\/p>
The color variation from yellow to red indicates increasingly more significant ground surface change.<\/span><\/p>
This damage proxy map should be used as guidance to identify damaged areas, and may be less reliable over vegetated areas and flooded areas. For example, the scattered single colored pixels over vegetated areas may be false positives, and the lack of colored pixels over vegetated areas does not necessarily mean no damage.<\/span><\/p>
Satellite/Sensor:<\/span><\/p>
Synthetic Aperture Radar (SAR) on European Space Agency's (ESA) Copernicus Sentinel-1 satellite<\/span><\/p>
Resolution: 30 meters<\/span><\/p>
Credits:<\/span><\/p>
Contains modified Copernicus Sentinel data (2019) processed by the ARIA team at NASA-JPL and Caltech. This task was funded by NASA Disasters Program.<\/span><\/p>
For more information about ARIA, visit: <\/span>http://aria.jpl.nasa.gov<\/span><\/a><\/p>
For more information about the EU\u2019s Copernicus Programme, visit: <\/span>https://www.copernicus.eu/en<\/span><\/a><\/p>
Esri REST Endpoint:<\/span><\/p>
See URL section on right side of page<\/span><\/p>
WMS Endpoint: <\/span><\/p>
https://maps.disasters.nasa.gov/ags04/services/hurricane_dorian_2019/aria_dpm_sentinel1_20190904/ImageServer/WMSServer<\/span><\/a><\/p><\/div><\/div><\/div>", "name": "hurricane_dorian_2019/aria_dpm_sentinel1_20190904", "description": "

Date of Image:<\/span><\/p>
9/4/2019<\/span><\/p>
Date of Next Image:<\/span><\/p>
Unknown<\/span><\/p>
Summary:<\/span><\/p>
The Advanced Rapid Imaging and Analysis (ARIA) team at NASA's Jet Propulsion Laboratory and California Institute of Technology in Pasadena, California, created this Damage Proxy Map (DPM) depicting areas of the Bahamas that are likely damaged (shown by red and yellow pixels) as a result of Hurricane Dorian that made a landfall as Category 5 storm Sunday (September 1) afternoon. The map was derived from synthetic aperture radar (SAR) data acquired around 7pm (local time) on September 2, 2019 by the European Union's Copernicus Sentinel-1 satellites operated by the European Space Agency (ESA). The pre-event images were taken before (August 21, 2019) and the post-event image was acquired a day after the hurricane's landfall.<\/span><\/p>
Suggested Use:<\/span><\/p>
The color variation from yellow to red indicates increasingly more significant ground surface change.<\/span><\/p>
This damage proxy map should be used as guidance to identify damaged areas, and may be less reliable over vegetated areas and flooded areas. For example, the scattered single colored pixels over vegetated areas may be false positives, and the lack of colored pixels over vegetated areas does not necessarily mean no damage.<\/span><\/p>
Satellite/Sensor:<\/span><\/p>
Synthetic Aperture Radar (SAR) on European Space Agency's (ESA) Copernicus Sentinel-1 satellite<\/span><\/p>
Resolution: 30 meters<\/span><\/p>
Credits:<\/span><\/p>
Contains modified Copernicus Sentinel data (2019) processed by the ARIA team at NASA-JPL and Caltech. This task was funded by NASA Disasters Program.<\/span><\/p>
For more information about ARIA, visit: <\/span>http://aria.jpl.nasa.gov<\/span><\/a><\/p>
For more information about the EU\u2019s Copernicus Programme, visit: <\/span>https://www.copernicus.eu/en<\/span><\/a><\/p>
Esri REST Endpoint:<\/span><\/p>
See URL section on right side of page<\/span><\/p>
WMS Endpoint: <\/span><\/p>
https://maps.disasters.nasa.gov/ags04/services/hurricane_dorian_2019/aria_dpm_sentinel1_20190904/ImageServer/WMSServer<\/span><\/a><\/p><\/div><\/div><\/div>", "extent": { "xmin": -79.6312111, "ymin": 25.382907583265084, "xmax": -76.77412798324177, "ymax": 27.3608241, "spatialReference": { "wkid": 4326, "latestWkid": 4326 } }, "initialExtent": { "xmin": -79.6312111, "ymin": 25.382907583265084, "xmax": -76.77412798324177, "ymax": 27.3608241, "spatialReference": { "wkid": 4326, "latestWkid": 4326 } }, "fullExtent": { "xmin": -79.6312111, "ymin": 25.382907583265084, "xmax": -76.77412798324177, "ymax": 27.3608241, "spatialReference": { "wkid": 4326, "latestWkid": 4326 } }, "hasMultidimensions": false, "pixelSizeX": 1.3888887836071328E-4, "pixelSizeY": 1.3888887836071306E-4, "datasetFormat": "TIFF", "uncompressedSize": 1171806444, "blockWidth": 20571, "blockHeight": 1, "compressionType": "None", "bandNames": [ "Band_1", "Band_2", "Band_3", "Band_4" ], "allowCopy": true, "allowAnalysis": true, "bandCount": 4, "pixelType": "U8", "minPixelSize": 0, "maxPixelSize": 0, "copyrightText": "NASA-JPL/Caltech ARIA Team, EU Copernicus", "serviceDataType": "esriImageServiceDataTypeGeneric", "serviceSourceType": "esriImageServiceSourceTypeDataset", "minValues": [], "maxValues": [], "meanValues": [], "stdvValues": [], "objectIdField": "", "fields": [], "capabilities": "Mensuration,Image,Metadata", "defaultMosaicMethod": "Center", "allowedMosaicMethods": "", "sortField": "", "sortValue": null, "sortAscending": true, "mosaicOperator": "First", "defaultCompressionQuality": 75, "defaultResamplingMethod": "Nearest", "maxImageHeight": 4100, "maxImageWidth": 15000, "allowRasterFunction": true, "rasterFunctionInfos": [ { "name": "RGB Composite", "description": "A raster function template.", "help": "" }, { "name": "None", "description": "", "help": "" } ], "rasterTypeInfos": [ { "name": "Raster Dataset", "description": "Supports all ArcGIS Raster Datasets", "help": "" } ], "mensurationCapabilities": "Basic", "hasHistograms": false, "hasColormap": false, "hasRasterAttributeTable": false, "minScale": 0, "maxScale": 0, "exportTilesAllowed": false, "supportsStatistics": false, "supportsAdvancedQueries": false, "editFieldsInfo": null, "ownershipBasedAccessControlForRasters": null, "allowComputeTiePoints": false, "useStandardizedQueries": true, "advancedQueryCapabilities": { "useStandardizedQueries": true, "supportsStatistics": false, "supportsOrderBy": false, "supportsDistinct": false, "supportsPagination": false }, "spatialReference": { "wkid": 4326, "latestWkid": 4326 } }