{ "currentVersion": 10.91, "serviceDescription": "

Date of Image:<\/span><\/p>
9/4/2019<\/span><\/p>
Date of Next Image:<\/span><\/p>
Unknown<\/span><\/p>
Summary:<\/span><\/p>
The Advanced Rapid Imaging and Analysis (ARIA) team at NASA's Jet Propulsion Laboratory and California Institute of Technology in Pasadena, California, in collaboration with the Earth Observatory of Singapore (EOS), created this Flood Proxy Map depicting areas of the Bahamas that are likely flooded (shown by light blue pixels) as a result of Hurricane Dorian that made a landfall as Category 5 storm Sunday (September 1) afternoon. The map was derived from synthetic aperture radar (SAR) data acquired around 7am (local time) on September 4, 2019 by the European Union's Copernicus Sentinel-1 satellites operated by the European Space Agency (ESA).<\/span><\/p>
Suggested Use:<\/span><\/p>
Potentially flooding is shown by blue pixels.This flood proxy map should be used as guidance to identify areas that are likely flooded, and may be less reliable over urban and vegetated areas.<\/span><\/p>
Satellite/Sensor:<\/span><\/p>
Synthetic Aperture Radar (SAR) on European Space Agency's (ESA) Copernicus Sentinel-1A satellite<\/span><\/p>
Resolution: 30 meters<\/span><\/p>
Credits:<\/span><\/p>
Contains modified Copernicus Sentinel data (2019) processed by the ARIA team at NASA-JPL & Caltech and EOS team in Singapore. <\/span><\/p>
This task was carried out at JPL funded by NASA Disasters Program.<\/span><\/p>
For more information about ARIA, visit: <\/span>http://aria.jpl.nasa.gov<\/span><\/a><\/p>
For more information about EOS, visit: <\/span>https://www.earthobservatory.sg/<\/span><\/a><\/p>
For more information about the EU\u2019s Copernicus Programme, visit: <\/span>https://www.copernicus.eu/en<\/span><\/a><\/p>
Esri REST Endpoint:<\/span><\/p>
See URL Section on right side of page<\/span><\/p>
WMS Endpoint:<\/span><\/p>
https://maps.disasters.nasa.gov/ags04/services/hurricane_dorian_2019/aria_fpm_sentinel1_20190904/ImageServer/WMSServer<\/span><\/p><\/div><\/div><\/div>", "name": "hurricane_dorian_2019/aria_fpm_sentinel1_20190904", "description": "

Date of Image:<\/span><\/p>
9/4/2019<\/span><\/p>
Date of Next Image:<\/span><\/p>
Unknown<\/span><\/p>
Summary:<\/span><\/p>
The Advanced Rapid Imaging and Analysis (ARIA) team at NASA's Jet Propulsion Laboratory and California Institute of Technology in Pasadena, California, in collaboration with the Earth Observatory of Singapore (EOS), created this Flood Proxy Map depicting areas of the Bahamas that are likely flooded (shown by light blue pixels) as a result of Hurricane Dorian that made a landfall as Category 5 storm Sunday (September 1) afternoon. The map was derived from synthetic aperture radar (SAR) data acquired around 7am (local time) on September 4, 2019 by the European Union's Copernicus Sentinel-1 satellites operated by the European Space Agency (ESA).<\/span><\/p>
Suggested Use:<\/span><\/p>
Potentially flooding is shown by blue pixels.This flood proxy map should be used as guidance to identify areas that are likely flooded, and may be less reliable over urban and vegetated areas.<\/span><\/p>
Satellite/Sensor:<\/span><\/p>
Synthetic Aperture Radar (SAR) on European Space Agency's (ESA) Copernicus Sentinel-1A satellite<\/span><\/p>
Resolution: 30 meters<\/span><\/p>
Credits:<\/span><\/p>
Contains modified Copernicus Sentinel data (2019) processed by the ARIA team at NASA-JPL & Caltech and EOS team in Singapore. <\/span><\/p>
This task was carried out at JPL funded by NASA Disasters Program.<\/span><\/p>
For more information about ARIA, visit: <\/span>http://aria.jpl.nasa.gov<\/span><\/a><\/p>
For more information about EOS, visit: <\/span>https://www.earthobservatory.sg/<\/span><\/a><\/p>
For more information about the EU\u2019s Copernicus Programme, visit: <\/span>https://www.copernicus.eu/en<\/span><\/a><\/p>
Esri REST Endpoint:<\/span><\/p>
See URL Section on right side of page<\/span><\/p>
WMS Endpoint:<\/span><\/p>
https://maps.disasters.nasa.gov/ags04/services/hurricane_dorian_2019/aria_fpm_sentinel1_20190904/ImageServer/WMSServer<\/span><\/p><\/div><\/div><\/div>", "extent": { "xmin": -79.63114164919861, "ymin": 25.382699131324408, "xmax": -76.7739194269764, "ymax": 27.36075468687995, "spatialReference": { "wkid": 4326, "latestWkid": 4326 } }, "initialExtent": { "xmin": -79.63114164919861, "ymin": 25.382699131324408, "xmax": -76.7739194269764, "ymax": 27.36075468687995, "spatialReference": { "wkid": 4326, "latestWkid": 4326 } }, "fullExtent": { "xmin": -79.63114164919861, "ymin": 25.382699131324408, "xmax": -76.7739194269764, "ymax": 27.36075468687995, "spatialReference": { "wkid": 4326, "latestWkid": 4326 } }, "hasMultidimensions": false, "pixelSizeX": 2.7777777777777615E-4, "pixelSizeY": 2.7777777777777593E-4, "datasetFormat": "TIFF", "uncompressedSize": 9154936, "blockWidth": 10286, "blockHeight": 6, "compressionType": "PACKBITS", "bandNames": [ "Band_1" ], "allowCopy": true, "allowAnalysis": true, "bandCount": 1, "noDataValue": 0, "noDataValues": [ 0 ], "pixelType": "U1", "minPixelSize": 0, "maxPixelSize": 0, "copyrightText": "NASA-JPL/Caltech ARIA Team, EOS Singapore ESA Copernicus", "serviceDataType": "esriImageServiceDataTypeThematic", "serviceSourceType": "esriImageServiceSourceTypeDataset", "minValues": [], "maxValues": [], "meanValues": [], "stdvValues": [], "objectIdField": "", "fields": [], "capabilities": "Mensuration,Image,Metadata", "defaultMosaicMethod": "Center", "allowedMosaicMethods": "", "sortField": "", "sortValue": null, "sortAscending": true, "mosaicOperator": "First", "defaultCompressionQuality": 75, "defaultResamplingMethod": "Nearest", "maxImageHeight": 4100, "maxImageWidth": 15000, "allowRasterFunction": true, "rasterFunctionInfos": [ { "name": "aria_fpm_colormap", "description": "A raster function template.", "help": "" }, { "name": "None", "description": "", "help": "" } ], "rasterTypeInfos": [ { "name": "Raster Dataset", "description": "Supports all ArcGIS Raster Datasets", "help": "" } ], "mensurationCapabilities": "Basic", "hasHistograms": false, "hasColormap": false, "hasRasterAttributeTable": false, "minScale": 0, "maxScale": 0, "exportTilesAllowed": false, "supportsStatistics": false, "supportsAdvancedQueries": false, "editFieldsInfo": null, "ownershipBasedAccessControlForRasters": null, "allowComputeTiePoints": false, "useStandardizedQueries": true, "advancedQueryCapabilities": { "useStandardizedQueries": true, "supportsStatistics": false, "supportsOrderBy": false, "supportsDistinct": false, "supportsPagination": false }, "spatialReference": { "wkid": 4326, "latestWkid": 4326 } }