{
 "currentVersion": 10.91,
 "serviceDescription": "Date of Images:8/30/19 to 9/4/2019Summary:This image shows the total rainfall from Hurricane Dorian from 8/30/19 to 9/4/19 as captured by The Global Precipitation Measurement (GPM) mission. The Global Precipitation Measurement (GPM) mission is an international network of satellites that provide the next-generation global observations of rain and snow. Suggested Usage:The amount of rainfall is indiciated from blue (less) to red (most) with values ranging from 4.16mm to 1255.05mm (4 feet).\n\nResolution: \n.1 Degrees\n\nTo learn more about GPM:\nhttps://www.nasa.gov/mission_pages/GPM/main/index.html\n\nEsri REST Endpoint:\nSee URL Section on right side of page.\n\nWMS Endpoint:",
 "name": "hurricane_dorian_2019/gpm_totalprecip_20190830_20190904",
 "description": "Date of Images:8/30/19 to 9/4/2019Summary:This image shows the total rainfall from Hurricane Dorian from 8/30/19 to 9/4/19 as captured by The Global Precipitation Measurement (GPM) mission. The Global Precipitation Measurement (GPM) mission is an international network of satellites that provide the next-generation global observations of rain and snow. Suggested Usage:The amount of rainfall is indiciated from blue (less) to red (most) with values ranging from 4.16mm to 1255.05mm (4 feet).\n\nResolution: \n.1 Degrees\n\nTo learn more about GPM:\nhttps://www.nasa.gov/mission_pages/GPM/main/index.html\n\nEsri REST Endpoint:\nSee URL Section on right side of page.\n\nWMS Endpoint:",
 "extent": {
  "xmin": -81.8999984647021,
  "ymin": 23.10000002528383,
  "xmax": -73.69999976377206,
  "ymax": 28.099999233168,
  "spatialReference": {
   "wkid": 4326,
   "latestWkid": 4326
  }
 },
 "initialExtent": {
  "xmin": -81.8999984647021,
  "ymin": 23.10000002528383,
  "xmax": -73.69999976377206,
  "ymax": 28.099999233168,
  "spatialReference": {
   "wkid": 4326,
   "latestWkid": 4326
  }
 },
 "fullExtent": {
  "xmin": -81.8999984647021,
  "ymin": 23.10000002528383,
  "xmax": -73.69999976377206,
  "ymax": 28.099999233168,
  "spatialReference": {
   "wkid": 4326,
   "latestWkid": 4326
  }
 },
 "hasMultidimensions": false,
 "pixelSizeX": 0.0999999841576834,
 "pixelSizeY": 0.09999998415768338,
 "datasetFormat": "TIFF",
 "uncompressedSize": 16400,
 "blockWidth": 128,
 "blockHeight": 128,
 "compressionType": "None",
 "bandNames": [
  "Band_1"
 ],
 "allowCopy": true,
 "allowAnalysis": true,
 "bandCount": 1,
 "noDataValue": -9999.900390625,
 "noDataValues": [
  -9999.900390625
 ],
 "pixelType": "F32",
 "minPixelSize": 0,
 "maxPixelSize": 0,
 "copyrightText": "NASA Precipitation Measurement Missions (PMM) Science Team, The Global Precipitation Measurement (GPM) mission, NASA, Japan Aerospace Exploration Agency (JAXA)",
 "serviceDataType": "esriImageServiceDataTypeGeneric",
 "serviceSourceType": "esriImageServiceSourceTypeDataset",
 "minValues": [
  4.1643619537354
 ],
 "maxValues": [
  1255.0455322266
 ],
 "meanValues": [
  166.55706667005
 ],
 "stdvValues": [
  186.64020999632
 ],
 "objectIdField": "",
 "fields": [],
 "capabilities": "Mensuration,Image,Metadata",
 "defaultMosaicMethod": "Center",
 "allowedMosaicMethods": "",
 "sortField": "",
 "sortValue": null,
 "sortAscending": true,
 "mosaicOperator": "First",
 "defaultCompressionQuality": 75,
 "defaultResamplingMethod": "Nearest",
 "maxImageHeight": 4100,
 "maxImageWidth": 15000,
 "allowRasterFunction": true,
 "rasterFunctionInfos": [
  {
   "name": "dorian_gpm_totalprecip",
   "description": "A raster function template.",
   "help": ""
  },
  {
   "name": "None",
   "description": "",
   "help": ""
  }
 ],
 "rasterTypeInfos": [
  {
   "name": "Raster Dataset",
   "description": "Supports all ArcGIS Raster Datasets",
   "help": ""
  }
 ],
 "mensurationCapabilities": "Basic",
 "hasHistograms": true,
 "hasColormap": false,
 "hasRasterAttributeTable": false,
 "minScale": 0,
 "maxScale": 0,
 "exportTilesAllowed": false,
 "supportsStatistics": false,
 "supportsAdvancedQueries": false,
 "editFieldsInfo": null,
 "ownershipBasedAccessControlForRasters": null,
 "allowComputeTiePoints": false,
 "useStandardizedQueries": true,
 "advancedQueryCapabilities": {
  "useStandardizedQueries": true,
  "supportsStatistics": false,
  "supportsOrderBy": false,
  "supportsDistinct": false,
  "supportsPagination": false
 },
 "spatialReference": {
  "wkid": 4326,
  "latestWkid": 4326
 }
}
