Date of Image:<\/span><\/p>11/22/2020<\/span><\/p>Date of Next Image:<\/span><\/p>None Expected<\/span><\/p>Summary:<\/span><\/p>The Advanced Rapid Imaging and Analysis (ARIA) team at NASA's Jet Propulsion Laboratory (JPL) and California Institute of Technology (Caltech) in Pasadena, California, created this Damage Proxy Map (DPM) depicting areas in Providencia Island that are likely damaged (shown by red and yellow pixels) as a result of Hurricane Iota. The map was derived from Synthetic Aperture Radar (SAR) data acquired around on November 22, 2020 by the Copernicus Sentinel-1 satellites operated by the European Space Agency (ESA). <\/span><\/p>The map covers the entire island, and each pixel measures about 30 meters across. The color variation from yellow to red indicates increasingly more significant ground surface change. Media reports provided anecdotal preliminary validation. This damage proxy map should be used as guidance to identify damaged areas, and may be less reliable over vegetated areas and flooded areas. For example, the scattered single colored pixels over vegetated areas may be false positives, and the lack of colored pixels over vegetated areas does not necessarily mean no damage. <\/span><\/p>Suggested Use:<\/span><\/p>This damage proxy map should be used as guidance to identify damaged areas, and may be less reliable over vegetated areas and flooded areas. For example, the scattered single colored pixels over vegetated areas may be false positives, and the lack of colored pixels over vegetated areas does not necessarily mean no damage. <\/span><\/p>Satellite/Sensor:<\/span><\/p>Copernicus Sentinel-1 Synthetic Aperture Radar (SAR)<\/span><\/p>Resolution:<\/span><\/p>30 meters<\/span><\/p>Credits:<\/span><\/p>Contains modified Copernicus Sentinel data (2020) processed by ESA, the ARIA team at NASA-JPL and Caltech. <\/span><\/p>Esri REST Endpoint:<\/span><\/p>See URL section on right side of page<\/span><\/p>WMS Endpoint:<\/span><\/p><\/p>
Data Download:<\/span><\/p>https://aria-share.jpl.nasa.gov/202011-Hurricane_Iota/<\/span><\/a><\/p><\/div><\/div><\/div>",
"extent": {
"xmin": -81.52884954,
"ymin": 13.213762354,
"xmax": -80.65884954,
"ymax": 13.561540132,
"spatialReference": {
"wkid": 4326,
"latestWkid": 4326
}
},
"initialExtent": {
"xmin": -81.52884954,
"ymin": 13.213762354,
"xmax": -80.65884954,
"ymax": 13.561540132,
"spatialReference": {
"wkid": 4326,
"latestWkid": 4326
}
},
"fullExtent": {
"xmin": -81.52884954,
"ymin": 13.213762354,
"xmax": -80.65884954,
"ymax": 13.561540132,
"spatialReference": {
"wkid": 4326,
"latestWkid": 4326
}
},
"hasMultidimensions": false,
"pixelSizeX": 2.777777777777747E-4,
"pixelSizeY": 2.77777777955271E-4,
"datasetFormat": "TIFF",
"uncompressedSize": 15685056,
"blockWidth": 3132,
"blockHeight": 1,
"compressionType": "None",
"bandNames": [
"Band_1",
"Band_2",
"Band_3",
"Band_4"
],
"allowCopy": true,
"allowAnalysis": true,
"bandCount": 4,
"noDataValue": 0,
"noDataValues": [
0,
0,
0,
0
],
"pixelType": "U8",
"minPixelSize": 0,
"maxPixelSize": 0,
"copyrightText": "NASA-JPL/Caltech ARIA Team, ESA, Copernicus",
"serviceDataType": "esriImageServiceDataTypeGeneric",
"serviceSourceType": "esriImageServiceSourceTypeDataset",
"minValues": [],
"maxValues": [],
"meanValues": [],
"stdvValues": [],
"objectIdField": "",
"fields": [],
"capabilities": "Mensuration,Image,Metadata",
"defaultMosaicMethod": "Center",
"allowedMosaicMethods": "",
"sortField": "",
"sortValue": null,
"sortAscending": true,
"mosaicOperator": "First",
"defaultCompressionQuality": 75,
"defaultResamplingMethod": "Nearest",
"maxImageHeight": 4100,
"maxImageWidth": 15000,
"allowRasterFunction": true,
"rasterFunctionInfos": [
{
"name": "None",
"description": "",
"help": ""
}
],
"rasterTypeInfos": [
{
"name": "Raster Dataset",
"description": "Supports all ArcGIS Raster Datasets",
"help": ""
}
],
"mensurationCapabilities": "Basic",
"hasHistograms": false,
"hasColormap": false,
"hasRasterAttributeTable": false,
"minScale": 0,
"maxScale": 0,
"exportTilesAllowed": false,
"supportsStatistics": false,
"supportsAdvancedQueries": false,
"editFieldsInfo": null,
"ownershipBasedAccessControlForRasters": null,
"allowComputeTiePoints": false,
"useStandardizedQueries": true,
"advancedQueryCapabilities": {
"useStandardizedQueries": true,
"supportsStatistics": false,
"supportsOrderBy": false,
"supportsDistinct": false,
"supportsPagination": false
},
"spatialReference": {
"wkid": 4326,
"latestWkid": 4326
}
}