{ "currentVersion": 10.91, "serviceDescription": "

Date of Image:<\/span><\/p>
9/19/2022<\/span><\/p>
Date of Next Image:<\/span><\/p>
Unknown<\/span><\/p>
Summary:<\/span><\/p>
The Advanced Rapid Imaging and Analysis (ARIA) team at NASA's Jet Propulsion Laboratory and California Institute of Technology created the multi-temporal coherence-based Damage Proxy Map (DPM2) depicting areas that are likely damaged in Puerto Rico due to the Hurricane Fiona in September 2022. This map was derived from synthetic aperture radar (SAR) images acquired by the Copernicus Sentinel-1 satellites operated by the European Space Agency (ESA) images on September 19, 2022 at about 6 AM local time. The pre-event reference images were taken between Jan. 10 and Sep. 7, 2022. before the hurricane hit land.<\/span><\/p>
Suggested Use:<\/span><\/p>
The color variation from pale yellow to red indicates increasingly more significant surface change (drop in radar reflection coherence). Preliminary validation was done by comparing with the Media reports and other images. <\/span><\/p>
This damage proxy map should be used as guidance to identify damaged areas or areas affected by flood and may be less reliable over vegetated areas. The changes in radar reflections from flooded land and damaged buildings cannot be separated easily. For example, the scattered colored pixels over vegetated areas may be false positives, and the lack of colored pixels over vegetated areas does not necessarily mean no damage.<\/span><\/p>
Satellite/Sensor:<\/span><\/p>
Copernicus Sentinel-1 Synthetic Aperture Radar (SAR)<\/span><\/p>
Resolution:<\/span><\/p>
30 meters<\/span><\/p>
Credits:<\/span><\/p>
Sentinel-1 data were accessed through the Copernicus Open Hub and the Alaska Satellite Facility server. The product contains modified Copernicus Sentinel data (2022), processed by ESA and analyzed by the NASA-JPL/Caltech ARIA team. NASA's Earth Applied Sciences Disasters Program provided part of the funding.<\/span><\/p>
For more information about ARIA, visit: <\/span>http://aria.jpl.nasa.gov<\/span><\/a><\/p>
Esri REST Endpoint:<\/span><\/p>
See URL section on right side of page<\/span><\/p>
WMS Endpoint:<\/span><\/p>
Data Download:<\/span><\/p>
https://aria-share.jpl.nasa.gov/20220918-Hurricane_Puerto_Rico/DPM/<\/span><\/a><\/p><\/div><\/div><\/div>", "name": "hurricane_fiona_2022/aria_dpm_sentinel1_20220919", "description": "

Date of Image:<\/span><\/p>
9/19/2022<\/span><\/p>
Date of Next Image:<\/span><\/p>
Unknown<\/span><\/p>
Summary:<\/span><\/p>
The Advanced Rapid Imaging and Analysis (ARIA) team at NASA's Jet Propulsion Laboratory and California Institute of Technology created the multi-temporal coherence-based Damage Proxy Map (DPM2) depicting areas that are likely damaged in Puerto Rico due to the Hurricane Fiona in September 2022. This map was derived from synthetic aperture radar (SAR) images acquired by the Copernicus Sentinel-1 satellites operated by the European Space Agency (ESA) images on September 19, 2022 at about 6 AM local time. The pre-event reference images were taken between Jan. 10 and Sep. 7, 2022. before the hurricane hit land.<\/span><\/p>
Suggested Use:<\/span><\/p>
The color variation from pale yellow to red indicates increasingly more significant surface change (drop in radar reflection coherence). Preliminary validation was done by comparing with the Media reports and other images. <\/span><\/p>
This damage proxy map should be used as guidance to identify damaged areas or areas affected by flood and may be less reliable over vegetated areas. The changes in radar reflections from flooded land and damaged buildings cannot be separated easily. For example, the scattered colored pixels over vegetated areas may be false positives, and the lack of colored pixels over vegetated areas does not necessarily mean no damage.<\/span><\/p>
Satellite/Sensor:<\/span><\/p>
Copernicus Sentinel-1 Synthetic Aperture Radar (SAR)<\/span><\/p>
Resolution:<\/span><\/p>
30 meters<\/span><\/p>
Credits:<\/span><\/p>
Sentinel-1 data were accessed through the Copernicus Open Hub and the Alaska Satellite Facility server. The product contains modified Copernicus Sentinel data (2022), processed by ESA and analyzed by the NASA-JPL/Caltech ARIA team. NASA's Earth Applied Sciences Disasters Program provided part of the funding.<\/span><\/p>
For more information about ARIA, visit: <\/span>http://aria.jpl.nasa.gov<\/span><\/a><\/p>
Esri REST Endpoint:<\/span><\/p>
See URL section on right side of page<\/span><\/p>
WMS Endpoint:<\/span><\/p>
Data Download:<\/span><\/p>
https://aria-share.jpl.nasa.gov/20220918-Hurricane_Puerto_Rico/DPM/<\/span><\/a><\/p><\/div><\/div><\/div>", "extent": { "xmin": -66.741971411, "ymin": 17.639586433, "xmax": -64.969471411, "ymax": 18.809030877, "spatialReference": { "wkid": 4326, "latestWkid": 4326 } }, "initialExtent": { "xmin": -66.741971411, "ymin": 17.639586433, "xmax": -64.969471411, "ymax": 18.809030877, "spatialReference": { "wkid": 4326, "latestWkid": 4326 } }, "fullExtent": { "xmin": -66.741971411, "ymin": 17.639586433, "xmax": -64.969471411, "ymax": 18.809030877, "spatialReference": { "wkid": 4326, "latestWkid": 4326 } }, "hasMultidimensions": false, "pixelSizeX": 2.777777777777768E-4, "pixelSizeY": 2.7777777767220896E-4, "datasetFormat": "TIFF", "uncompressedSize": 107456040, "blockWidth": 6381, "blockHeight": 1, "compressionType": "None", "bandNames": [ "Band_1", "Band_2", "Band_3", "Band_4" ], "allowCopy": true, "allowAnalysis": true, "bandCount": 4, "pixelType": "U8", "minPixelSize": 0, "maxPixelSize": 0, "copyrightText": "NASA-JPL/Caltech ARIA Team, ESA, Copernicus", "serviceDataType": "esriImageServiceDataTypeGeneric", "serviceSourceType": "esriImageServiceSourceTypeDataset", "minValues": [ 0, 0, 0, 0 ], "maxValues": [ 255, 255, 0, 255 ], "meanValues": [ 2.8706655484412, 1.3225248948312, 0, 3.079999039607 ], "stdvValues": [ 26.222575759537, 15.916682905982, 0, 27.855221950271 ], "objectIdField": "", "fields": [], "capabilities": "Mensuration,Image,Metadata", "defaultMosaicMethod": "Center", "allowedMosaicMethods": "", "sortField": "", "sortValue": null, "sortAscending": true, "mosaicOperator": "First", "defaultCompressionQuality": 75, "defaultResamplingMethod": "Nearest", "maxImageHeight": 4100, "maxImageWidth": 15000, "allowRasterFunction": true, "rasterFunctionInfos": [ { "name": "ARIA Damage Proxy Map (DPM)", "description": "To be used only with ARIA DPMs. Yellow to red indicates increasingly more significant surface change.", "help": "" }, { "name": "None", "description": "Make a Raster or Raster Dataset into a Function Raster Dataset.", "help": "" } ], "rasterTypeInfos": [ { "name": "Raster Dataset", "description": "Supports all ArcGIS Raster Datasets", "help": "" } ], "mensurationCapabilities": "Basic", "hasHistograms": true, "hasColormap": false, "hasRasterAttributeTable": false, "minScale": 0, "maxScale": 0, "exportTilesAllowed": false, "supportsStatistics": false, "supportsAdvancedQueries": false, "editFieldsInfo": null, "ownershipBasedAccessControlForRasters": null, "allowComputeTiePoints": false, "useStandardizedQueries": true, "advancedQueryCapabilities": { "useStandardizedQueries": true, "supportsStatistics": false, "supportsOrderBy": false, "supportsDistinct": false, "supportsPagination": false }, "spatialReference": { "wkid": 4326, "latestWkid": 4326 } }