{ "currentVersion": 10.91, "serviceDescription": "
Date of Image:<\/SPAN><\/P> 9/1/2020<\/SPAN><\/P> Date of Next Image: <\/SPAN><\/P> None Expected<\/SPAN><\/P> Summary:<\/SPAN><\/P> This preliminary map shows areas which are likely damaged in Louisiana and parts of Texas, USA due to Hurricane Laura which made landfall on 27 Aug 2020. Damage is shown by coloured pixels of 30 m in size, where yellow to red indicates increasingly significant ground surface change before and after the event. It is validated using aerial imagery from NOAA. The map may be less reliable over vegetated areas. For example, the scattered colored pixels over vegetated areas may be false positives, and the lack of colored pixels over vegetated areas does not necessarily mean no damage. This map is most sensitive to building damage, but small scale change or partial structural damage may not be detected by this map.<\/SPAN><\/P> Derived from synthetic aperture radar data acquired by the Copernicus Sentinel-1 satellites operated by the European Space Agency (ESA) before (20 Aug) and after (1 Sep) the event. Analysed by the ARIA-SG team at the Earth Observatory of Singapore (EOS) in collaboration with NASA-JPL and Caltech. <\/SPAN><\/P> Suggested Use:<\/SPAN><\/P> This damage proxy map shows surface change with yellow to red indicating more significant change or building damage due to the hurricane. The damage proxy map should be used as guidance to identify damaged areas and may be less reliable over vegetated areas. The lack of colored pixels over vegetated areas does not necessarily mean no damage. Small scale change or partial structural damage may not be detected by this map.<\/SPAN><\/P> Satellite/Sensor:<\/SPAN><\/P> Copernicus Sentinel-1 Synthetic Aperture Radar (SAR)<\/SPAN><\/P> Resolution:<\/SPAN><\/P> 30 meters<\/SPAN><\/P> Credits:<\/SPAN><\/P> The image contains modified Copernicus Sentinel data (2020), analyzed by the ARIA-SG team at the Earth Observatory of Singapore (EOS) in collaboration with NASA-JPL/Caltech ARIA team.<\/SPAN><\/P> Esri REST Endpoint:<\/SPAN><\/P> See URL Section on right side of page<\/SPAN><\/P> WMS Endoint:<\/SPAN><\/P><\/DIV><\/DIV><\/DIV>",
"name": "hurricane_laura_2020/aria_dpm_sentinel1_20200901",
"description": " Date of Image:<\/SPAN><\/P> 9/1/2020<\/SPAN><\/P> Date of Next Image: <\/SPAN><\/P> None Expected<\/SPAN><\/P> Summary:<\/SPAN><\/P> This preliminary map shows areas which are likely damaged in Louisiana and parts of Texas, USA due to Hurricane Laura which made landfall on 27 Aug 2020. Damage is shown by coloured pixels of 30 m in size, where yellow to red indicates increasingly significant ground surface change before and after the event. It is validated using aerial imagery from NOAA. The map may be less reliable over vegetated areas. For example, the scattered colored pixels over vegetated areas may be false positives, and the lack of colored pixels over vegetated areas does not necessarily mean no damage. This map is most sensitive to building damage, but small scale change or partial structural damage may not be detected by this map.<\/SPAN><\/P> Derived from synthetic aperture radar data acquired by the Copernicus Sentinel-1 satellites operated by the European Space Agency (ESA) before (20 Aug) and after (1 Sep) the event. Analysed by the ARIA-SG team at the Earth Observatory of Singapore (EOS) in collaboration with NASA-JPL and Caltech. <\/SPAN><\/P> Suggested Use:<\/SPAN><\/P> This damage proxy map shows surface change with yellow to red indicating more significant change or building damage due to the hurricane. The damage proxy map should be used as guidance to identify damaged areas and may be less reliable over vegetated areas. The lack of colored pixels over vegetated areas does not necessarily mean no damage. Small scale change or partial structural damage may not be detected by this map.<\/SPAN><\/P> Satellite/Sensor:<\/SPAN><\/P> Copernicus Sentinel-1 Synthetic Aperture Radar (SAR)<\/SPAN><\/P> Resolution:<\/SPAN><\/P> 30 meters<\/SPAN><\/P> Credits:<\/SPAN><\/P> The image contains modified Copernicus Sentinel data (2020), analyzed by the ARIA-SG team at the Earth Observatory of Singapore (EOS) in collaboration with NASA-JPL/Caltech ARIA team.<\/SPAN><\/P> Esri REST Endpoint:<\/SPAN><\/P> See URL Section on right side of page<\/SPAN><\/P> WMS Endoint:<\/SPAN><\/P><\/DIV><\/DIV><\/DIV>",
"extent": {
"xmin": -95.46054311162467,
"ymin": 29.055373017279777,
"xmax": -92.57832088940246,
"ymax": 31.091761906168653,
"spatialReference": {
"wkid": 4326,
"latestWkid": 4326
}
},
"initialExtent": {
"xmin": -95.46054311162467,
"ymin": 29.055373017279777,
"xmax": -92.57832088940246,
"ymax": 31.091761906168653,
"spatialReference": {
"wkid": 4326,
"latestWkid": 4326
}
},
"fullExtent": {
"xmin": -95.46054311162467,
"ymin": 29.055373017279777,
"xmax": -92.57832088940246,
"ymax": 31.091761906168653,
"spatialReference": {
"wkid": 4326,
"latestWkid": 4326
}
},
"hasMultidimensions": false,
"pixelSizeX": 2.777777777777767E-4,
"pixelSizeY": 2.77777777777776E-4,
"datasetFormat": "TIFF",
"uncompressedSize": 304265824,
"blockWidth": 10376,
"blockHeight": 1,
"compressionType": "None",
"bandNames": [
"Band_1",
"Band_2",
"Band_3",
"Band_4"
],
"allowCopy": true,
"allowAnalysis": true,
"bandCount": 4,
"pixelType": "U8",
"minPixelSize": 0,
"maxPixelSize": 0,
"copyrightText": "ARIA-SG, Earth Observatory of Singapore, NASA-JPL/Caltech ARIA team, ESA",
"serviceDataType": "esriImageServiceDataTypeGeneric",
"serviceSourceType": "esriImageServiceSourceTypeDataset",
"minValues": [],
"maxValues": [],
"meanValues": [],
"stdvValues": [],
"objectIdField": "",
"fields": [],
"capabilities": "Image,Metadata,Mensuration",
"defaultMosaicMethod": "Center",
"allowedMosaicMethods": "",
"sortField": "",
"sortValue": null,
"sortAscending": true,
"mosaicOperator": "First",
"defaultCompressionQuality": 75,
"defaultResamplingMethod": "Nearest",
"maxImageHeight": 4100,
"maxImageWidth": 15000,
"allowRasterFunction": true,
"rasterFunctionInfos": [
{
"name": "RGB Composite",
"description": "A raster function template.",
"help": ""
},
{
"name": "None",
"description": "",
"help": ""
}
],
"rasterTypeInfos": [
{
"name": "Raster Dataset",
"description": "Supports all ArcGIS Raster Datasets",
"help": ""
}
],
"mensurationCapabilities": "Basic",
"hasHistograms": false,
"hasColormap": false,
"hasRasterAttributeTable": false,
"minScale": 0,
"maxScale": 0,
"exportTilesAllowed": false,
"supportsStatistics": false,
"supportsAdvancedQueries": false,
"editFieldsInfo": null,
"ownershipBasedAccessControlForRasters": null,
"allowComputeTiePoints": false,
"useStandardizedQueries": true,
"advancedQueryCapabilities": {
"useStandardizedQueries": true,
"supportsStatistics": false,
"supportsOrderBy": false,
"supportsDistinct": false,
"supportsPagination": false
},
"spatialReference": {
"wkid": 4326,
"latestWkid": 4326
}
}