{
 "currentVersion": 10.91,
 "serviceDescription": "Date of Image:\n\n\n9/30/2019\n\n\n\nDate of Next Image:\n\n\nNone Expected\n\n\n\nSummary:\n\n\nThe Advanced Rapid Imaging and Analysis (ARIA) team at NASA's Jet Propulsion Laboratory and California Institute of Technology in Pasadena, California, in collaboration with the Earth Observatory of Singapore (EOS), created this Flood Proxy Map depicting areas that are likely flooded (shown by light blue pixels) in Bihar, eastern India, due to heavy rains brought by the monsoon season. The map extents are indicated by the white polygon. This map should be used as a guidance to identify areas that are likely flooded, and is less reliable over urban and vegetated areas. Derived from synthetic aperture radar data acquired by the Copernicus Sentinel-1 satellites operated by the European Space Agency (ESA) before (21 May) and during (30 Sep) the event. Analysed by the ARIA-SG team at the Earth Observatory of Singapore (EOS) in collaboration with NASA-JPL and Caltech. \n\n\n\nSuggested Use:\n\n\nPotentially flooding is shown by blue pixels.This flood proxy map should be used as guidance to identify areas that are likely flooded, and may be less reliable over urban and vegetated areas.\n\n\n\nSatellite/Sensor:\n\n\nSynthetic Aperture Radar (SAR) on European Space Agency's (ESA) Copernicus Sentinel-1 satellite\n\n\nResolution: 30 meters\n\n\n\nCredits:\n\n\nContains modified Copernicus Sentinel data (2019) processed by the ARIA team at NASA-JPL & Caltech and EOS team in Singapore.\n\n\nThis task was carried out at JPL funded by NASA Disasters Program.\n\n\nFor more information about ARIA, visit: http://aria.jpl.nasa.gov\n\n\nFor more information about EOS, visit: https://www.earthobservatory.sg/\n\n\nFor more information about the EU\u2019s Copernicus Programme, visit: https://www.copernicus.eu/en",
 "name": "india_flood_201909/aria_fpm_sentinel1_20190930",
 "description": "Date of Image:\n\n\n9/30/2019\n\n\n\nDate of Next Image:\n\n\nNone Expected\n\n\n\nSummary:\n\n\nThe Advanced Rapid Imaging and Analysis (ARIA) team at NASA's Jet Propulsion Laboratory and California Institute of Technology in Pasadena, California, in collaboration with the Earth Observatory of Singapore (EOS), created this Flood Proxy Map depicting areas that are likely flooded (shown by light blue pixels) in Bihar, eastern India, due to heavy rains brought by the monsoon season. The map extents are indicated by the white polygon. This map should be used as a guidance to identify areas that are likely flooded, and is less reliable over urban and vegetated areas. Derived from synthetic aperture radar data acquired by the Copernicus Sentinel-1 satellites operated by the European Space Agency (ESA) before (21 May) and during (30 Sep) the event. Analysed by the ARIA-SG team at the Earth Observatory of Singapore (EOS) in collaboration with NASA-JPL and Caltech. \n\n\n\nSuggested Use:\n\n\nPotentially flooding is shown by blue pixels.This flood proxy map should be used as guidance to identify areas that are likely flooded, and may be less reliable over urban and vegetated areas.\n\n\n\nSatellite/Sensor:\n\n\nSynthetic Aperture Radar (SAR) on European Space Agency's (ESA) Copernicus Sentinel-1 satellite\n\n\nResolution: 30 meters\n\n\n\nCredits:\n\n\nContains modified Copernicus Sentinel data (2019) processed by the ARIA team at NASA-JPL & Caltech and EOS team in Singapore.\n\n\nThis task was carried out at JPL funded by NASA Disasters Program.\n\n\nFor more information about ARIA, visit: http://aria.jpl.nasa.gov\n\n\nFor more information about EOS, visit: https://www.earthobservatory.sg/\n\n\nFor more information about the EU\u2019s Copernicus Programme, visit: https://www.copernicus.eu/en",
 "extent": {
  "xmin": 84.83020749792902,
  "ymin": 24.727938517595394,
  "xmax": 87.61381860904012,
  "ymax": 26.70960518426205,
  "spatialReference": {
   "wkid": 4326,
   "latestWkid": 4326
  }
 },
 "initialExtent": {
  "xmin": 84.83020749792902,
  "ymin": 24.727938517595394,
  "xmax": 87.61381860904012,
  "ymax": 26.70960518426205,
  "spatialReference": {
   "wkid": 4326,
   "latestWkid": 4326
  }
 },
 "fullExtent": {
  "xmin": 84.83020749792902,
  "ymin": 24.727938517595394,
  "xmax": 87.61381860904012,
  "ymax": 26.70960518426205,
  "spatialReference": {
   "wkid": 4326,
   "latestWkid": 4326
  }
 },
 "hasMultidimensions": false,
 "pixelSizeX": 2.7777777777777664E-4,
 "pixelSizeY": 2.7777777777777615E-4,
 "datasetFormat": "TIFF",
 "uncompressedSize": 8934975,
 "blockWidth": 10021,
 "blockHeight": 6,
 "compressionType": "None",
 "bandNames": [
  "Band_1"
 ],
 "allowCopy": true,
 "allowAnalysis": true,
 "bandCount": 1,
 "noDataValue": 0,
 "noDataValues": [
  0
 ],
 "pixelType": "U1",
 "minPixelSize": 0,
 "maxPixelSize": 0,
 "copyrightText": "NASA-JPL/Caltech ARIA Team, EOS Singapore ESA Copernicus",
 "serviceDataType": "esriImageServiceDataTypeThematic",
 "serviceSourceType": "esriImageServiceSourceTypeDataset",
 "minValues": [],
 "maxValues": [],
 "meanValues": [],
 "stdvValues": [],
 "objectIdField": "",
 "fields": [],
 "capabilities": "Mensuration,Image,Metadata",
 "defaultMosaicMethod": "Center",
 "allowedMosaicMethods": "",
 "sortField": "",
 "sortValue": null,
 "sortAscending": true,
 "mosaicOperator": "First",
 "defaultCompressionQuality": 75,
 "defaultResamplingMethod": "Bilinear",
 "maxImageHeight": 4100,
 "maxImageWidth": 15000,
 "allowRasterFunction": true,
 "rasterFunctionInfos": [
  {
   "name": "aria_fpm_colormap",
   "description": "A raster function template.",
   "help": ""
  },
  {
   "name": "None",
   "description": "",
   "help": ""
  }
 ],
 "rasterTypeInfos": [
  {
   "name": "Raster Dataset",
   "description": "Supports all ArcGIS Raster Datasets",
   "help": ""
  }
 ],
 "mensurationCapabilities": "Basic",
 "hasHistograms": false,
 "hasColormap": false,
 "hasRasterAttributeTable": false,
 "minScale": 0,
 "maxScale": 0,
 "exportTilesAllowed": false,
 "supportsStatistics": false,
 "supportsAdvancedQueries": false,
 "editFieldsInfo": null,
 "ownershipBasedAccessControlForRasters": null,
 "allowComputeTiePoints": false,
 "useStandardizedQueries": true,
 "advancedQueryCapabilities": {
  "useStandardizedQueries": true,
  "supportsStatistics": false,
  "supportsOrderBy": false,
  "supportsDistinct": false,
  "supportsPagination": false
 },
 "spatialReference": {
  "wkid": 4326,
  "latestWkid": 4326
 }
}
