{ "currentVersion": 10.91, "serviceDescription": "
Date of Images:<\/span><\/p> 7/6/2020<\/span><\/p> Date of Next Image:<\/span><\/p> Unknown<\/span><\/p> Summary:<\/span><\/p> The Advanced Rapid Imaging and Analysis (ARIA) team at NASA's Jet Propulsion Laboratory and California Institute of Technology in Pasadena, California, in collaboration with the Earth Observatory of Singapore (EOS), created this Damage Proxy Map (DPM) depicting areas that are likely damaged caused by the heavy rains and flooding in Japan. The map was derived from synthetic aperture radar (SAR) images from the JAXA ALOS-2 satellite. This map shows areas which are likely damaged in Kumamoto Prefecture, Japan due to heavy rains since 3 Jul. Damage is shown by coloured pixels of 30 m in size, where yellow to red indicates increasingly significant ground surface change before and after the event. Derived from synthetic aperture radar data acquired by the ALOS-2 satellites operated by the Japan Aerospace Exploration Agency (JAXA) before (2 Mar, 8 Jun) and after (6 Jul) the event. ALOS-2 data were provided by Sentinel Asia. Analysed by the ARIA-SG team at the Earth Observatory of Singapore (EOS) in collaboration with NASA-JPL and Caltech.<\/span><\/p> This damage proxy map should be used as guidance to identify damaged areas, and may be less reliable over vegetated areas. For example, the scattered colored pixels over vegetated areas may be false positives, and the lack of colored pixels over vegetated areas does not necessarily mean no damage. This map is most sensitive to building damage, but small scale change or partial structural damage may not be detected by this map.<\/span><\/p> Suggested Use:<\/span><\/p> This damage proxy map shows surface change with yellow to red indicating more significant change or building damage due to the cyclone. The damage proxy map should be used as guidance to identify damaged areas and may be less reliable over vegetated areas. The lack of colored pixels over vegetated areas does not necessarily mean no damage. Small scale change or partial structural damage may not be detected by this map.<\/span><\/p> Satellite/Sensor:<\/span><\/p> Japan Aerospace Exploration Agency (JAXA) ALOS-2 Synthetic Aperture Radar (SAR)<\/span><\/p> Resolution:<\/span><\/p> 30 meters<\/span><\/p> Credits:<\/span><\/p> ALOS-2 data were provided by Sentinel Asia. Analysed by the ARIA-SG team at the Earth Observatory of Singapore (EOS) in collaboration with NASA-JPL and Caltech. <\/span><\/p> ESRI REST Endpoint:<\/span><\/p> See URL section on right side of the page<\/span><\/p> WMS Endpoint:<\/span><\/p><\/div><\/div><\/div>",
"name": "japan_flooding_202007/aria_dpm_alos2_20200706",
"description": " Date of Images:<\/span><\/p> 7/6/2020<\/span><\/p> Date of Next Image:<\/span><\/p> Unknown<\/span><\/p> Summary:<\/span><\/p> The Advanced Rapid Imaging and Analysis (ARIA) team at NASA's Jet Propulsion Laboratory and California Institute of Technology in Pasadena, California, in collaboration with the Earth Observatory of Singapore (EOS), created this Damage Proxy Map (DPM) depicting areas that are likely damaged caused by the heavy rains and flooding in Japan. The map was derived from synthetic aperture radar (SAR) images from the JAXA ALOS-2 satellite. This map shows areas which are likely damaged in Kumamoto Prefecture, Japan due to heavy rains since 3 Jul. Damage is shown by coloured pixels of 30 m in size, where yellow to red indicates increasingly significant ground surface change before and after the event. Derived from synthetic aperture radar data acquired by the ALOS-2 satellites operated by the Japan Aerospace Exploration Agency (JAXA) before (2 Mar, 8 Jun) and after (6 Jul) the event. ALOS-2 data were provided by Sentinel Asia. Analysed by the ARIA-SG team at the Earth Observatory of Singapore (EOS) in collaboration with NASA-JPL and Caltech.<\/span><\/p> This damage proxy map should be used as guidance to identify damaged areas, and may be less reliable over vegetated areas. For example, the scattered colored pixels over vegetated areas may be false positives, and the lack of colored pixels over vegetated areas does not necessarily mean no damage. This map is most sensitive to building damage, but small scale change or partial structural damage may not be detected by this map.<\/span><\/p> Suggested Use:<\/span><\/p> This damage proxy map shows surface change with yellow to red indicating more significant change or building damage due to the cyclone. The damage proxy map should be used as guidance to identify damaged areas and may be less reliable over vegetated areas. The lack of colored pixels over vegetated areas does not necessarily mean no damage. Small scale change or partial structural damage may not be detected by this map.<\/span><\/p> Satellite/Sensor:<\/span><\/p> Japan Aerospace Exploration Agency (JAXA) ALOS-2 Synthetic Aperture Radar (SAR)<\/span><\/p> Resolution:<\/span><\/p> 30 meters<\/span><\/p> Credits:<\/span><\/p> ALOS-2 data were provided by Sentinel Asia. Analysed by the ARIA-SG team at the Earth Observatory of Singapore (EOS) in collaboration with NASA-JPL and Caltech. <\/span><\/p> ESRI REST Endpoint:<\/span><\/p> See URL section on right side of the page<\/span><\/p> WMS Endpoint:<\/span><\/p><\/div><\/div><\/div>",
"extent": {
"xmin": 130.52975669848738,
"ymin": 32.211673828180786,
"xmax": 131.24420114293181,
"ymax": 32.912507161514114,
"spatialReference": {
"wkid": 4326,
"latestWkid": 4326
}
},
"initialExtent": {
"xmin": 130.52975669848738,
"ymin": 32.211673828180786,
"xmax": 131.24420114293181,
"ymax": 32.912507161514114,
"spatialReference": {
"wkid": 4326,
"latestWkid": 4326
}
},
"fullExtent": {
"xmin": 130.52975669848738,
"ymin": 32.211673828180786,
"xmax": 131.24420114293181,
"ymax": 32.912507161514114,
"spatialReference": {
"wkid": 4326,
"latestWkid": 4326
}
},
"hasMultidimensions": false,
"pixelSizeX": 2.777777777777756E-4,
"pixelSizeY": 2.7777777777777577E-4,
"datasetFormat": "TIFF",
"uncompressedSize": 19467468,
"blockWidth": 2572,
"blockHeight": 3,
"compressionType": "PACKBITS",
"bandNames": [
"Band_1"
],
"allowCopy": true,
"allowAnalysis": true,
"bandCount": 3,
"noDataValue": 256,
"noDataValues": [
256,
256,
256
],
"pixelType": "U8",
"minPixelSize": 0,
"maxPixelSize": 0,
"copyrightText": "ARIA-SG, Earth Observatory of Singapore, NASA-JPL/Caltech ARIA Team, JAXA",
"serviceDataType": "esriImageServiceDataTypeThematic",
"serviceSourceType": "esriImageServiceSourceTypeDataset",
"minValues": [],
"maxValues": [],
"meanValues": [],
"stdvValues": [],
"objectIdField": "",
"fields": [],
"capabilities": "Mensuration,Image,Metadata",
"defaultMosaicMethod": "Center",
"allowedMosaicMethods": "",
"sortField": "",
"sortValue": null,
"sortAscending": true,
"mosaicOperator": "First",
"defaultCompressionQuality": 75,
"defaultResamplingMethod": "Nearest",
"maxImageHeight": 4100,
"maxImageWidth": 15000,
"allowRasterFunction": true,
"rasterFunctionInfos": [
{
"name": "RGB Composite",
"description": "A raster function template.",
"help": ""
},
{
"name": "None",
"description": "",
"help": ""
}
],
"rasterTypeInfos": [
{
"name": "Raster Dataset",
"description": "Supports all ArcGIS Raster Datasets",
"help": ""
}
],
"mensurationCapabilities": "Basic",
"hasHistograms": false,
"hasColormap": false,
"hasRasterAttributeTable": false,
"minScale": 0,
"maxScale": 0,
"exportTilesAllowed": false,
"supportsStatistics": false,
"supportsAdvancedQueries": false,
"editFieldsInfo": null,
"ownershipBasedAccessControlForRasters": null,
"allowComputeTiePoints": false,
"useStandardizedQueries": true,
"advancedQueryCapabilities": {
"useStandardizedQueries": true,
"supportsStatistics": false,
"supportsOrderBy": false,
"supportsDistinct": false,
"supportsPagination": false
},
"spatialReference": {
"wkid": 4326,
"latestWkid": 4326
}
}