{ "currentVersion": 10.91, "serviceDescription": "
Date of Image:<\/span><\/p> 4/11/2020<\/span><\/p> Date of Next Image:<\/span><\/p> None Expected<\/span><\/p> Summary:<\/span><\/p> In response to the 4/11/2020 Krakatau eruption, the VIIRS sensor was used to measure the Sulfur Dioxide (SO2) that was put into the atmosphere by the eruption.<\/span><\/p> Suggested Use:<\/span><\/p> This product can be used to detect how much SO2 was put into the atmosphere which could affect air quality and air travel.<\/span><\/p> Satellite/Sensor:<\/span><\/p> Suomi National Polar-Orbiting Partnership (S-NPP) Visible Infrared Imaging Radiometer Suite (VIIRS)<\/span><\/p> Resolution: 750 meters<\/span><\/p> Credits:<\/span><\/p> Vince Realmuto, NASA, NOAA<\/span><\/p><\/div><\/div><\/div>",
"name": "krakatau_202004/viirs_so2_20200411",
"description": " Date of Image:<\/span><\/p> 4/11/2020<\/span><\/p> Date of Next Image:<\/span><\/p> None Expected<\/span><\/p> Summary:<\/span><\/p> In response to the 4/11/2020 Krakatau eruption, the VIIRS sensor was used to measure the Sulfur Dioxide (SO2) that was put into the atmosphere by the eruption.<\/span><\/p> Suggested Use:<\/span><\/p> This product can be used to detect how much SO2 was put into the atmosphere which could affect air quality and air travel.<\/span><\/p> Satellite/Sensor:<\/span><\/p> Suomi National Polar-Orbiting Partnership (S-NPP) Visible Infrared Imaging Radiometer Suite (VIIRS)<\/span><\/p> Resolution: 750 meters<\/span><\/p> Credits:<\/span><\/p> Vince Realmuto, NASA, NOAA<\/span><\/p><\/div><\/div><\/div>",
"extent": {
"xmin": -1579483.258,
"ymin": -1130177.5330000003,
"xmax": 2024137.742,
"ymax": 1679269.667,
"spatialReference": {
"wkid": 32647,
"latestWkid": 32647
}
},
"initialExtent": {
"xmin": -1579483.258,
"ymin": -1130177.5330000003,
"xmax": 2024137.742,
"ymax": 1679269.667,
"spatialReference": {
"wkid": 32647,
"latestWkid": 32647
}
},
"fullExtent": {
"xmin": -1579483.258,
"ymin": -1130177.5330000003,
"xmax": 2024137.742,
"ymax": 1679269.667,
"spatialReference": {
"wkid": 32647,
"latestWkid": 32647
}
},
"hasMultidimensions": false,
"pixelSizeX": 765.1,
"pixelSizeY": 765.1,
"datasetFormat": "TIFF",
"uncompressedSize": 69180480,
"blockWidth": 4710,
"blockHeight": 1,
"compressionType": "None",
"bandNames": [
"Band_1"
],
"allowCopy": true,
"allowAnalysis": true,
"bandCount": 1,
"pixelType": "F32",
"minPixelSize": 0,
"maxPixelSize": 0,
"copyrightText": "Vince Realmuto, NASA, NOAA",
"serviceDataType": "esriImageServiceDataTypeGeneric",
"serviceSourceType": "esriImageServiceSourceTypeDataset",
"minValues": [],
"maxValues": [],
"meanValues": [],
"stdvValues": [],
"objectIdField": "",
"fields": [],
"capabilities": "Mensuration,Image,Metadata",
"defaultMosaicMethod": "Center",
"allowedMosaicMethods": "",
"sortField": "",
"sortValue": null,
"sortAscending": true,
"mosaicOperator": "First",
"defaultCompressionQuality": 75,
"defaultResamplingMethod": "Nearest",
"maxImageHeight": 4100,
"maxImageWidth": 15000,
"allowRasterFunction": true,
"rasterFunctionInfos": [
{
"name": "viirs_so2_krakatua",
"description": "A raster function template.",
"help": ""
},
{
"name": "None",
"description": "",
"help": ""
}
],
"rasterTypeInfos": [
{
"name": "Raster Dataset",
"description": "Supports all ArcGIS Raster Datasets",
"help": ""
}
],
"mensurationCapabilities": "Basic",
"hasHistograms": false,
"hasColormap": false,
"hasRasterAttributeTable": false,
"minScale": 0,
"maxScale": 0,
"exportTilesAllowed": false,
"supportsStatistics": false,
"supportsAdvancedQueries": false,
"editFieldsInfo": null,
"ownershipBasedAccessControlForRasters": null,
"allowComputeTiePoints": false,
"useStandardizedQueries": true,
"advancedQueryCapabilities": {
"useStandardizedQueries": true,
"supportsStatistics": false,
"supportsOrderBy": false,
"supportsDistinct": false,
"supportsPagination": false
},
"spatialReference": {
"wkid": 32647,
"latestWkid": 32647
}
}