{ "currentVersion": 10.91, "serviceDescription": "

NOTE: <\/SPAN>This DPM should only be used over urban ares and is not expected to be reliable over vegetated areas where false negatives are to be expected. Ashfall or pyroclastic flow over vegetation are not dected in this DPM.<\/SPAN><\/P>
Date of Image:<\/SPAN><\/P>
4/12/2021<\/SPAN><\/P>
Date of Next Image:<\/SPAN><\/P>
Unknown:<\/SPAN><\/P>
Summary:<\/SPAN><\/P>
The Advanced Rapid Imaging and Analysis (ARIA) team at NASA's Jet Propulsion Laboratory and California Institute of Technology in Southern California, in collaboration with the Earth Observatory of Singapore (EOS), created this Damage Proxy Map (DPM) depicting areas in St. Vincent and the Grenadines that are likely damaged (shown by red and yellow pixels) by the ashfall from the explosive eruption of La Soufriere volcano. The map is derived from synthetic aperture radar (SAR) images acquired by the Copernicus Sentinel-1 satellites, operated by the European Space Agency (ESA), from March 31 to April 12, 2021. <\/SPAN><\/P>
The map covers an area of 24 by 46 miles (38 by 74 kilometers), shown by the large red polygon. Each pixel measures about 33 yards (30 meters) across. The color variation from yellow to red indicates increasingly more significant ground surface change. This damage proxy map should be used as guidance to identify damaged areas, and may be less reliable over vegetated areas. For example, the scattered single colored pixels over vegetated areas may be false positives, and the lack of colored pixels over vegetated areas does not necessarily mean no damage. <\/SPAN><\/P>
Suggested Use:<\/SPAN><\/P>
This damage proxy map shows surface change with yellow to red indicating more significant change or building damage due to the explosion. The map may be less reliable over vegetated areas. The lack of colored pixels over vegetated areas does not necessarily mean no damage. Small scale change or partial structural damage may not be detected by this map.<\/SPAN><\/P>
NOTE: This DPM should only be used over urban ares and is not expected to be reliable over vegetated areas where false negatives are to be expected. Ashfall or pyroclastic flow over vegetation are not dected in this DPM.<\/SPAN><\/P>
Satellite/Sensor:<\/SPAN><\/P>
Copernicus Sentinel-1 Synthetic Aperture Radar (SAR)<\/SPAN><\/P>
Resolution:<\/SPAN><\/P>
30 meters<\/SPAN><\/P>
Credits:<\/SPAN><\/P>
Sentinel-1 data were accessed through the Copernicus Open Hub and the Alaska Satellite Facility server. The product contains modified Copernicus Sentinel data (2021), processed by ESA and analyzed by the NASA-JPL/Caltech ARIA team and EOS team. Part of the fund was provided by NASA's Earth Science Disasters Program.<\/SPAN><\/P>
Esri REST Endpoint:<\/SPAN><\/P>
See URL section on right side of page<\/SPAN><\/P>
WMS Endpoint:<\/SPAN><\/P>
Data Download:<\/SPAN><\/P>
https://aria-share.jpl.nasa.gov/20210409-LaSoufriere_volcano/<\/SPAN><\/A><\/P><\/DIV><\/DIV><\/DIV>", "name": "la_sourfriere_eruption_2021/aria_dpm_sentinel1_20210412", "description": "

NOTE: <\/SPAN>This DPM should only be used over urban ares and is not expected to be reliable over vegetated areas where false negatives are to be expected. Ashfall or pyroclastic flow over vegetation are not dected in this DPM.<\/SPAN><\/P>
Date of Image:<\/SPAN><\/P>
4/12/2021<\/SPAN><\/P>
Date of Next Image:<\/SPAN><\/P>
Unknown:<\/SPAN><\/P>
Summary:<\/SPAN><\/P>
The Advanced Rapid Imaging and Analysis (ARIA) team at NASA's Jet Propulsion Laboratory and California Institute of Technology in Southern California, in collaboration with the Earth Observatory of Singapore (EOS), created this Damage Proxy Map (DPM) depicting areas in St. Vincent and the Grenadines that are likely damaged (shown by red and yellow pixels) by the ashfall from the explosive eruption of La Soufriere volcano. The map is derived from synthetic aperture radar (SAR) images acquired by the Copernicus Sentinel-1 satellites, operated by the European Space Agency (ESA), from March 31 to April 12, 2021. <\/SPAN><\/P>
The map covers an area of 24 by 46 miles (38 by 74 kilometers), shown by the large red polygon. Each pixel measures about 33 yards (30 meters) across. The color variation from yellow to red indicates increasingly more significant ground surface change. This damage proxy map should be used as guidance to identify damaged areas, and may be less reliable over vegetated areas. For example, the scattered single colored pixels over vegetated areas may be false positives, and the lack of colored pixels over vegetated areas does not necessarily mean no damage. <\/SPAN><\/P>
Suggested Use:<\/SPAN><\/P>
This damage proxy map shows surface change with yellow to red indicating more significant change or building damage due to the explosion. The map may be less reliable over vegetated areas. The lack of colored pixels over vegetated areas does not necessarily mean no damage. Small scale change or partial structural damage may not be detected by this map.<\/SPAN><\/P>
NOTE: This DPM should only be used over urban ares and is not expected to be reliable over vegetated areas where false negatives are to be expected. Ashfall or pyroclastic flow over vegetation are not dected in this DPM.<\/SPAN><\/P>
Satellite/Sensor:<\/SPAN><\/P>
Copernicus Sentinel-1 Synthetic Aperture Radar (SAR)<\/SPAN><\/P>
Resolution:<\/SPAN><\/P>
30 meters<\/SPAN><\/P>
Credits:<\/SPAN><\/P>
Sentinel-1 data were accessed through the Copernicus Open Hub and the Alaska Satellite Facility server. The product contains modified Copernicus Sentinel data (2021), processed by ESA and analyzed by the NASA-JPL/Caltech ARIA team and EOS team. Part of the fund was provided by NASA's Earth Science Disasters Program.<\/SPAN><\/P>
Esri REST Endpoint:<\/SPAN><\/P>
See URL section on right side of page<\/SPAN><\/P>
WMS Endpoint:<\/SPAN><\/P>
Data Download:<\/SPAN><\/P>
https://aria-share.jpl.nasa.gov/20210409-LaSoufriere_volcano/<\/SPAN><\/A><\/P><\/DIV><\/DIV><\/DIV>", "extent": { "xmin": -61.309864134, "ymin": 13.100111486, "xmax": -61.077086064, "ymax": 13.407334747, "spatialReference": { "wkid": 4326, "latestWkid": 4326 } }, "initialExtent": { "xmin": -61.309864134, "ymin": 13.100111486, "xmax": -61.077086064, "ymax": 13.407334747, "spatialReference": { "wkid": 4326, "latestWkid": 4326 } }, "fullExtent": { "xmin": -61.309864134, "ymin": 13.100111486, "xmax": -61.077086064, "ymax": 13.407334747, "spatialReference": { "wkid": 4326, "latestWkid": 4326 } }, "hasMultidimensions": false, "pixelSizeX": 2.777781264916491E-4, "pixelSizeY": 2.777787169981924E-4, "datasetFormat": "TIFF", "uncompressedSize": 3707312, "blockWidth": 838, "blockHeight": 2, "compressionType": "None", "bandNames": [ "Band_1", "Band_2", "Band_3", "Band_4" ], "allowCopy": true, "allowAnalysis": true, "bandCount": 4, "pixelType": "U8", "minPixelSize": 0, "maxPixelSize": 0, "copyrightText": "NASA-JPL/Caltech ARIA Team, Earth Observatory of Singapore, ESA, Copernicus", "serviceDataType": "esriImageServiceDataTypeGeneric", "serviceSourceType": "esriImageServiceSourceTypeDataset", "minValues": [], "maxValues": [], "meanValues": [], "stdvValues": [], "objectIdField": "", "fields": [], "capabilities": "Image,Metadata,Mensuration", "defaultMosaicMethod": "Center", "allowedMosaicMethods": "", "sortField": "", "sortValue": null, "sortAscending": true, "mosaicOperator": "First", "defaultCompressionQuality": 75, "defaultResamplingMethod": "Nearest", "maxImageHeight": 4100, "maxImageWidth": 15000, "allowRasterFunction": true, "rasterFunctionInfos": [ { "name": "RGB Composite", "description": "A raster function template.", "help": "" }, { "name": "None", "description": "", "help": "" } ], "rasterTypeInfos": [ { "name": "Raster Dataset", "description": "Supports all ArcGIS Raster Datasets", "help": "" } ], "mensurationCapabilities": "Basic", "hasHistograms": false, "hasColormap": false, "hasRasterAttributeTable": false, "minScale": 0, "maxScale": 0, "exportTilesAllowed": false, "supportsStatistics": false, "supportsAdvancedQueries": false, "editFieldsInfo": null, "ownershipBasedAccessControlForRasters": null, "allowComputeTiePoints": false, "useStandardizedQueries": true, "advancedQueryCapabilities": { "useStandardizedQueries": true, "supportsStatistics": false, "supportsOrderBy": false, "supportsDistinct": false, "supportsPagination": false }, "spatialReference": { "wkid": 4326, "latestWkid": 4326 } }