{ "currentVersion": 10.91, "serviceDescription": "

Dates of Images:<\/SPAN><\/P>
4/8/2021 - ongoing<\/SPAN><\/P>
<\/P>
Date of Next Image:<\/SPAN><\/P>
Daily as possible<\/SPAN><\/P>
<\/P>
Summary:<\/SPAN><\/P>
The eruption of the La Soufriere volcano ejected ash and aerosols into the atmosphere. Utilizing the OMPS sensor on Suomi-NPP, NASA scientists can measure the sulfur dioxide (SO2) concentration from the eruption. SO2 is often used as a proxy for the location of volcanic ash. High concentrations of SO2 can also be hazardous to human health and air travel. This layer measures the concentration in the Planetary Boundary Layer, which is the lowest section of the troposphere. <\/SPAN><\/P>
<\/P>
Suggested Use:<\/SPAN><\/P>
Yellow to brown indicates higher sulfur dioxide (SO2) concentrations<\/SPAN><\/P>
<\/P>
Satellite/Sensor:<\/SPAN><\/P>
Suomi-NPP Ozone Mapping Profiler Suite (OMPS)<\/SPAN><\/P>
<\/P>
Resolution:<\/SPAN><\/P>
50 kilometers<\/SPAN><\/P>
<\/P>
Credits:<\/SPAN><\/P>
NASA's Disasters Program, LANCE.<\/SPAN><\/P>
Data and/or imagery from NASA's Land, Atmosphere Near real-time Capability for EOS (LANCE) system (<\/SPAN>https://earthdata.nasa.gov/lance<\/SPAN><\/A>), part of NASA's Earth Observing System Data and Information System (EOSDIS).<\/SPAN><\/P>
<\/P>
Esri REST Endpoint:<\/SPAN><\/P>
See URL Section on right side of page<\/SPAN><\/P>
<\/P>
WMS Endpoint:<\/SPAN><\/P>
<\/P>
Data Download:<\/SPAN><\/P>
https://maps.disasters.nasa.gov/download/gis_products/event_specific/2021/la_soufriere_eruption/omps/so2_pbl/<\/SPAN><\/A><\/P><\/DIV><\/DIV><\/DIV>", "name": "la_sourfriere_eruption_2021/omps_so2_pbl", "description": "

Dates of Images:<\/SPAN><\/P>
4/8/2021 - ongoing<\/SPAN><\/P>
<\/P>
Date of Next Image:<\/SPAN><\/P>
Daily as possible<\/SPAN><\/P>
<\/P>
Summary:<\/SPAN><\/P>
The eruption of the La Soufriere volcano ejected ash and aerosols into the atmosphere. Utilizing the OMPS sensor on Suomi-NPP, NASA scientists can measure the sulfur dioxide (SO2) concentration from the eruption. SO2 is often used as a proxy for the location of volcanic ash. High concentrations of SO2 can also be hazardous to human health and air travel. This layer measures the concentration in the Planetary Boundary Layer, which is the lowest section of the troposphere. <\/SPAN><\/P>
<\/P>
Suggested Use:<\/SPAN><\/P>
Yellow to brown indicates higher sulfur dioxide (SO2) concentrations<\/SPAN><\/P>
<\/P>
Satellite/Sensor:<\/SPAN><\/P>
Suomi-NPP Ozone Mapping Profiler Suite (OMPS)<\/SPAN><\/P>
<\/P>
Resolution:<\/SPAN><\/P>
50 kilometers<\/SPAN><\/P>
<\/P>
Credits:<\/SPAN><\/P>
NASA's Disasters Program, LANCE.<\/SPAN><\/P>
Data and/or imagery from NASA's Land, Atmosphere Near real-time Capability for EOS (LANCE) system (<\/SPAN>https://earthdata.nasa.gov/lance<\/SPAN><\/A>), part of NASA's Earth Observing System Data and Information System (EOSDIS).<\/SPAN><\/P>
<\/P>
Esri REST Endpoint:<\/SPAN><\/P>
See URL Section on right side of page<\/SPAN><\/P>
<\/P>
WMS Endpoint:<\/SPAN><\/P>
<\/P>
Data Download:<\/SPAN><\/P>
https://maps.disasters.nasa.gov/download/gis_products/event_specific/2021/la_soufriere_eruption/omps/so2_pbl/<\/SPAN><\/A><\/P><\/DIV><\/DIV><\/DIV>", "extent": { "xmin": -2.0037507842788246E7, "ymin": -3.024097145838615E7, "xmax": 2.0037507842788246E7, "ymax": 3.024097145838615E7, "spatialReference": { "wkid": 102100, "latestWkid": 3857 } }, "initialExtent": { "xmin": -2.0037507842788246E7, "ymin": -3.024097145838615E7, "xmax": 2.0037507842788246E7, "ymax": 3.024097145838615E7, "spatialReference": { "wkid": 102100, "latestWkid": 3857 } }, "fullExtent": { "xmin": -2.0037507842788246E7, "ymin": -3.024097145838615E7, "xmax": 2.0037507842788246E7, "ymax": 3.024097145838615E7, "spatialReference": { "wkid": 102100, "latestWkid": 3857 } }, "hasMultidimensions": false, "timeInfo": { "startTimeField": "Date", "endTimeField": "Date", "timeExtent": [ 1617851398000, 1619147583000 ], "timeReference": null, "defaultTimeInterval": 1, "defaultTimeIntervalUnits": "esriTimeUnitsDays" }, "pixelSizeX": 27829.872003872562, "pixelSizeY": 27820.580918478518, "datasetFormat": "AMD", "uncompressedSize": 12522240, "blockWidth": 2048, "blockHeight": 256, "compressionType": "None", "bandNames": [ "Band_1" ], "allowCopy": true, "allowAnalysis": true, "bandCount": 1, "pixelType": "F32", "minPixelSize": 0, "maxPixelSize": 0, "copyrightText": "NASA Disasters Program, LANCE", "serviceDataType": "esriImageServiceDataTypeGeneric", "serviceSourceType": "esriImageServiceSourceTypeMosaicDataset", "minValues": [ 0.5000011920928955 ], "maxValues": [ 236.9312286376953 ], "meanValues": [ 0.9724900144890004 ], "stdvValues": [ 2.938279413485682 ], "objectIdField": "OBJECTID", "fields": [ { "name": "OBJECTID", "type": "esriFieldTypeOID", "alias": "OBJECTID", "domain": null }, { "name": "Shape", "type": "esriFieldTypeGeometry", "alias": "Shape", "domain": null }, { "name": "Name", "type": "esriFieldTypeString", "alias": "Name", "domain": null, "length": 200 }, { "name": "MinPS", "type": "esriFieldTypeDouble", "alias": "MinPS", "domain": null }, { "name": "MaxPS", "type": "esriFieldTypeDouble", "alias": "MaxPS", "domain": null }, { "name": "LowPS", "type": "esriFieldTypeDouble", "alias": "LowPS", "domain": null }, { "name": "HighPS", "type": "esriFieldTypeDouble", "alias": "HighPS", "domain": null }, { "name": "Category", "type": "esriFieldTypeInteger", "alias": "Category", "domain": { "type": "codedValue", "name": "MosaicCatalogItemCategoryDomain", "description": "Catalog item categories.", "codedValues": [ { "name": "Unknown", "code": 0 }, { "name": "Primary", "code": 1 }, { "name": "Overview", "code": 2 }, { "name": "Unprocessed Overview", "code": 3 }, { "name": "Partial Overview", "code": 4 }, { "name": "Inactive", "code": 5 }, { "name": "Uploaded", "code": 253 }, { "name": "Incomplete", "code": 254 }, { "name": "Custom", "code": 255 } ], "mergePolicy": "esriMPTDefaultValue", "splitPolicy": "esriSPTDefaultValue" } }, { "name": "Tag", "type": "esriFieldTypeString", "alias": "Tag", "domain": null, "length": 100 }, { "name": "GroupName", "type": "esriFieldTypeString", "alias": "GroupName", "domain": null, "length": 100 }, { "name": "ProductName", "type": "esriFieldTypeString", "alias": "ProductName", "domain": null, "length": 100 }, { "name": "CenterX", "type": "esriFieldTypeDouble", "alias": "CenterX", "domain": null }, { "name": "CenterY", "type": "esriFieldTypeDouble", "alias": "CenterY", "domain": null }, { "name": "ZOrder", "type": "esriFieldTypeInteger", "alias": "ZOrder", "domain": null }, { "name": "Shape_Length", "type": "esriFieldTypeDouble", "alias": "Shape_Length", "domain": null }, { "name": "Shape_Area", "type": "esriFieldTypeDouble", "alias": "Shape_Area", "domain": null }, { "name": "Date", "type": "esriFieldTypeDate", "alias": "Date", "domain": null, "length": 8 } ], "capabilities": "Image,Metadata,Catalog,Mensuration", "defaultMosaicMethod": "Northwest", "allowedMosaicMethods": "NorthWest,Center,LockRaster,ByAttribute,Nadir,Viewpoint,Seamline,None", "sortField": "", "sortValue": null, "sortAscending": true, "mosaicOperator": "First", "maxDownloadSizeLimit": 2048, "defaultCompressionQuality": 75, "defaultResamplingMethod": "Nearest", "maxImageHeight": 4100, "maxImageWidth": 15000, "maxRecordCount": 1000, "maxDownloadImageCount": 20, "maxMosaicImageCount": 20, "allowRasterFunction": true, "rasterFunctionInfos": [ { "name": "omps_aerosol_index_ak_wildfires2019", "description": "A raster function template.", "help": "" }, { "name": "None", "description": "A No-Op Function.", "help": "" } ], "rasterTypeInfos": [ { "name": "Raster Dataset", "description": "Supports all ArcGIS Raster Datasets", "help": "" } ], "mensurationCapabilities": "Basic", "hasHistograms": true, "hasColormap": false, "hasRasterAttributeTable": false, "minScale": 0, "maxScale": 0, "exportTilesAllowed": false, "supportsStatistics": true, "supportsAdvancedQueries": true, "editFieldsInfo": null, "ownershipBasedAccessControlForRasters": null, "allowComputeTiePoints": false, "useStandardizedQueries": true, "advancedQueryCapabilities": { "useStandardizedQueries": true, "supportsStatistics": true, "supportsOrderBy": true, "supportsDistinct": true, "supportsPagination": true }, "spatialReference": { "wkid": 102100, "latestWkid": 3857 } }