{ "currentVersion": 10.91, "serviceDescription": "
Dates of Image:<\/span><\/p> Numerous Dates in May-August 2020<\/span><\/p> Date of Next Image:<\/span><\/p> None<\/span><\/p> Summary:<\/span><\/p> The Advanced Rapid Imaging and Analysis (ARIA) team at NASA's Jet Propulsion Laboratory (JPL) and California Institute of Technology (Caltech), California, in collaboration with the Earth Observatory of Singapore (EOS), created this Damage Proxy Map (DPM) depicting areas that are likely damaged caused by the ammonium nitrate blast in Beirut, Lebanon, on Aug 4, 2020. The map was derived from synthetic aperture radar (SAR) images from the Copernicus Sentinel-1 satellites, operated by the European Space Agency (ESA). The team compared before and after SAR data acquired from four different Sentinel-1 tracks since May 1, 2020. <\/span><\/p> Each pixel measures about 10 meters across. The color variation from yellow to red indicates increasingly more significant surface change. Preliminary validation was done by comparing with the DigitalGlobe optical satellite imagery. This damage proxy map should be used as guidance to identify potentially damaged areas, and may be less reliable over vegetated areas. For example, the scattered colored pixels over vegetated areas may be false positives, and the lack of colored pixels over vegetated areas does not necessarily mean no damage. This map is most sensitive to building damage, but small scale change or partial structural damage may not be detected by this map. <\/span><\/p> Suggested Use:<\/span><\/p> This damage proxy map shows surface change with yellow to red indicating more significant change or building damage due to the explosion. The map may be less reliable over vegetated areas. The lack of colored pixels over vegetated areas does not necessarily mean no damage. Small scale change or partial structural damage may not be detected by this map<\/span><\/p> Satellite/Sensor:<\/span><\/p> Copernicus Sentinel-1 Synthetic Aperture Radar (SAR)<\/span><\/p> Resolution:<\/span><\/p> 10 meters<\/span><\/p> Credits:<\/span><\/p> Contains modified Copernicus Sentinel data, processed by ESA. Analyzed by the NASA-JPL/Caltech ARIA team. This task was carried out at JPL funded by NASA Disasters Program. <\/span><\/p> Esri REST Endpoint:<\/span><\/p> See URL Section on right side of page<\/span><\/p><\/div><\/div><\/div>",
"name": "lebanon_explosion_202008/aria_dpm_10m_sentinel1",
"description": " Dates of Image:<\/span><\/p> Numerous Dates in May-August 2020<\/span><\/p> Date of Next Image:<\/span><\/p> None<\/span><\/p> Summary:<\/span><\/p> The Advanced Rapid Imaging and Analysis (ARIA) team at NASA's Jet Propulsion Laboratory (JPL) and California Institute of Technology (Caltech), California, in collaboration with the Earth Observatory of Singapore (EOS), created this Damage Proxy Map (DPM) depicting areas that are likely damaged caused by the ammonium nitrate blast in Beirut, Lebanon, on Aug 4, 2020. The map was derived from synthetic aperture radar (SAR) images from the Copernicus Sentinel-1 satellites, operated by the European Space Agency (ESA). The team compared before and after SAR data acquired from four different Sentinel-1 tracks since May 1, 2020. <\/span><\/p> Each pixel measures about 10 meters across. The color variation from yellow to red indicates increasingly more significant surface change. Preliminary validation was done by comparing with the DigitalGlobe optical satellite imagery. This damage proxy map should be used as guidance to identify potentially damaged areas, and may be less reliable over vegetated areas. For example, the scattered colored pixels over vegetated areas may be false positives, and the lack of colored pixels over vegetated areas does not necessarily mean no damage. This map is most sensitive to building damage, but small scale change or partial structural damage may not be detected by this map. <\/span><\/p> Suggested Use:<\/span><\/p> This damage proxy map shows surface change with yellow to red indicating more significant change or building damage due to the explosion. The map may be less reliable over vegetated areas. The lack of colored pixels over vegetated areas does not necessarily mean no damage. Small scale change or partial structural damage may not be detected by this map<\/span><\/p> Satellite/Sensor:<\/span><\/p> Copernicus Sentinel-1 Synthetic Aperture Radar (SAR)<\/span><\/p> Resolution:<\/span><\/p> 10 meters<\/span><\/p> Credits:<\/span><\/p> Contains modified Copernicus Sentinel data, processed by ESA. Analyzed by the NASA-JPL/Caltech ARIA team. This task was carried out at JPL funded by NASA Disasters Program. <\/span><\/p> Esri REST Endpoint:<\/span><\/p> See URL Section on right side of page<\/span><\/p><\/div><\/div><\/div>",
"extent": {
"xmin": 35.46,
"ymin": 33.81,
"xmax": 35.6,
"ymax": 33.952,
"spatialReference": {
"wkid": 4326,
"latestWkid": 4326
}
},
"initialExtent": {
"xmin": 35.46,
"ymin": 33.81,
"xmax": 35.6,
"ymax": 33.952,
"spatialReference": {
"wkid": 4326,
"latestWkid": 4326
}
},
"fullExtent": {
"xmin": 35.46,
"ymin": 33.81,
"xmax": 35.6,
"ymax": 33.952,
"spatialReference": {
"wkid": 4326,
"latestWkid": 4326
}
},
"hasMultidimensions": false,
"pixelSizeX": 9.259259259259297E-5,
"pixelSizeY": 9.256844850064922E-5,
"datasetFormat": "TIFF",
"uncompressedSize": 9277632,
"blockWidth": 1512,
"blockHeight": 1,
"compressionType": "None",
"bandNames": [
"Band_1",
"Band_2",
"Band_3",
"Band_4"
],
"allowCopy": true,
"allowAnalysis": true,
"bandCount": 4,
"pixelType": "U8",
"minPixelSize": 0,
"maxPixelSize": 0,
"copyrightText": "NASA-JPL/Caltech ARIA team, ESA, Copernicus",
"serviceDataType": "esriImageServiceDataTypeGeneric",
"serviceSourceType": "esriImageServiceSourceTypeDataset",
"minValues": [],
"maxValues": [],
"meanValues": [],
"stdvValues": [],
"objectIdField": "",
"fields": [],
"capabilities": "Mensuration,Image,Metadata",
"defaultMosaicMethod": "Center",
"allowedMosaicMethods": "",
"sortField": "",
"sortValue": null,
"sortAscending": true,
"mosaicOperator": "First",
"defaultCompressionQuality": 75,
"defaultResamplingMethod": "Nearest",
"maxImageHeight": 4100,
"maxImageWidth": 15000,
"allowRasterFunction": true,
"rasterFunctionInfos": [
{
"name": "RGB Composite",
"description": "A raster function template.",
"help": ""
},
{
"name": "None",
"description": "",
"help": ""
}
],
"rasterTypeInfos": [
{
"name": "Raster Dataset",
"description": "Supports all ArcGIS Raster Datasets",
"help": ""
}
],
"mensurationCapabilities": "Basic",
"hasHistograms": false,
"hasColormap": false,
"hasRasterAttributeTable": false,
"minScale": 0,
"maxScale": 0,
"exportTilesAllowed": false,
"supportsStatistics": false,
"supportsAdvancedQueries": false,
"editFieldsInfo": null,
"ownershipBasedAccessControlForRasters": null,
"allowComputeTiePoints": false,
"useStandardizedQueries": true,
"advancedQueryCapabilities": {
"useStandardizedQueries": true,
"supportsStatistics": false,
"supportsOrderBy": false,
"supportsDistinct": false,
"supportsPagination": false
},
"spatialReference": {
"wkid": 4326,
"latestWkid": 4326
}
}