{
 "currentVersion": 10.91,
 "serviceDescription": "Dates of Image:8/4/2020 and 8/5/2020Date of Next Image:NoneSummary:The Advanced Rapid Imaging and Analysis (ARIA) team at NASA's Jet Propulsion Laboratory and California Institute of Technology in Pasadena, California, in collaboration with the Earth Observatory of Singapore (EOS), created this Damage Proxy Map (DPM) depicting areas that are likely damaged caused by the explosion in Lebanon. The map was derived from synthetic aperture radar (SAR) images from the Copernicus Sentinel-1 satellites, operated by the European Space Agency (ESA). This preliminary map shows areas which are likely damaged in Lebanon, due to an explosion. Derived from synthetic aperture radar data acquired by the Copernicus Sentinel-1 satellites operated by the European Space Agency (ESA) before (29-30 Jul) and after (4-5 Aug) the event. It is validated using satellite imagery from DigitalGlobe.This damage proxy map should be used as guidance to identify damaged areas, and may be less reliable over vegetated areas. For example, the scattered colored pixels over vegetated areas may be false positives, and the lack of colored pixels over vegetated areas does not necessarily mean no damage. This map is most sensitive to building damage, but small scale change or partial structural damage may not be detected by this map.Suggested Use:This damage proxy map shows surface change with yellow to red indicating more significant change or building damage due to the explosion. The damage proxy map should be used as guidance to identify damaged areas and may be less reliable over vegetated areas. The lack of colored pixels over vegetated areas does not necessarily mean no damage. Small scale change or partial structural damage may not be detected by this map.Satellite/Sensor:Copernicus Sentinel-1 Synthetic Aperture Radar (SAR)Resolution:30 metersCredits:The image contains modified Copernicus Sentinel data (2020), analyzed by the ARIA-SG team at the Earth Observatory of Singapore (EOS) in collaboration with NASA-JPL/Caltech ARIA team.Esri REST Endpoint:See URL Section on right side of pageWMS Endpoint:",
 "name": "lebanon_explosion_202008/aria_dpm_sentinel1_20200805",
 "description": "Dates of Image:8/4/2020 and 8/5/2020Date of Next Image:NoneSummary:The Advanced Rapid Imaging and Analysis (ARIA) team at NASA's Jet Propulsion Laboratory and California Institute of Technology in Pasadena, California, in collaboration with the Earth Observatory of Singapore (EOS), created this Damage Proxy Map (DPM) depicting areas that are likely damaged caused by the explosion in Lebanon. The map was derived from synthetic aperture radar (SAR) images from the Copernicus Sentinel-1 satellites, operated by the European Space Agency (ESA). This preliminary map shows areas which are likely damaged in Lebanon, due to an explosion. Derived from synthetic aperture radar data acquired by the Copernicus Sentinel-1 satellites operated by the European Space Agency (ESA) before (29-30 Jul) and after (4-5 Aug) the event. It is validated using satellite imagery from DigitalGlobe.This damage proxy map should be used as guidance to identify damaged areas, and may be less reliable over vegetated areas. For example, the scattered colored pixels over vegetated areas may be false positives, and the lack of colored pixels over vegetated areas does not necessarily mean no damage. This map is most sensitive to building damage, but small scale change or partial structural damage may not be detected by this map.Suggested Use:This damage proxy map shows surface change with yellow to red indicating more significant change or building damage due to the explosion. The damage proxy map should be used as guidance to identify damaged areas and may be less reliable over vegetated areas. The lack of colored pixels over vegetated areas does not necessarily mean no damage. Small scale change or partial structural damage may not be detected by this map.Satellite/Sensor:Copernicus Sentinel-1 Synthetic Aperture Radar (SAR)Resolution:30 metersCredits:The image contains modified Copernicus Sentinel data (2020), analyzed by the ARIA-SG team at the Earth Observatory of Singapore (EOS) in collaboration with NASA-JPL/Caltech ARIA team.Esri REST Endpoint:See URL Section on right side of pageWMS Endpoint:",
 "extent": {
  "xmin": 34.82586283254066,
  "ymin": 33.702614868992306,
  "xmax": 35.81169616587398,
  "ymax": 34.03650375788119,
  "spatialReference": {
   "wkid": 4326,
   "latestWkid": 4326
  }
 },
 "initialExtent": {
  "xmin": 34.82586283254066,
  "ymin": 33.702614868992306,
  "xmax": 35.81169616587398,
  "ymax": 34.03650375788119,
  "spatialReference": {
   "wkid": 4326,
   "latestWkid": 4326
  }
 },
 "fullExtent": {
  "xmin": 34.82586283254066,
  "ymin": 33.702614868992306,
  "xmax": 35.81169616587398,
  "ymax": 34.03650375788119,
  "spatialReference": {
   "wkid": 4326,
   "latestWkid": 4326
  }
 },
 "hasMultidimensions": false,
 "pixelSizeX": 2.777777777777754E-4,
 "pixelSizeY": 2.777777777777754E-4,
 "datasetFormat": "TIFF",
 "uncompressedSize": 12797694,
 "blockWidth": 3549,
 "blockHeight": 2,
 "compressionType": "PACKBITS",
 "bandNames": [
  "Band_1"
 ],
 "allowCopy": true,
 "allowAnalysis": true,
 "bandCount": 3,
 "noDataValue": 256,
 "noDataValues": [
  256,
  256,
  256
 ],
 "pixelType": "U8",
 "minPixelSize": 0,
 "maxPixelSize": 0,
 "copyrightText": "ARIA-SG, Earth Observatory of Singapore, NASA-JPL/Caltech ARIA team, ESA, Copernicus",
 "serviceDataType": "esriImageServiceDataTypeThematic",
 "serviceSourceType": "esriImageServiceSourceTypeDataset",
 "minValues": [],
 "maxValues": [],
 "meanValues": [],
 "stdvValues": [],
 "objectIdField": "",
 "fields": [],
 "capabilities": "Mensuration,Image,Metadata",
 "defaultMosaicMethod": "Center",
 "allowedMosaicMethods": "",
 "sortField": "",
 "sortValue": null,
 "sortAscending": true,
 "mosaicOperator": "First",
 "defaultCompressionQuality": 75,
 "defaultResamplingMethod": "Nearest",
 "maxImageHeight": 4100,
 "maxImageWidth": 15000,
 "allowRasterFunction": true,
 "rasterFunctionInfos": [
  {
   "name": "RGB Composite",
   "description": "A raster function template.",
   "help": ""
  },
  {
   "name": "None",
   "description": "",
   "help": ""
  }
 ],
 "rasterTypeInfos": [
  {
   "name": "Raster Dataset",
   "description": "Supports all ArcGIS Raster Datasets",
   "help": ""
  }
 ],
 "mensurationCapabilities": "Basic",
 "hasHistograms": false,
 "hasColormap": false,
 "hasRasterAttributeTable": false,
 "minScale": 0,
 "maxScale": 0,
 "exportTilesAllowed": false,
 "supportsStatistics": false,
 "supportsAdvancedQueries": false,
 "editFieldsInfo": null,
 "ownershipBasedAccessControlForRasters": null,
 "allowComputeTiePoints": false,
 "useStandardizedQueries": true,
 "advancedQueryCapabilities": {
  "useStandardizedQueries": true,
  "supportsStatistics": false,
  "supportsOrderBy": false,
  "supportsDistinct": false,
  "supportsPagination": false
 },
 "spatialReference": {
  "wkid": 4326,
  "latestWkid": 4326
 }
}
