Date of Image:<\/span><\/p>12/4/2022<\/span><\/p>Date of Next Image:<\/span><\/p>Unknown<\/span><\/p>Summary<\/span>:<\/span><\/p>The Advanced Rapid Imaging and Analysis (ARIA) team at NASA's Jet Propulsion Laboratory and California Institute of Technology in Southern California created this Damage Proxy Map (DPM) depicting areas that are likely damaged by the Mauna Loa's lava flow (November-December 10, 2022) in Hawaii, US. The map was derived from synthetic aperture radar (SAR) images on Dec. 04, 2022 by the Copernicus Sentinel-1 satellites operated by the European Space Agency (ESA). The pre-event images were taken on Nov. 10, 2022 and Nov. 22, 2022. <\/span><\/p>Suggested Use:<\/span><\/p>The color variation from pale yellow to red indicates increasingly more significant surface change (drop in radar reflection coherence). Preliminary validation was done by comparing with the Media reports and other images.<\/span><\/p>This damage proxy map should be used as guidance to identify damaged areas, and may be less reliable over vegetated areas. In this case, the damage signal is due almost entirely to new lava flows and volcanic tephra (ash) deposits near the summit of Mauna Loa that covered the surface from the start of the eruption until December 4. The scattered colored pixels over vegetated areas may be false positives, and the lack of colored pixels over vegetated areas does not necessarily mean no damage. This map is most sensitive to building damage and new lava flows, but small-scale change or partial structural damage may not be detected by this map. <\/span><\/p>Satellite/Sensor:<\/span><\/p>Copernicus Sentinel-1 Synthetic Aperture Radar (SAR)<\/span><\/p>Resolution:<\/span><\/p>30 meters<\/span><\/p>Credits:<\/span><\/p>Sentinel-1 data were accessed through the Copernicus Open Hub and the Alaska Satellite Facility server. The product contains modified Copernicus Sentinel data (2022), processed by ESA and analyzed by the NASA-JPL/Caltech ARIA team. NASA's Earth Applied Sciences Disasters Program provided part of the funding.<\/span><\/p>For more information about ARIA, visit: http://aria.jpl.nasa.gov<\/span><\/p>Esri REST Endpoint:<\/span><\/p>See URL section on right side of page<\/span><\/p>WMS Endpoint:<\/span><\/p>Data Download:<\/span><\/p>https://aria-share.jpl.nasa.gov/202212-Volcano-Mauna_Loa/DPM/package/<\/span><\/a><\/p><\/div><\/div><\/div>",
"extent": {
"xmin": -155.693,
"ymin": 19.371,
"xmax": -155.449,
"ymax": 19.678,
"spatialReference": {
"wkid": 4326,
"latestWkid": 4326
}
},
"initialExtent": {
"xmin": -155.693,
"ymin": 19.371,
"xmax": -155.449,
"ymax": 19.678,
"spatialReference": {
"wkid": 4326,
"latestWkid": 4326
}
},
"fullExtent": {
"xmin": -155.693,
"ymin": 19.371,
"xmax": -155.449,
"ymax": 19.678,
"spatialReference": {
"wkid": 4326,
"latestWkid": 4326
}
},
"hasMultidimensions": false,
"pixelSizeX": 2.77904328018223E-4,
"pixelSizeY": 2.778280542986445E-4,
"datasetFormat": "TIFF",
"uncompressedSize": 3880760,
"blockWidth": 878,
"blockHeight": 2,
"compressionType": "None",
"bandNames": [
"Band_1",
"Band_2",
"Band_3",
"Band_4"
],
"allowCopy": true,
"allowAnalysis": true,
"bandCount": 4,
"pixelType": "U8",
"minPixelSize": 0,
"maxPixelSize": 0,
"copyrightText": "NASA-JPL/Caltech ARIA Team, ESA, Copernicus",
"serviceDataType": "esriImageServiceDataTypeGeneric",
"serviceSourceType": "esriImageServiceSourceTypeDataset",
"minValues": [
0,
0,
0,
0
],
"maxValues": [
255,
255,
0,
255
],
"meanValues": [
17.168398973397,
8.7279017512035,
0,
18.066497284036
],
"stdvValues": [
62.542832602345,
42.425840546343,
0,
65.426010847388
],
"objectIdField": "",
"fields": [],
"capabilities": "Mensuration,Image,Metadata",
"defaultMosaicMethod": "Center",
"allowedMosaicMethods": "",
"sortField": "",
"sortValue": null,
"sortAscending": true,
"mosaicOperator": "First",
"defaultCompressionQuality": 75,
"defaultResamplingMethod": "Nearest",
"maxImageHeight": 4100,
"maxImageWidth": 15000,
"allowRasterFunction": true,
"rasterFunctionInfos": [
{
"name": "RGB Composite",
"description": "A raster function template.",
"help": ""
},
{
"name": "None",
"description": "",
"help": ""
}
],
"rasterTypeInfos": [
{
"name": "Raster Dataset",
"description": "Supports all ArcGIS Raster Datasets",
"help": ""
}
],
"mensurationCapabilities": "Basic",
"hasHistograms": true,
"hasColormap": false,
"hasRasterAttributeTable": false,
"minScale": 0,
"maxScale": 0,
"exportTilesAllowed": false,
"supportsStatistics": false,
"supportsAdvancedQueries": false,
"editFieldsInfo": null,
"ownershipBasedAccessControlForRasters": null,
"allowComputeTiePoints": false,
"useStandardizedQueries": true,
"advancedQueryCapabilities": {
"useStandardizedQueries": true,
"supportsStatistics": false,
"supportsOrderBy": false,
"supportsDistinct": false,
"supportsPagination": false
},
"spatialReference": {
"wkid": 4326,
"latestWkid": 4326
}
}