Date of Image:<\/span><\/p>11/29/2022<\/span><\/p>Date of Next Image:<\/span><\/p>Unknown<\/span><\/p>Summary:<\/span><\/p>The Earth Observatory of Singapore - Remote Sensing Lab (EOS-RS) created this preliminary Damage Proxy Map (DPM) depicting areas that are likely affected by lava flows on Mauna Loa volcano in Hawaii, USA due to the eruption that started on 27 Nov 2022. This map was derived from Synthetic Aperture Radar (SAR) images acquired by the ALOS-2 satellite operated by the Japan Aerospace Exploration Agency (JAXA) before (28 Jun 2022 and 18 Oct 2022) and during the event (29 Nov 2022, 10:23 UTC).<\/span><\/p>Suggested Use:<\/span><\/p>The color variation from yellow to red indicates increasingly more significant surface change. Preliminary validation was done by comparing with high-resolution optical imagery. <\/span><\/p>This damage proxy map should be used as guidance to identify damaged areas or areas affected by heavy volcanic ash fall, and may be less reliable over vegetated areas. For example, the scattered colored pixels over vegetated areas may be false positives, and the lack of colored pixels over vegetated areas does not necessarily mean no damage. This map is most sensitive to building damage and other large changes, but small-scale change or partial structural damage may not be detected by this map.<\/span><\/p>Satellite/Sensor:<\/span><\/p>Japan Aerospace Exploration Agency (JAXA) ALOS-2 PALSAR-2<\/span><\/p>Resolution:<\/span><\/p>JAXA ALOS-2: 25 meters<\/span><\/p>Credits:<\/span><\/p>Earth Observatory of Singapore - Remote Sensing Lab (EOS-RS), Original data ALOS-2 PALSAR-2 Product - JAXA (2022).<\/span><\/p>Data were provided by JAXA and analyzed by the Earth Observatory of Singapore - Remote Sensing Lab (EOS-RS).<\/span><\/p>Esri REST Endpoint:<\/span><\/p>See URL Section on right side of page<\/span><\/p>WMS Endpoint:<\/span><\/p>Data Download:<\/span><\/p>https://eos-rs-products.earthobservatory.sg/EOS-RS_202211_Hawaii_MaunaLoa_Volcano/<\/span><\/a><\/p><\/div><\/div><\/div>",
"extent": {
"xmin": -155.70936,
"ymin": 19.17086,
"xmax": -154.94269,
"ymax": 19.90058,
"spatialReference": {
"wkid": 4326,
"latestWkid": 4326
}
},
"initialExtent": {
"xmin": -155.70936,
"ymin": 19.17086,
"xmax": -154.94269,
"ymax": 19.90058,
"spatialReference": {
"wkid": 4326,
"latestWkid": 4326
}
},
"fullExtent": {
"xmin": -155.70936,
"ymin": 19.17086,
"xmax": -154.94269,
"ymax": 19.90058,
"spatialReference": {
"wkid": 4326,
"latestWkid": 4326
}
},
"hasMultidimensions": false,
"pixelSizeX": 2.7777898550724814E-4,
"pixelSizeY": 2.7777693186143906E-4,
"datasetFormat": "TIFF",
"uncompressedSize": 29002080,
"blockWidth": 2760,
"blockHeight": 1,
"compressionType": "None",
"bandNames": [
"Band_1",
"Band_2",
"Band_3",
"Band_4"
],
"allowCopy": true,
"allowAnalysis": true,
"bandCount": 4,
"pixelType": "U8",
"minPixelSize": 0,
"maxPixelSize": 0,
"copyrightText": "Earth Observatory of Singapore - Remote Sensing Lab (EOS-RS), Original data ALOS-2 PALSAR-2 Product - JAXA (2022).",
"serviceDataType": "esriImageServiceDataTypeGeneric",
"serviceSourceType": "esriImageServiceSourceTypeDataset",
"minValues": [
0,
0,
0,
0
],
"maxValues": [
255,
245,
0,
255
],
"meanValues": [
0.72235494833475,
0.31971196548659,
0,
0.78165083331952
],
"stdvValues": [
13.11506221883,
7.3652378351883,
0,
14.096453875978
],
"objectIdField": "",
"fields": [],
"capabilities": "Mensuration,Image,Metadata",
"defaultMosaicMethod": "Center",
"allowedMosaicMethods": "",
"sortField": "",
"sortValue": null,
"sortAscending": true,
"mosaicOperator": "First",
"defaultCompressionQuality": 75,
"defaultResamplingMethod": "Nearest",
"maxImageHeight": 4100,
"maxImageWidth": 15000,
"allowRasterFunction": true,
"rasterFunctionInfos": [
{
"name": "RGB Composite",
"description": "A raster function template.",
"help": ""
},
{
"name": "None",
"description": "",
"help": ""
}
],
"rasterTypeInfos": [
{
"name": "Raster Dataset",
"description": "Supports all ArcGIS Raster Datasets",
"help": ""
}
],
"mensurationCapabilities": "Basic",
"hasHistograms": true,
"hasColormap": false,
"hasRasterAttributeTable": false,
"minScale": 0,
"maxScale": 0,
"exportTilesAllowed": false,
"supportsStatistics": false,
"supportsAdvancedQueries": false,
"editFieldsInfo": null,
"ownershipBasedAccessControlForRasters": null,
"allowComputeTiePoints": false,
"useStandardizedQueries": true,
"advancedQueryCapabilities": {
"useStandardizedQueries": true,
"supportsStatistics": false,
"supportsOrderBy": false,
"supportsDistinct": false,
"supportsPagination": false
},
"spatialReference": {
"wkid": 4326,
"latestWkid": 4326
}
}