Date of Images: <\/span><\/p>11/27/2022 - 12/8/2022<\/span><\/p>Date of Next Image:<\/span><\/p>Daily Updates as available<\/span><\/p>Summary:<\/span><\/p>The eruption of Mauna Loa on November 27, 2022 was the volcanoes first eruption since 1984. Utilizing the OMPS sensor on Suomi-NPP, NASA scientists can measure the sulfur dioxide (SO2) concentration from the eruption. SO2 is often used as a proxy for the location of volcanic ash. High concentrations of SO2 can also be hazardous to human health and air travel.<\/span><\/p>Suggested Use:<\/span><\/p>Green to red colors indicate higher sulfur dioxide (SO2) concentrations<\/span><\/p>Satellite/Sensor:<\/span><\/p>Suomi-NPP Ozone Mapping Profiler Suite (OMPS)<\/span><\/p>Resolution:<\/span><\/p>375 kilometers<\/span><\/p>Credits:<\/span><\/p>NASA's Direct Readout Laboratory (DRL)<\/span><\/p>Esri REST Endpoint:<\/span><\/p>See URL Section on right side of page<\/span><\/p>WMS Endpoint:<\/span><\/p>Data Download:<\/span><\/p>https://maps.disasters.nasa.gov/download/gis_products/event_specific/2022/mauna_loa_eruption_2022/omps/so2/<\/span><\/a><\/p><\/div><\/div><\/div>",
"extent": {
"xmin": -1.73891017785E7,
"ymin": 2011034.7559000012,
"xmax": -1.5559101778499998E7,
"ymax": 3001034.755900001,
"spatialReference": {
"wkid": 102100,
"latestWkid": 3857
}
},
"initialExtent": {
"xmin": -1.73891017785E7,
"ymin": 2011034.7559000012,
"xmax": -1.5559101778499998E7,
"ymax": 3001034.755900001,
"spatialReference": {
"wkid": 102100,
"latestWkid": 3857
}
},
"fullExtent": {
"xmin": -1.73891017785E7,
"ymin": 2011034.7559000012,
"xmax": -1.5559101778499998E7,
"ymax": 3001034.755900001,
"spatialReference": {
"wkid": 102100,
"latestWkid": 3857
}
},
"hasMultidimensions": false,
"timeInfo": {
"startTimeField": "Date",
"endTimeField": "Date",
"timeExtent": [
1669590000000,
1670540760000
],
"timeReference": null
},
"pixelSizeX": 10000,
"pixelSizeY": 10000,
"datasetFormat": "AMD",
"uncompressedSize": 72468,
"blockWidth": 2048,
"blockHeight": 256,
"compressionType": "None",
"bandNames": [
"Band_1",
"Band_2",
"Band_3",
"Band_4"
],
"allowCopy": true,
"allowAnalysis": true,
"bandCount": 4,
"noDataValue": 1,
"noDataValues": [
1,
1,
0,
1.79E308
],
"pixelType": "U8",
"minPixelSize": 0,
"maxPixelSize": 0,
"copyrightText": "NASA DRL",
"serviceDataType": "esriImageServiceDataTypeGeneric",
"serviceSourceType": "esriImageServiceSourceTypeMosaicDataset",
"minValues": [],
"maxValues": [],
"meanValues": [],
"stdvValues": [],
"objectIdField": "OBJECTID",
"fields": [
{
"name": "OBJECTID",
"type": "esriFieldTypeOID",
"alias": "OBJECTID",
"domain": null
},
{
"name": "Shape",
"type": "esriFieldTypeGeometry",
"alias": "Shape",
"domain": null
},
{
"name": "Name",
"type": "esriFieldTypeString",
"alias": "Name",
"domain": null,
"length": 200
},
{
"name": "Category",
"type": "esriFieldTypeInteger",
"alias": "Category",
"domain": {
"type": "codedValue",
"name": "MosaicCatalogItemCategoryDomain",
"description": "Catalog item categories.",
"codedValues": [
{
"name": "Unknown",
"code": 0
},
{
"name": "Primary",
"code": 1
},
{
"name": "Overview",
"code": 2
},
{
"name": "Unprocessed Overview",
"code": 3
},
{
"name": "Partial Overview",
"code": 4
},
{
"name": "Inactive",
"code": 5
},
{
"name": "Uploaded",
"code": 253
},
{
"name": "Incomplete",
"code": 254
},
{
"name": "Custom",
"code": 255
}
],
"mergePolicy": "esriMPTDefaultValue",
"splitPolicy": "esriSPTDefaultValue"
}
},
{
"name": "Date",
"type": "esriFieldTypeDate",
"alias": "Date",
"domain": null,
"length": 8
}
],
"capabilities": "Catalog,Mensuration,Image,Metadata",
"defaultMosaicMethod": "Northwest",
"allowedMosaicMethods": "NorthWest,Center,LockRaster,ByAttribute,Nadir,Viewpoint,Seamline,None",
"sortField": "",
"sortValue": null,
"sortAscending": true,
"mosaicOperator": "First",
"maxDownloadSizeLimit": 2048,
"defaultCompressionQuality": 75,
"defaultResamplingMethod": "Nearest",
"maxImageHeight": 4100,
"maxImageWidth": 15000,
"maxRecordCount": 1000,
"maxDownloadImageCount": 20,
"maxMosaicImageCount": 20,
"allowRasterFunction": true,
"rasterFunctionInfos": [
{
"name": "None",
"description": "Make a Raster or Raster Dataset into a Function Raster Dataset.",
"help": ""
}
],
"rasterTypeInfos": [
{
"name": "Raster Dataset",
"description": "Supports all ArcGIS Raster Datasets",
"help": ""
}
],
"mensurationCapabilities": "Basic",
"hasHistograms": false,
"hasColormap": false,
"hasRasterAttributeTable": false,
"minScale": 0,
"maxScale": 0,
"exportTilesAllowed": false,
"supportsStatistics": true,
"supportsAdvancedQueries": true,
"editFieldsInfo": null,
"ownershipBasedAccessControlForRasters": null,
"allowComputeTiePoints": false,
"useStandardizedQueries": true,
"advancedQueryCapabilities": {
"useStandardizedQueries": true,
"supportsStatistics": true,
"supportsOrderBy": true,
"supportsDistinct": true,
"supportsPagination": true
},
"spatialReference": {
"wkid": 102100,
"latestWkid": 3857
}
}