{ "currentVersion": 10.91, "serviceDescription": "
Date of Image:<\/span><\/p> 6/23/2020<\/span><\/p> Date of Next Image:<\/span><\/p> Unknown<\/span><\/p> Summary:<\/span><\/p> The Advanced Rapid Imaging and Analysis (ARIA) data system at NASA's Jet Propulsion Laboratory in Pasadena, California, automatically processed this interferogram or difference between two radar images to produce this suface displacement map. The maps were derived from synthetic aperture radar (SAR) data acquired on 3/31/2020 and 6/23/2020 by JAXA's ALOS-2. The area of the coast near La Crucecita, Oaxaca, Mexico moved as much as 35 cm (14 inches) up and west (shown in red).<\/span><\/p> The ALOS-2 displacement map has been corrected for variations in the ionosphere, but has not been corrected for variations of water vapor in the troposphere. The \"bumpy\" pattern over areas away from the earthquake was probably caused by water vapor variations in the troposphere. Areas with low-quality measurements have been masked out.<\/span><\/p> Suggested Use:<\/span><\/p> Areas in red are surface displacement up and to the west. Areas in blue are down and to the east. <\/span><\/p> This displacement map should be used as guidance to identify areas of significant ground displacement, and may have voids over heavily vegetated areas and steeper slopes.<\/span><\/p> Satellite/Sensor:<\/span><\/p> Japan Aerospace Exploration Agency (JAXA) ALOS-2 Synthetic Aperture Radar (SAR)<\/span><\/p> Resolution:<\/span><\/p> 30 meters<\/span><\/p> Credits:<\/span><\/p> The ALOS-2 data products are processed from original data products copyright (2020) by the Japan Aerospace Exploration Agency (JAXA), and were provided under JAXA ALOS RA6 PI projects 3277 and 3156. Analyzed by the NASA-JPL/Caltech ARIA team. This task was carried out at JPL funded by NASA.<\/span><\/p> Esri REST Endpoint:<\/span><\/p> See URL section on right side of page<\/span><\/p> WMS Endpoint:<\/span><\/p><\/div><\/div><\/div>",
"name": "mexico_earthquake_202006/aria_displacement_alos2_20200623",
"description": " Date of Image:<\/span><\/p> 6/23/2020<\/span><\/p> Date of Next Image:<\/span><\/p> Unknown<\/span><\/p> Summary:<\/span><\/p> The Advanced Rapid Imaging and Analysis (ARIA) data system at NASA's Jet Propulsion Laboratory in Pasadena, California, automatically processed this interferogram or difference between two radar images to produce this suface displacement map. The maps were derived from synthetic aperture radar (SAR) data acquired on 3/31/2020 and 6/23/2020 by JAXA's ALOS-2. The area of the coast near La Crucecita, Oaxaca, Mexico moved as much as 35 cm (14 inches) up and west (shown in red).<\/span><\/p> The ALOS-2 displacement map has been corrected for variations in the ionosphere, but has not been corrected for variations of water vapor in the troposphere. The \"bumpy\" pattern over areas away from the earthquake was probably caused by water vapor variations in the troposphere. Areas with low-quality measurements have been masked out.<\/span><\/p> Suggested Use:<\/span><\/p> Areas in red are surface displacement up and to the west. Areas in blue are down and to the east. <\/span><\/p> This displacement map should be used as guidance to identify areas of significant ground displacement, and may have voids over heavily vegetated areas and steeper slopes.<\/span><\/p> Satellite/Sensor:<\/span><\/p> Japan Aerospace Exploration Agency (JAXA) ALOS-2 Synthetic Aperture Radar (SAR)<\/span><\/p> Resolution:<\/span><\/p> 30 meters<\/span><\/p> Credits:<\/span><\/p> The ALOS-2 data products are processed from original data products copyright (2020) by the Japan Aerospace Exploration Agency (JAXA), and were provided under JAXA ALOS RA6 PI projects 3277 and 3156. Analyzed by the NASA-JPL/Caltech ARIA team. This task was carried out at JPL funded by NASA.<\/span><\/p> Esri REST Endpoint:<\/span><\/p> See URL section on right side of page<\/span><\/p> WMS Endpoint:<\/span><\/p><\/div><\/div><\/div>",
"extent": {
"xmin": -98.979166667,
"ymin": 15.348333333,
"xmax": -94.994166667,
"ymax": 19.144166667,
"spatialReference": {
"wkid": 4326,
"latestWkid": 4326
}
},
"initialExtent": {
"xmin": -98.979166667,
"ymin": 15.348333333,
"xmax": -94.994166667,
"ymax": 19.144166667,
"spatialReference": {
"wkid": 4326,
"latestWkid": 4326
}
},
"fullExtent": {
"xmin": -98.979166667,
"ymin": 15.348333333,
"xmax": -94.994166667,
"ymax": 19.144166667,
"spatialReference": {
"wkid": 4326,
"latestWkid": 4326
}
},
"hasMultidimensions": false,
"pixelSizeX": 8.333333333333332E-4,
"pixelSizeY": 8.333333334796929E-4,
"datasetFormat": "TIFF",
"uncompressedSize": 87128040,
"blockWidth": 4782,
"blockHeight": 1,
"compressionType": "None",
"bandNames": [
"Band_1"
],
"allowCopy": true,
"allowAnalysis": true,
"bandCount": 1,
"noDataValue": "NaN",
"noDataValues": [
"NaN"
],
"pixelType": "F32",
"minPixelSize": 0,
"maxPixelSize": 0,
"copyrightText": "NASA-JPL/Caltech ARIA Team, JAXA",
"serviceDataType": "esriImageServiceDataTypeGeneric",
"serviceSourceType": "esriImageServiceSourceTypeDataset",
"minValues": [
-0.30376666784286
],
"maxValues": [
0.3603013753891
],
"meanValues": [
-0.089354978435727
],
"stdvValues": [
0.046517729075751
],
"objectIdField": "",
"fields": [],
"capabilities": "Mensuration,Image,Metadata",
"defaultMosaicMethod": "Center",
"allowedMosaicMethods": "",
"sortField": "",
"sortValue": null,
"sortAscending": true,
"mosaicOperator": "First",
"defaultCompressionQuality": 75,
"defaultResamplingMethod": "Bilinear",
"maxImageHeight": 4100,
"maxImageWidth": 15000,
"allowRasterFunction": true,
"rasterFunctionInfos": [
{
"name": "aria_displacement_mexico_202006",
"description": "A raster function template.",
"help": ""
},
{
"name": "None",
"description": "",
"help": ""
}
],
"rasterTypeInfos": [
{
"name": "Raster Dataset",
"description": "Supports all ArcGIS Raster Datasets",
"help": ""
}
],
"mensurationCapabilities": "Basic",
"hasHistograms": true,
"hasColormap": false,
"hasRasterAttributeTable": false,
"minScale": 0,
"maxScale": 0,
"exportTilesAllowed": false,
"supportsStatistics": false,
"supportsAdvancedQueries": false,
"editFieldsInfo": null,
"ownershipBasedAccessControlForRasters": null,
"allowComputeTiePoints": false,
"useStandardizedQueries": true,
"advancedQueryCapabilities": {
"useStandardizedQueries": true,
"supportsStatistics": false,
"supportsOrderBy": false,
"supportsDistinct": false,
"supportsPagination": false
},
"spatialReference": {
"wkid": 4326,
"latestWkid": 4326
}
}