{ "currentVersion": 10.91, "serviceDescription": "
Date of Image:<\/span><\/p> 6/23/2020<\/span><\/p> Date of Next Image:<\/span><\/p> Unknown<\/span><\/p> Summary:<\/span><\/p> Scientists at NASA's Goddard Space Flight Center processed this interferogram or difference between two radar images to produce this suface displacement map. The maps were derived from synthetic aperture radar (SAR) data acquired on 3/31/2020 and 6/23/2020 by JAXA's ALOS-2. The area of the coast near La Crucecita, Oaxaca, Mexico moved as much as 40 cm up and west (shown in red).<\/span><\/p> Suggested Use:<\/span><\/p> Areas in red are surface displacement up and to the west. Areas in blue are down and to the east.<\/span><\/p> This displacement map should be used as guidance to identify areas of significant ground displacement, and may have voids over heavily vegetated areas and steeper slopes.<\/span><\/p> Satellite/Sensor:<\/span><\/p> Japan Aerospace Exploration Agency (JAXA) ALOS-2 Synthetic Aperture Radar (SAR<\/span><\/p> Resolution:<\/span><\/p> 30 meters<\/span><\/p> Credits:<\/span><\/p> The ALOS-2 data products are processed from original data products copyright (2020) by the Japan Aerospace Exploration Agency (JAXA), analyzed by NASA-Goddard Space Flight Center.<\/span><\/p> Esri REST Endpoint:<\/span><\/p> See URL section on right side of page<\/span><\/p> WMS Endpoint:<\/span><\/p><\/div><\/div><\/div>",
"name": "mexico_earthquake_202006/gsfc_displacement_alos2_20200623",
"description": " Date of Image:<\/span><\/p> 6/23/2020<\/span><\/p> Date of Next Image:<\/span><\/p> Unknown<\/span><\/p> Summary:<\/span><\/p> Scientists at NASA's Goddard Space Flight Center processed this interferogram or difference between two radar images to produce this suface displacement map. The maps were derived from synthetic aperture radar (SAR) data acquired on 3/31/2020 and 6/23/2020 by JAXA's ALOS-2. The area of the coast near La Crucecita, Oaxaca, Mexico moved as much as 40 cm up and west (shown in red).<\/span><\/p> Suggested Use:<\/span><\/p> Areas in red are surface displacement up and to the west. Areas in blue are down and to the east.<\/span><\/p> This displacement map should be used as guidance to identify areas of significant ground displacement, and may have voids over heavily vegetated areas and steeper slopes.<\/span><\/p> Satellite/Sensor:<\/span><\/p> Japan Aerospace Exploration Agency (JAXA) ALOS-2 Synthetic Aperture Radar (SAR<\/span><\/p> Resolution:<\/span><\/p> 30 meters<\/span><\/p> Credits:<\/span><\/p> The ALOS-2 data products are processed from original data products copyright (2020) by the Japan Aerospace Exploration Agency (JAXA), analyzed by NASA-Goddard Space Flight Center.<\/span><\/p> Esri REST Endpoint:<\/span><\/p> See URL section on right side of page<\/span><\/p> WMS Endpoint:<\/span><\/p><\/div><\/div><\/div>",
"extent": {
"xmin": -97.08069,
"ymin": 15.08153,
"xmax": -95.05486,
"ymax": 18.53625,
"spatialReference": {
"wkid": 4326,
"latestWkid": 4326
}
},
"initialExtent": {
"xmin": -97.08069,
"ymin": 15.08153,
"xmax": -95.05486,
"ymax": 18.53625,
"spatialReference": {
"wkid": 4326,
"latestWkid": 4326
}
},
"fullExtent": {
"xmin": -97.08069,
"ymin": 15.08153,
"xmax": -95.05486,
"ymax": 18.53625,
"spatialReference": {
"wkid": 4326,
"latestWkid": 4326
}
},
"hasMultidimensions": false,
"pixelSizeX": 2.7777732071849706E-4,
"pixelSizeY": 2.7777759909946117E-4,
"datasetFormat": "TIFF",
"uncompressedSize": 362782992,
"blockWidth": 7293,
"blockHeight": 1,
"compressionType": "None",
"bandNames": [
"Band_1"
],
"allowCopy": true,
"allowAnalysis": true,
"bandCount": 1,
"noDataValue": -3.4028234663852886E38,
"noDataValues": [
-3.4028234663852886E38
],
"pixelType": "F32",
"minPixelSize": 0,
"maxPixelSize": 0,
"copyrightText": "Sang-Wan Kim, Batuhan Osmanoglu, Min-Jeong Jo, NASA-GSFC, JAXA",
"serviceDataType": "esriImageServiceDataTypeGeneric",
"serviceSourceType": "esriImageServiceSourceTypeDataset",
"minValues": [
-0.27009013295174
],
"maxValues": [
0.46507203578949
],
"meanValues": [
0.049604717862714
],
"stdvValues": [
0.074423706139998
],
"objectIdField": "",
"fields": [],
"capabilities": "Mensuration,Image,Metadata",
"defaultMosaicMethod": "Center",
"allowedMosaicMethods": "",
"sortField": "",
"sortValue": null,
"sortAscending": true,
"mosaicOperator": "First",
"defaultCompressionQuality": 75,
"defaultResamplingMethod": "Bilinear",
"maxImageHeight": 4100,
"maxImageWidth": 15000,
"allowRasterFunction": true,
"rasterFunctionInfos": [
{
"name": "gsfc_displacement_mexico_earthquake",
"description": "A raster function template.",
"help": ""
},
{
"name": "None",
"description": "",
"help": ""
}
],
"rasterTypeInfos": [
{
"name": "Raster Dataset",
"description": "Supports all ArcGIS Raster Datasets",
"help": ""
}
],
"mensurationCapabilities": "Basic",
"hasHistograms": true,
"hasColormap": false,
"hasRasterAttributeTable": false,
"minScale": 0,
"maxScale": 0,
"exportTilesAllowed": false,
"supportsStatistics": false,
"supportsAdvancedQueries": false,
"editFieldsInfo": null,
"ownershipBasedAccessControlForRasters": null,
"allowComputeTiePoints": false,
"useStandardizedQueries": true,
"advancedQueryCapabilities": {
"useStandardizedQueries": true,
"supportsStatistics": false,
"supportsOrderBy": false,
"supportsDistinct": false,
"supportsPagination": false
},
"spatialReference": {
"wkid": 4326,
"latestWkid": 4326
}
}