{ "currentVersion": 10.91, "serviceDescription": "
Date of Image:<\/span><\/p> 5/02/2020<\/span><\/p> <\/p> Summary:<\/span><\/p> The National Central University (NCU) of Taiwan, in collaboration with the Advanced Rapid Imaging and Analysis (ARIA) team at NASA's Jet Propulsion Laboratory and California Institute of Technology in California, created this preliminary map shows areas that are likely flooded (shown by light blue pixels of 4 m in size) in Midland City, Michigan, due to burst of Edenville and Sanford dams. The image covers an area of roughly 25 by 44 kilometers (16 by 27 miles), shown by two white polygon. Each pixel measures about 4 meters across. This map should be used as a guidance to identify areas that are likely flooded, and maybe less reliable over urban and vegetated areas.<\/span><\/p> <\/p> Suggested Use:<\/span><\/p> Likely flooded areas are shown as blue. This FPM should be used as guidance to identify flooded areas, and may be less reliable over urban and vegetated areas.<\/span><\/p> <\/p> Satellite/Sensor:<\/span><\/p> Optical Imagery from Planet Labs<\/span><\/p> <\/p> Resolution:<\/span><\/p> 4 meters<\/span><\/p> <\/p> Credits:<\/span><\/p> Derived from optical images acquired by Planet Labs on May 20, 2020. Analyzed by the National Central University of Taiwan in collaboration with NASA - Jet Propulsionl Laboratory and California Institue of Technology. This task was carried out at JPL funded by NASA. <\/span><\/p> <\/p> <\/p> Esri REST Endpoint:<\/span><\/p> See URL section on right side of page.<\/span><\/p> <\/p> WMS Endpoint: <\/span><\/p> Download:<\/span><\/p> https://aria-share.jpl.nasa.gov/20200520-Midland_Dam_Burst_Floods/<\/span><\/p><\/div><\/div><\/div>",
"name": "michigan_dam_failure_2020/aria_fpm_planet_20200520",
"description": " Date of Image:<\/span><\/p> 5/02/2020<\/span><\/p> <\/p> Summary:<\/span><\/p> The National Central University (NCU) of Taiwan, in collaboration with the Advanced Rapid Imaging and Analysis (ARIA) team at NASA's Jet Propulsion Laboratory and California Institute of Technology in California, created this preliminary map shows areas that are likely flooded (shown by light blue pixels of 4 m in size) in Midland City, Michigan, due to burst of Edenville and Sanford dams. The image covers an area of roughly 25 by 44 kilometers (16 by 27 miles), shown by two white polygon. Each pixel measures about 4 meters across. This map should be used as a guidance to identify areas that are likely flooded, and maybe less reliable over urban and vegetated areas.<\/span><\/p> <\/p> Suggested Use:<\/span><\/p> Likely flooded areas are shown as blue. This FPM should be used as guidance to identify flooded areas, and may be less reliable over urban and vegetated areas.<\/span><\/p> <\/p> Satellite/Sensor:<\/span><\/p> Optical Imagery from Planet Labs<\/span><\/p> <\/p> Resolution:<\/span><\/p> 4 meters<\/span><\/p> <\/p> Credits:<\/span><\/p> Derived from optical images acquired by Planet Labs on May 20, 2020. Analyzed by the National Central University of Taiwan in collaboration with NASA - Jet Propulsionl Laboratory and California Institue of Technology. This task was carried out at JPL funded by NASA. <\/span><\/p> <\/p> <\/p> Esri REST Endpoint:<\/span><\/p> See URL section on right side of page.<\/span><\/p> <\/p> WMS Endpoint: <\/span><\/p> Download:<\/span><\/p> https://aria-share.jpl.nasa.gov/20200520-Midland_Dam_Burst_Floods/<\/span><\/p><\/div><\/div><\/div>",
"extent": {
"xmin": -9395389.7711,
"ymin": 5344610.571799997,
"xmax": -9353737.7711,
"ymax": 5412533.571799997,
"spatialReference": {
"wkid": 102100,
"latestWkid": 3857
}
},
"initialExtent": {
"xmin": -9395389.7711,
"ymin": 5344610.571799997,
"xmax": -9353737.7711,
"ymax": 5412533.571799997,
"spatialReference": {
"wkid": 102100,
"latestWkid": 3857
}
},
"fullExtent": {
"xmin": -9395389.7711,
"ymin": 5344610.571799997,
"xmax": -9353737.7711,
"ymax": 5412533.571799997,
"spatialReference": {
"wkid": 102100,
"latestWkid": 3857
}
},
"hasMultidimensions": false,
"pixelSizeX": 3,
"pixelSizeY": 3,
"datasetFormat": "AMD",
"uncompressedSize": 157173822,
"blockWidth": 2048,
"blockHeight": 256,
"compressionType": "None",
"bandNames": [
"Band_1"
],
"allowCopy": true,
"allowAnalysis": true,
"bandCount": 1,
"pixelType": "U4",
"minPixelSize": 0,
"maxPixelSize": 0,
"copyrightText": "NASA-JPL/Caltech ARIA team, Planet Labs, National Central University of Taiwan",
"serviceDataType": "esriImageServiceDataTypeGeneric",
"serviceSourceType": "esriImageServiceSourceTypeMosaicDataset",
"minValues": [
5
],
"maxValues": [
5
],
"meanValues": [
5
],
"stdvValues": [
0
],
"objectIdField": "OBJECTID",
"fields": [
{
"name": "OBJECTID",
"type": "esriFieldTypeOID",
"alias": "OBJECTID",
"domain": null
},
{
"name": "Shape",
"type": "esriFieldTypeGeometry",
"alias": "Shape",
"domain": null
},
{
"name": "Name",
"type": "esriFieldTypeString",
"alias": "Name",
"domain": null,
"length": 200
},
{
"name": "MinPS",
"type": "esriFieldTypeDouble",
"alias": "MinPS",
"domain": null
},
{
"name": "MaxPS",
"type": "esriFieldTypeDouble",
"alias": "MaxPS",
"domain": null
},
{
"name": "LowPS",
"type": "esriFieldTypeDouble",
"alias": "LowPS",
"domain": null
},
{
"name": "HighPS",
"type": "esriFieldTypeDouble",
"alias": "HighPS",
"domain": null
},
{
"name": "Category",
"type": "esriFieldTypeInteger",
"alias": "Category",
"domain": {
"type": "codedValue",
"name": "MosaicCatalogItemCategoryDomain",
"description": "Catalog item categories.",
"codedValues": [
{
"name": "Unknown",
"code": 0
},
{
"name": "Primary",
"code": 1
},
{
"name": "Overview",
"code": 2
},
{
"name": "Unprocessed Overview",
"code": 3
},
{
"name": "Partial Overview",
"code": 4
},
{
"name": "Inactive",
"code": 5
},
{
"name": "Uploaded",
"code": 253
},
{
"name": "Incomplete",
"code": 254
},
{
"name": "Custom",
"code": 255
}
],
"mergePolicy": "esriMPTDefaultValue",
"splitPolicy": "esriSPTDefaultValue"
}
},
{
"name": "Tag",
"type": "esriFieldTypeString",
"alias": "Tag",
"domain": null,
"length": 100
},
{
"name": "GroupName",
"type": "esriFieldTypeString",
"alias": "GroupName",
"domain": null,
"length": 100
},
{
"name": "ProductName",
"type": "esriFieldTypeString",
"alias": "ProductName",
"domain": null,
"length": 100
},
{
"name": "CenterX",
"type": "esriFieldTypeDouble",
"alias": "CenterX",
"domain": null
},
{
"name": "CenterY",
"type": "esriFieldTypeDouble",
"alias": "CenterY",
"domain": null
},
{
"name": "ZOrder",
"type": "esriFieldTypeInteger",
"alias": "ZOrder",
"domain": null
},
{
"name": "Shape_Length",
"type": "esriFieldTypeDouble",
"alias": "Shape_Length",
"domain": null
},
{
"name": "Shape_Area",
"type": "esriFieldTypeDouble",
"alias": "Shape_Area",
"domain": null
}
],
"capabilities": "Catalog,Mensuration,Image,Metadata",
"defaultMosaicMethod": "Northwest",
"allowedMosaicMethods": "NorthWest,Center,LockRaster,ByAttribute,Nadir,Viewpoint,Seamline,None",
"sortField": "",
"sortValue": null,
"sortAscending": true,
"mosaicOperator": "First",
"maxDownloadSizeLimit": 2048,
"defaultCompressionQuality": 75,
"defaultResamplingMethod": "Bilinear",
"maxImageHeight": 4100,
"maxImageWidth": 15000,
"maxRecordCount": 1000,
"maxDownloadImageCount": 20,
"maxMosaicImageCount": 20,
"allowRasterFunction": true,
"rasterFunctionInfos": [
{
"name": "aria_fpm_colormap",
"description": "A raster function template.",
"help": ""
},
{
"name": "None",
"description": "",
"help": ""
}
],
"rasterTypeInfos": [
{
"name": "Raster Dataset",
"description": "Supports all ArcGIS Raster Datasets",
"help": ""
}
],
"mensurationCapabilities": "Basic",
"hasHistograms": true,
"hasColormap": false,
"hasRasterAttributeTable": false,
"minScale": 0,
"maxScale": 0,
"exportTilesAllowed": false,
"supportsStatistics": true,
"supportsAdvancedQueries": true,
"editFieldsInfo": null,
"ownershipBasedAccessControlForRasters": null,
"allowComputeTiePoints": false,
"useStandardizedQueries": true,
"advancedQueryCapabilities": {
"useStandardizedQueries": true,
"supportsStatistics": true,
"supportsOrderBy": true,
"supportsDistinct": true,
"supportsPagination": true
},
"spatialReference": {
"wkid": 102100,
"latestWkid": 3857
}
}