{ "currentVersion": 10.91, "serviceDescription": "

NOTE: <\/span>This damage proxy map could be used as a guidance to identify damaged areas particularly in more urban areas, and may be less reliable over vegetated areas and in the mountains. Scattered pixels over vegetated areas may be false positives, and a lack of colored pixels over vegetated areas may not mean no damage. Because the ALOS-2 images are only acquired once or twice a year, other changes such as agricultural activities may be included in this DPM.<\/span><\/p>
Date of Image:<\/span><\/p>
September 2023<\/span><\/p>
Date of Next Image:<\/span><\/p>
Unknown<\/span><\/p>
Summary:<\/span><\/p>
The Advanced Rapid Imaging and Analysis (ARIA) team at NASA's Jet Propulsion Laboratory and California Institute of Technology created the Damage Proxy Map (DPM2) depicting areas that are likely damaged or changed in Morocco due to Earthquake in September 8 2023. This map was derived from synthetic aperture radar (SAR) images acquired by the ALOS-2 satellites operated by the Japan Aerospace Exploration Agency (JAXA) from July 2015 to September 2023.<\/span><\/p>
Suggested Use:<\/span><\/p>
The color variation from pale yellow to red indicates increasingly more significant surface change (drop in radar reflection coherence). Preliminary validation was done by comparing with high-resolution optical imagery and media reports.<\/span><\/p>
NOTE: <\/span>This damage proxy map could be used as a guidance to identify damaged areas, and may be less reliable over vegetated areas and in the mountains. Scattered pixels over vegetated areas may be false positives, and a lack of colored pixels over vegetated areas may not mean no damage. Because the ALOS-2 images are only acquired once or twice a year, other changes such as agricultural activities may be included in this DPM.<\/span><\/p>
Satellite/Sensor:<\/span><\/p>
Japan Aerospace Exploration Agency (JAXA) ALOS-2<\/span><\/p>
Resolution:<\/span><\/p>
30 meters<\/span><\/p>
Credits:<\/span><\/p>
The product contains modified ALOS2 data (2015-2023), processed by JAXA and analyzed by the NASA-JPL/Caltech ARIA team. NASA's Earth Applied Sciences Disasters Program provided part of the funding.<\/span><\/p>
Esri REST Endpoint:<\/span><\/p>
See URL section on right side of page<\/span><\/p>
WMS Endpoint:<\/span><\/p>
https://maps.disasters.nasa.gov/ags04/services/morocco_earthquake_202309/aria_dpm_alos2_202309/ImageServer/WMSServer<\/a>
<\/span><\/p>
<\/span><\/p>
Data Download:<\/span><\/p>
https://aria-share.jpl.nasa.gov/202309_Morocco_EQ/DPM/<\/span><\/a><\/p><\/div><\/div><\/div>", "name": "morocco_earthquake_202309/aria_dpm_alos2_202309", "description": "

NOTE: <\/span>This damage proxy map could be used as a guidance to identify damaged areas particularly in more urban areas, and may be less reliable over vegetated areas and in the mountains. Scattered pixels over vegetated areas may be false positives, and a lack of colored pixels over vegetated areas may not mean no damage. Because the ALOS-2 images are only acquired once or twice a year, other changes such as agricultural activities may be included in this DPM.<\/span><\/p>
Date of Image:<\/span><\/p>
September 2023<\/span><\/p>
Date of Next Image:<\/span><\/p>
Unknown<\/span><\/p>
Summary:<\/span><\/p>
The Advanced Rapid Imaging and Analysis (ARIA) team at NASA's Jet Propulsion Laboratory and California Institute of Technology created the Damage Proxy Map (DPM2) depicting areas that are likely damaged or changed in Morocco due to Earthquake in September 8 2023. This map was derived from synthetic aperture radar (SAR) images acquired by the ALOS-2 satellites operated by the Japan Aerospace Exploration Agency (JAXA) from July 2015 to September 2023.<\/span><\/p>
Suggested Use:<\/span><\/p>
The color variation from pale yellow to red indicates increasingly more significant surface change (drop in radar reflection coherence). Preliminary validation was done by comparing with high-resolution optical imagery and media reports.<\/span><\/p>
NOTE: <\/span>This damage proxy map could be used as a guidance to identify damaged areas, and may be less reliable over vegetated areas and in the mountains. Scattered pixels over vegetated areas may be false positives, and a lack of colored pixels over vegetated areas may not mean no damage. Because the ALOS-2 images are only acquired once or twice a year, other changes such as agricultural activities may be included in this DPM.<\/span><\/p>
Satellite/Sensor:<\/span><\/p>
Japan Aerospace Exploration Agency (JAXA) ALOS-2<\/span><\/p>
Resolution:<\/span><\/p>
30 meters<\/span><\/p>
Credits:<\/span><\/p>
The product contains modified ALOS2 data (2015-2023), processed by JAXA and analyzed by the NASA-JPL/Caltech ARIA team. NASA's Earth Applied Sciences Disasters Program provided part of the funding.<\/span><\/p>
Esri REST Endpoint:<\/span><\/p>
See URL section on right side of page<\/span><\/p>
WMS Endpoint:<\/span><\/p>
https://maps.disasters.nasa.gov/ags04/services/morocco_earthquake_202309/aria_dpm_alos2_202309/ImageServer/WMSServer<\/a>
<\/span><\/p>
<\/span><\/p>
Data Download:<\/span><\/p>
https://aria-share.jpl.nasa.gov/202309_Morocco_EQ/DPM/<\/span><\/a><\/p><\/div><\/div><\/div>", "extent": { "xmin": -8.926388889, "ymin": 30.818333333, "xmax": -8.100555556, "ymax": 31.528333333, "spatialReference": { "wkid": 4326, "latestWkid": 4326 } }, "initialExtent": { "xmin": -8.926388889, "ymin": 30.818333333, "xmax": -8.100555556, "ymax": 31.528333333, "spatialReference": { "wkid": 4326, "latestWkid": 4326 } }, "fullExtent": { "xmin": -8.926388889, "ymin": 30.818333333, "xmax": -8.100555556, "ymax": 31.528333333, "spatialReference": { "wkid": 4326, "latestWkid": 4326 } }, "hasMultidimensions": false, "pixelSizeX": 2.7777777766565767E-4, "pixelSizeY": 2.7777777777777675E-4, "datasetFormat": "TIFF", "uncompressedSize": 30384060, "blockWidth": 2973, "blockHeight": 1, "compressionType": "None", "bandNames": [ "Band_1", "Band_2", "Band_3", "Band_4" ], "allowCopy": true, "allowAnalysis": true, "bandCount": 4, "pixelType": "U8", "minPixelSize": 0, "maxPixelSize": 0, "copyrightText": "JAXA, NASA-JPL/Caltech ARIA team, NASA Disasters Program, NASA", "serviceDataType": "esriImageServiceDataTypeGeneric", "serviceSourceType": "esriImageServiceSourceTypeDataset", "minValues": [ 0, 0, 0, 0 ], "maxValues": [ 255, 255, 0, 255 ], "meanValues": [ 22.161136588189, 16.071706258782, 0, 22.834666931967 ], "stdvValues": [ 71.001600505039, 59.049404321594, 0, 72.810842265459 ], "objectIdField": "", "fields": [], "capabilities": "Mensuration,Image,Metadata", "defaultMosaicMethod": "Center", "allowedMosaicMethods": "", "sortField": "", "sortValue": null, "sortAscending": true, "mosaicOperator": "First", "defaultCompressionQuality": 75, "defaultResamplingMethod": "Nearest", "maxImageHeight": 4100, "maxImageWidth": 15000, "allowRasterFunction": true, "rasterFunctionInfos": [ { "name": "RGB Composite", "description": "A raster function template.", "help": "" }, { "name": "None", "description": "", "help": "" } ], "rasterTypeInfos": [ { "name": "Raster Dataset", "description": "Supports all ArcGIS Raster Datasets", "help": "" } ], "mensurationCapabilities": "Basic", "hasHistograms": true, "hasColormap": false, "hasRasterAttributeTable": false, "minScale": 0, "maxScale": 0, "exportTilesAllowed": false, "supportsStatistics": false, "supportsAdvancedQueries": false, "editFieldsInfo": null, "ownershipBasedAccessControlForRasters": null, "allowComputeTiePoints": false, "useStandardizedQueries": true, "advancedQueryCapabilities": { "useStandardizedQueries": true, "supportsStatistics": false, "supportsOrderBy": false, "supportsDistinct": false, "supportsPagination": false }, "spatialReference": { "wkid": 4326, "latestWkid": 4326 } }