{
 "currentVersion": 10.91,
 "serviceDescription": "<div style='text-align:Left;'><div><div><p><span style='font-weight:bold;'>Date of Image: <\/span><\/p><p><span>5/28/2021<\/span><\/p><p><span style='font-weight:bold;'>Date of Next Image: <\/span><\/p><p><span>Unknown <\/span><\/p><p><span style='font-weight:bold;'>Summary: <\/span><\/p><p><span>Interferometric SAR (InSAR) uses the phase differences from repeat passes over the same area to identify regions where the distance between the sensor and the earth's surface has changed. This allows for the detection and quantification of deformation or movement. This ALOS-2 co-eruptive interferogram showing the line-of-sight (LOS) fringes (12 cm/fringe). The descending track (path 77) interferogram shows the difference between May 28, 2021 and May 14, 2021. Satellite LOS is to the WNW (parallel bottom edge of interferogram) from an angle between 35-40 degrees from nadir. Interpretation is that this is the deformation due to a dike intrusion to the SE of Nyiragongo volcano (green triangle in center).<\/span><\/p><p><span style='font-weight:bold;'>Suggested Use: <\/span><\/p><p><span>This interferogram shows permant ground movement/deformation due to the recent earthquakes. Each color contour (blue to blue) indicates 12 cm of permanent ground motion.<\/span><\/p><p><span style='font-weight:bold;'>Satellite/Sensor: <\/span><\/p><p><span>Japan Aerospace Exploration Agency (JAXA) ALOS-2 PALSAR-2<\/span><\/p><p><span style='font-weight:bold;'>Resolution:<\/span><\/p><p><span>30 meters; not all of the resolution is maintained by the conversion to KMZ file.<\/span><\/p><p><span style='font-weight:bold;'>Credits: <\/span><\/p><p><span>NASA-JPL/Caltech, Paul Lundgren, JAXA <\/span><\/p><p><span style='font-weight:bold;'>Esri REST Endpoint: <\/span><\/p><p><span>See URL section on right side of page<\/span><\/p><p><span style='font-weight:bold;'>WMS Endpoint: <\/span><\/p><p><span style='font-weight:bold;'>Data Download:<\/span><\/p><p><a href='https://maps.disasters.nasa.gov/download/gis_products/event_specific/2021/mount_nyiragongo_eruption/alos2/'><span>https://maps.disasters.nasa.gov/download/gis_products/event_specific/2021/mount_nyiragongo_eruption/alos2/<\/span><\/a><\/p><p><span /><\/p><\/div><\/div><\/div>",
 "name": "mount_nyiragongo_eruption_2021/interferogram_alos2_20210528",
 "description": "<div style='text-align:Left;'><div><div><p><span style='font-weight:bold;'>Date of Image: <\/span><\/p><p><span>5/28/2021<\/span><\/p><p><span style='font-weight:bold;'>Date of Next Image: <\/span><\/p><p><span>Unknown <\/span><\/p><p><span style='font-weight:bold;'>Summary: <\/span><\/p><p><span>Interferometric SAR (InSAR) uses the phase differences from repeat passes over the same area to identify regions where the distance between the sensor and the earth's surface has changed. This allows for the detection and quantification of deformation or movement. This ALOS-2 co-eruptive interferogram showing the line-of-sight (LOS) fringes (12 cm/fringe). The descending track (path 77) interferogram shows the difference between May 28, 2021 and May 14, 2021. Satellite LOS is to the WNW (parallel bottom edge of interferogram) from an angle between 35-40 degrees from nadir. Interpretation is that this is the deformation due to a dike intrusion to the SE of Nyiragongo volcano (green triangle in center).<\/span><\/p><p><span style='font-weight:bold;'>Suggested Use: <\/span><\/p><p><span>This interferogram shows permant ground movement/deformation due to the recent earthquakes. Each color contour (blue to blue) indicates 12 cm of permanent ground motion.<\/span><\/p><p><span style='font-weight:bold;'>Satellite/Sensor: <\/span><\/p><p><span>Japan Aerospace Exploration Agency (JAXA) ALOS-2 PALSAR-2<\/span><\/p><p><span style='font-weight:bold;'>Resolution:<\/span><\/p><p><span>30 meters; not all of the resolution is maintained by the conversion to KMZ file.<\/span><\/p><p><span style='font-weight:bold;'>Credits: <\/span><\/p><p><span>NASA-JPL/Caltech, Paul Lundgren, JAXA <\/span><\/p><p><span style='font-weight:bold;'>Esri REST Endpoint: <\/span><\/p><p><span>See URL section on right side of page<\/span><\/p><p><span style='font-weight:bold;'>WMS Endpoint: <\/span><\/p><p><span style='font-weight:bold;'>Data Download:<\/span><\/p><p><a href='https://maps.disasters.nasa.gov/download/gis_products/event_specific/2021/mount_nyiragongo_eruption/alos2/'><span>https://maps.disasters.nasa.gov/download/gis_products/event_specific/2021/mount_nyiragongo_eruption/alos2/<\/span><\/a><\/p><p><span /><\/p><\/div><\/div><\/div>",
 "extent": {
  "xmin": 29,
  "ymin": -2,
  "xmax": 29.75,
  "ymax": -1.2500000000000002,
  "spatialReference": {
   "wkid": 4326,
   "latestWkid": 4326,
   "vcsWkid": 5773,
   "latestVcsWkid": 5773
  }
 },
 "initialExtent": {
  "xmin": 29,
  "ymin": -2,
  "xmax": 29.75,
  "ymax": -1.2500000000000002,
  "spatialReference": {
   "wkid": 4326,
   "latestWkid": 4326,
   "vcsWkid": 5773,
   "latestVcsWkid": 5773
  }
 },
 "fullExtent": {
  "xmin": 29,
  "ymin": -2,
  "xmax": 29.75,
  "ymax": -1.2500000000000002,
  "spatialReference": {
   "wkid": 4326,
   "latestWkid": 4326,
   "vcsWkid": 5773,
   "latestVcsWkid": 5773
  }
 },
 "heightModelInfo": {
  "heightModel": "gravity_related_height",
  "vertCRS": "EGM96_Geoid",
  "heightUnit": "meter"
 },
 "hasMultidimensions": false,
 "pixelSizeX": 8.32408435072142E-4,
 "pixelSizeY": 8.324084350721418E-4,
 "datasetFormat": "PNG",
 "uncompressedSize": 3247204,
 "blockWidth": 901,
 "blockHeight": 1,
 "compressionType": "Deflate/Inflate",
 "bandNames": [
  "Band_1",
  "Band_2",
  "Band_3",
  "Band_4"
 ],
 "allowCopy": true,
 "allowAnalysis": true,
 "bandCount": 4,
 "pixelType": "U8",
 "minPixelSize": 0,
 "maxPixelSize": 0,
 "copyrightText": "NASA-JPL/Caltech, Paul Lundgren, JAXA",
 "serviceDataType": "esriImageServiceDataTypeGeneric",
 "serviceSourceType": "esriImageServiceSourceTypeDataset",
 "minValues": [],
 "maxValues": [],
 "meanValues": [],
 "stdvValues": [],
 "objectIdField": "",
 "fields": [],
 "capabilities": "Mensuration,Image,Metadata",
 "defaultMosaicMethod": "Center",
 "allowedMosaicMethods": "",
 "sortField": "",
 "sortValue": null,
 "sortAscending": true,
 "mosaicOperator": "First",
 "defaultCompressionQuality": 75,
 "defaultResamplingMethod": "Nearest",
 "maxImageHeight": 4100,
 "maxImageWidth": 15000,
 "allowRasterFunction": true,
 "rasterFunctionInfos": [
  {
   "name": "mt_nyiragongo_interferogram",
   "description": "A raster function template.",
   "help": ""
  },
  {
   "name": "None",
   "description": "",
   "help": ""
  }
 ],
 "rasterTypeInfos": [
  {
   "name": "Raster Dataset",
   "description": "Supports all ArcGIS Raster Datasets",
   "help": ""
  }
 ],
 "mensurationCapabilities": "Basic",
 "hasHistograms": false,
 "hasColormap": false,
 "hasRasterAttributeTable": false,
 "minScale": 0,
 "maxScale": 0,
 "exportTilesAllowed": false,
 "supportsStatistics": false,
 "supportsAdvancedQueries": false,
 "editFieldsInfo": null,
 "ownershipBasedAccessControlForRasters": null,
 "allowComputeTiePoints": false,
 "useStandardizedQueries": true,
 "advancedQueryCapabilities": {
  "useStandardizedQueries": true,
  "supportsStatistics": false,
  "supportsOrderBy": false,
  "supportsDistinct": false,
  "supportsPagination": false
 },
 "spatialReference": {
  "wkid": 4326,
  "latestWkid": 4326,
  "vcsWkid": 5773,
  "latestVcsWkid": 5773
 }
}
