Date of Image: <\/span><\/p>6/20/2021<\/span><\/p>Date of Next Image: <\/span><\/p>Unknown<\/span><\/p>Summary:<\/span><\/p>This preliminary map shows areas that are likely damaged (shown by light blue pixels of 30 m in size) in Langtang National Park, Nepal, due to a landslide triggered by heavy rains. The extent of the synthetic aperture radar image used is indicated by the white polygon. <\/span><\/p>Derived from synthetic aperture radar data acquired by the Copernicus Sentinel-1 satellites operated by the European Space Agency (ESA) before (8 Jun) and after (20 Jun) the event. <\/span><\/p>Due to steep topography of this area, parts of the map may be subject to slight shift in location or being in radar shadow (not visible to the sensor). <\/span><\/p>Suggested Use:<\/span><\/p>Light Blue pixels show areas that are likely damaged due to a landslide triggered by heavy rains. This map should be used as guidance to identify flooded areas, and may be less reliable over urban and vegetated areas.<\/span><\/p>Satellite/Sensor:<\/span><\/p>Synthetic Aperture Radar (SAR) on European Space Agency's (ESA) Copernicus Sentinel-1 satellite<\/span><\/p>Resolution: <\/span><\/p>30 meters<\/span><\/p>Credits:<\/span><\/p>Analysed by the ARIA-SG team at the Earth Observatory of Singapore (EOS) in collaboration with NASA-JPL and Caltech. Contains modified Copernicus Sentinel data (2021)<\/span><\/p>Esri REST Endpoint:<\/span><\/p>See URL Section on right side of page<\/span><\/p>WMS Endpoint:<\/span><\/p>Data Download:<\/span><\/p>http://ariasg-products.earthobservatory.sg/EOS_ARIA-SG_202106_Nepal_Landslide/<\/span><\/a><\/p><\/div><\/div><\/div>",
"extent": {
"xmin": 85.541388889,
"ymin": 28.069722223,
"xmax": 85.549444444,
"ymax": 28.1025,
"spatialReference": {
"wkid": 4326,
"latestWkid": 4326
}
},
"initialExtent": {
"xmin": 85.541388889,
"ymin": 28.069722223,
"xmax": 85.549444444,
"ymax": 28.1025,
"spatialReference": {
"wkid": 4326,
"latestWkid": 4326
}
},
"fullExtent": {
"xmin": 85.541388889,
"ymin": 28.069722223,
"xmax": 85.549444444,
"ymax": 28.1025,
"spatialReference": {
"wkid": 4326,
"latestWkid": 4326
}
},
"hasMultidimensions": false,
"pixelSizeX": 2.777777586206396E-4,
"pixelSizeY": 2.777777711864384E-4,
"datasetFormat": "TIFF",
"uncompressedSize": 13688,
"blockWidth": 29,
"blockHeight": 70,
"compressionType": "None",
"bandNames": [
"Band_1",
"Band_2",
"Band_3",
"Band_4"
],
"allowCopy": true,
"allowAnalysis": true,
"bandCount": 4,
"pixelType": "U8",
"minPixelSize": 0,
"maxPixelSize": 0,
"copyrightText": "ARIA, NASA-JPL/Caltech, Earth Observatory of Singapore",
"serviceDataType": "esriImageServiceDataTypeGeneric",
"serviceSourceType": "esriImageServiceSourceTypeDataset",
"minValues": [],
"maxValues": [],
"meanValues": [],
"stdvValues": [],
"objectIdField": "",
"fields": [],
"capabilities": "Mensuration,Image,Metadata",
"defaultMosaicMethod": "Center",
"allowedMosaicMethods": "",
"sortField": "",
"sortValue": null,
"sortAscending": true,
"mosaicOperator": "First",
"defaultCompressionQuality": 75,
"defaultResamplingMethod": "Nearest",
"maxImageHeight": 4100,
"maxImageWidth": 15000,
"allowRasterFunction": true,
"rasterFunctionInfos": [
{
"name": "sentinel_rgb",
"description": "A raster function template.",
"help": ""
},
{
"name": "None",
"description": "",
"help": ""
}
],
"rasterTypeInfos": [
{
"name": "Raster Dataset",
"description": "Supports all ArcGIS Raster Datasets",
"help": ""
}
],
"mensurationCapabilities": "Basic",
"hasHistograms": false,
"hasColormap": false,
"hasRasterAttributeTable": false,
"minScale": 0,
"maxScale": 0,
"exportTilesAllowed": false,
"supportsStatistics": false,
"supportsAdvancedQueries": false,
"editFieldsInfo": null,
"ownershipBasedAccessControlForRasters": null,
"allowComputeTiePoints": false,
"useStandardizedQueries": true,
"advancedQueryCapabilities": {
"useStandardizedQueries": true,
"supportsStatistics": false,
"supportsOrderBy": false,
"supportsDistinct": false,
"supportsPagination": false
},
"spatialReference": {
"wkid": 4326,
"latestWkid": 4326
}
}