{ "currentVersion": 10.91, "serviceDescription": "
Sentinel-5P/TROPOMI Average SO2 2018-2020<\/span><\/p><\/div><\/div><\/div>",
"name": "non_response/sentinel5p_tropomi_so2_average_2018_2020",
"description": " Sentinel-5P/TROPOMI Average SO2 2018-2020<\/span><\/p><\/div><\/div><\/div>",
"extent": {
"xmin": -180,
"ymin": -51,
"xmax": 180,
"ymax": 72,
"spatialReference": {
"wkid": 4326,
"latestWkid": 4326
}
},
"initialExtent": {
"xmin": -180,
"ymin": -51,
"xmax": 180,
"ymax": 72,
"spatialReference": {
"wkid": 4326,
"latestWkid": 4326
}
},
"fullExtent": {
"xmin": -180,
"ymin": -51,
"xmax": 180,
"ymax": 72,
"spatialReference": {
"wkid": 4326,
"latestWkid": 4326
}
},
"hasMultidimensions": false,
"pixelSizeX": 0.014999375026040582,
"pixelSizeY": 0.014998170954761615,
"datasetFormat": "TIFF",
"uncompressedSize": 590496603,
"blockWidth": 2416,
"blockHeight": 832,
"compressionType": "PACKBITS",
"bandNames": [
"Band_1",
"Band_2",
"Band_3"
],
"allowCopy": true,
"allowAnalysis": true,
"bandCount": 3,
"pixelType": "U8",
"minPixelSize": 0,
"maxPixelSize": 0,
"copyrightText": "S5P/TROPOMI average SO2 map courtesy Nicolas Theys (BIRA-IASB)",
"serviceDataType": "esriImageServiceDataTypeRGB",
"serviceSourceType": "esriImageServiceSourceTypeDataset",
"minValues": [
0,
0,
0
],
"maxValues": [
255,
255,
255
],
"meanValues": [
239.68799586305,
253.04896963478,
241.35290024013
],
"stdvValues": [
32.764164547636,
19.389936570119,
44.211475180888
],
"objectIdField": "",
"fields": [],
"capabilities": "Mensuration,Image,Metadata",
"defaultMosaicMethod": "Center",
"allowedMosaicMethods": "",
"sortField": "",
"sortValue": null,
"sortAscending": true,
"mosaicOperator": "First",
"defaultCompressionQuality": 75,
"defaultResamplingMethod": "Bilinear",
"maxImageHeight": 4100,
"maxImageWidth": 15000,
"allowRasterFunction": true,
"rasterFunctionInfos": [
{
"name": "None",
"description": "",
"help": ""
}
],
"rasterTypeInfos": [
{
"name": "Raster Dataset",
"description": "Supports all ArcGIS Raster Datasets",
"help": ""
}
],
"mensurationCapabilities": "Basic",
"hasHistograms": true,
"hasColormap": false,
"hasRasterAttributeTable": false,
"minScale": 0,
"maxScale": 0,
"exportTilesAllowed": false,
"supportsStatistics": false,
"supportsAdvancedQueries": false,
"editFieldsInfo": null,
"ownershipBasedAccessControlForRasters": null,
"allowComputeTiePoints": false,
"useStandardizedQueries": true,
"advancedQueryCapabilities": {
"useStandardizedQueries": true,
"supportsStatistics": false,
"supportsOrderBy": false,
"supportsDistinct": false,
"supportsPagination": false
},
"spatialReference": {
"wkid": 4326,
"latestWkid": 4326
}
}