{
 "currentVersion": 10.91,
 "serviceDescription": "\n\nDate of Image:\n\n\n8/2/2021\n\n\n\nDate of Next Image:\n\n\nNone expected\n\n\n\nSummary:\n\n\nThe Advanced Rapid Imaging and Analysis (ARIA) team at NASA's Jet Propulsion Laboratory and California Institute of Technology, both in Pasadena, California, created this Damage Proxy Map (DPM) depicting areas that are likely damaged by the recent Mw 6.2 (July 30, 2021) earthquake beneath the ESE of Sullana, Peru. The map was derived from synthetic aperture radar (SAR) images on Aug 02, 2021 by the Copernicus Sentinel-1 satellites operated by the European Space Agency (ESA). The pre-event images were taken before (July 09, 2021 and July 21, 2021) the earthquake. \n\nThe image covers an area of 102 by 175 kilometers (63 by 108 miles), shown by the large red polygon. Each pixel measures about 30 meters across. The color variation from yellow to red indicates increasingly more significant surface change. Preliminary validation was done by comparing with the Media reports. \n\nThis damage proxy map should be used as guidance to identify damaged areas, and may be less reliable over vegetated areas. For example, the scattered colored pixels over vegetated areas may be false positives, and the lack of colored pixels over vegetated areas does not necessarily mean no damage. Other areas that had large surface changes between July 21 and August 2 due to rain, flood, or other effects may also be included in the damage proxy estimate. This map is most sensitive to building damage, but small-scale change or partial structural damage may not be detected by this map. \n\n\n\nContains modified Copernicus Sentinel data, processed by ESA. Analyzed by the NASA-JPL/Caltech ARIA team. This task was carried out at JPL funded by NASA. \n\n\n\n\nSuggested Use:\n\n\nThis damage proxy map shows surface change with yellow to red indicating more significant change or building damage due to the earthquake. The map may be less reliable over vegetated areas. The lack of colored pixels over vegetated areas does not necessarily mean no damage. Small scale change or partial structural damage may not be detected by this map.\n\n\n\n\nSatellite/Sensor:\n\n\nCopernicus Sentinel-1 Synthetic Aperture Radar (SAR)\n\n\n\nResolution:\n\n\n30 meters\n\n\n\nCredits:\n\n\nThe product contains modified Copernicus Sentinel data (2021), processed by ESA and analyzed by the NASA-JPL/Caltech ARIA team and EOS team. Part of the fund was provided by NASA's Earth Science Disasters Program.\n\n\n\nEsri REST Endpoint:\n\n\nSee URL section on right side of page\n\n\n\nWMS Endpoint:\n\n\n\nData Download:\nhttps://aria-share.jpl.nasa.gov/20210730-Sullana_Peru_EQ/DPM/",
 "name": "peru_earthquake_202107/aria_dpm_sentinel1_20210802",
 "description": "\n\nDate of Image:\n\n\n8/2/2021\n\n\n\nDate of Next Image:\n\n\nNone expected\n\n\n\nSummary:\n\n\nThe Advanced Rapid Imaging and Analysis (ARIA) team at NASA's Jet Propulsion Laboratory and California Institute of Technology, both in Pasadena, California, created this Damage Proxy Map (DPM) depicting areas that are likely damaged by the recent Mw 6.2 (July 30, 2021) earthquake beneath the ESE of Sullana, Peru. The map was derived from synthetic aperture radar (SAR) images on Aug 02, 2021 by the Copernicus Sentinel-1 satellites operated by the European Space Agency (ESA). The pre-event images were taken before (July 09, 2021 and July 21, 2021) the earthquake. \n\nThe image covers an area of 102 by 175 kilometers (63 by 108 miles), shown by the large red polygon. Each pixel measures about 30 meters across. The color variation from yellow to red indicates increasingly more significant surface change. Preliminary validation was done by comparing with the Media reports. \n\nThis damage proxy map should be used as guidance to identify damaged areas, and may be less reliable over vegetated areas. For example, the scattered colored pixels over vegetated areas may be false positives, and the lack of colored pixels over vegetated areas does not necessarily mean no damage. Other areas that had large surface changes between July 21 and August 2 due to rain, flood, or other effects may also be included in the damage proxy estimate. This map is most sensitive to building damage, but small-scale change or partial structural damage may not be detected by this map. \n\n\n\nContains modified Copernicus Sentinel data, processed by ESA. Analyzed by the NASA-JPL/Caltech ARIA team. This task was carried out at JPL funded by NASA. \n\n\n\n\nSuggested Use:\n\n\nThis damage proxy map shows surface change with yellow to red indicating more significant change or building damage due to the earthquake. The map may be less reliable over vegetated areas. The lack of colored pixels over vegetated areas does not necessarily mean no damage. Small scale change or partial structural damage may not be detected by this map.\n\n\n\n\nSatellite/Sensor:\n\n\nCopernicus Sentinel-1 Synthetic Aperture Radar (SAR)\n\n\n\nResolution:\n\n\n30 meters\n\n\n\nCredits:\n\n\nThe product contains modified Copernicus Sentinel data (2021), processed by ESA and analyzed by the NASA-JPL/Caltech ARIA team and EOS team. Part of the fund was provided by NASA's Earth Science Disasters Program.\n\n\n\nEsri REST Endpoint:\n\n\nSee URL section on right side of page\n\n\n\nWMS Endpoint:\n\n\n\nData Download:\nhttps://aria-share.jpl.nasa.gov/20210730-Sullana_Peru_EQ/DPM/",
 "extent": {
  "xmin": -81.7994542,
  "ymin": -5.596185829885963,
  "xmax": -80.07817163076861,
  "ymax": -4.5133719,
  "spatialReference": {
   "wkid": 4326,
   "latestWkid": 4326
  }
 },
 "initialExtent": {
  "xmin": -81.7994542,
  "ymin": -5.596185829885963,
  "xmax": -80.07817163076861,
  "ymax": -4.5133719,
  "spatialReference": {
   "wkid": 4326,
   "latestWkid": 4326
  }
 },
 "fullExtent": {
  "xmin": -81.7994542,
  "ymin": -5.596185829885963,
  "xmax": -80.07817163076861,
  "ymax": -4.5133719,
  "spatialReference": {
   "wkid": 4326,
   "latestWkid": 4326
  }
 },
 "hasMultidimensions": false,
 "pixelSizeX": 1.388579032939167E-4,
 "pixelSizeY": 1.3885790329391673E-4,
 "datasetFormat": "TIFF",
 "uncompressedSize": 386624840,
 "blockWidth": 12396,
 "blockHeight": 1,
 "compressionType": "None",
 "bandNames": [
  "Band_1",
  "Band_2",
  "Band_3",
  "Band_4"
 ],
 "allowCopy": true,
 "allowAnalysis": true,
 "bandCount": 4,
 "pixelType": "U8",
 "minPixelSize": 0,
 "maxPixelSize": 0,
 "copyrightText": "NASA-JPL/Caltech ARIA Team, ESA, Copernicus",
 "serviceDataType": "esriImageServiceDataTypeGeneric",
 "serviceSourceType": "esriImageServiceSourceTypeDataset",
 "minValues": [
  0,
  0,
  0,
  0
 ],
 "maxValues": [
  255,
  255,
  0,
  255
 ],
 "meanValues": [
  6.3694036874627,
  3.4905440192377,
  0,
  6.5252538152579
 ],
 "stdvValues": [
  38.388367062207,
  27.238676302416,
  0,
  38.621018413837
 ],
 "objectIdField": "",
 "fields": [],
 "capabilities": "Mensuration,Image,Metadata",
 "defaultMosaicMethod": "Center",
 "allowedMosaicMethods": "",
 "sortField": "",
 "sortValue": null,
 "sortAscending": true,
 "mosaicOperator": "First",
 "defaultCompressionQuality": 75,
 "defaultResamplingMethod": "Nearest",
 "maxImageHeight": 4100,
 "maxImageWidth": 15000,
 "allowRasterFunction": true,
 "rasterFunctionInfos": [
  {
   "name": "RGB Composite",
   "description": "A raster function template.",
   "help": ""
  },
  {
   "name": "None",
   "description": "",
   "help": ""
  }
 ],
 "rasterTypeInfos": [
  {
   "name": "Raster Dataset",
   "description": "Supports all ArcGIS Raster Datasets",
   "help": ""
  }
 ],
 "mensurationCapabilities": "Basic",
 "hasHistograms": true,
 "hasColormap": false,
 "hasRasterAttributeTable": false,
 "minScale": 0,
 "maxScale": 0,
 "exportTilesAllowed": false,
 "supportsStatistics": false,
 "supportsAdvancedQueries": false,
 "editFieldsInfo": null,
 "ownershipBasedAccessControlForRasters": null,
 "allowComputeTiePoints": false,
 "useStandardizedQueries": true,
 "advancedQueryCapabilities": {
  "useStandardizedQueries": true,
  "supportsStatistics": false,
  "supportsOrderBy": false,
  "supportsDistinct": false,
  "supportsPagination": false
 },
 "spatialReference": {
  "wkid": 4326,
  "latestWkid": 4326
 }
}
