{ "currentVersion": 10.91, "serviceDescription": "
Date of Image:<\/span><\/p> 1/9/2020<\/span><\/p> Date of Next Image:<\/span><\/p> Unknown<\/span><\/p> Summary: <\/span><\/p> The Advanced Rapid Imaging and Analysis (ARIA) data system at NASA's Jet Propulsion Laboratory in Pasadena, California, automatically processed this interferogram or difference between two radar images to produce this suface displacement map. The maps were derived from synthetic aperture radar (SAR) data acquired on 12/28/2019 and 1/9/2020 by the Copernicus Sentinel-1 satellites operated by the European Space Agency (ESA).<\/span><\/p> Suggested Use:<\/span><\/p> Areas in red are surface displacement down and to the west. Areas in blue are up and to the east.<\/span><\/p> Satellite/Sensor:<\/span><\/p> Copernicus Sentinel-1 Sythetic Aperture Radar (SAR) <\/span><\/p> Resolution: 30 meters<\/span><\/p> Credits:<\/span><\/p> Contains modified Copernicus Sentinel data, processed by ESA (2020). Analyzed by the NASA-JPL/Caltech ARIA team. This task was carried out at JPL funded by NASA.<\/span><\/p><\/div><\/div><\/div>",
"name": "puerto_rico_earthquake_202001/aria_displacement_sentinel1_20200109",
"description": " Date of Image:<\/span><\/p> 1/9/2020<\/span><\/p> Date of Next Image:<\/span><\/p> Unknown<\/span><\/p> Summary: <\/span><\/p> The Advanced Rapid Imaging and Analysis (ARIA) data system at NASA's Jet Propulsion Laboratory in Pasadena, California, automatically processed this interferogram or difference between two radar images to produce this suface displacement map. The maps were derived from synthetic aperture radar (SAR) data acquired on 12/28/2019 and 1/9/2020 by the Copernicus Sentinel-1 satellites operated by the European Space Agency (ESA).<\/span><\/p> Suggested Use:<\/span><\/p> Areas in red are surface displacement down and to the west. Areas in blue are up and to the east.<\/span><\/p> Satellite/Sensor:<\/span><\/p> Copernicus Sentinel-1 Sythetic Aperture Radar (SAR) <\/span><\/p> Resolution: 30 meters<\/span><\/p> Credits:<\/span><\/p> Contains modified Copernicus Sentinel data, processed by ESA (2020). Analyzed by the NASA-JPL/Caltech ARIA team. This task was carried out at JPL funded by NASA.<\/span><\/p><\/div><\/div><\/div>",
"extent": {
"xmin": -66.823888889,
"ymin": 17.829166666849,
"xmax": -66.318888888596,
"ymax": 18.186666667135,
"spatialReference": {
"wkid": 4326,
"latestWkid": 4326
}
},
"initialExtent": {
"xmin": -66.823888889,
"ymin": 17.829166666849,
"xmax": -66.318888888596,
"ymax": 18.186666667135,
"spatialReference": {
"wkid": 4326,
"latestWkid": 4326
}
},
"fullExtent": {
"xmin": -66.823888889,
"ymin": 17.829166666849,
"xmax": -66.318888888596,
"ymax": 18.186666667135,
"spatialReference": {
"wkid": 4326,
"latestWkid": 4326
}
},
"hasMultidimensions": false,
"pixelSizeX": 8.333333339999931E-4,
"pixelSizeY": 8.333333339999969E-4,
"datasetFormat": "GRID",
"uncompressedSize": 1039896,
"blockWidth": 256,
"blockHeight": 16,
"compressionType": "None",
"bandNames": [
"s1_20200109"
],
"allowCopy": true,
"allowAnalysis": true,
"bandCount": 1,
"noDataValue": -3.4028234663852886E38,
"noDataValues": [
-3.4028234663852886E38
],
"pixelType": "F32",
"minPixelSize": 0,
"maxPixelSize": 0,
"copyrightText": "NASA-JPL/Caltech ARIA team, ESA, Copernicus",
"serviceDataType": "esriImageServiceDataTypeGeneric",
"serviceSourceType": "esriImageServiceSourceTypeDataset",
"minValues": [
-0.03950091823935509
],
"maxValues": [
0.18832892179489136
],
"meanValues": [
0.11699700076658902
],
"stdvValues": [
0.0182482708064249
],
"objectIdField": "",
"fields": [],
"capabilities": "Mensuration,Image,Metadata",
"defaultMosaicMethod": "Center",
"allowedMosaicMethods": "",
"sortField": "",
"sortValue": null,
"sortAscending": true,
"mosaicOperator": "First",
"defaultCompressionQuality": 75,
"defaultResamplingMethod": "Bilinear",
"maxImageHeight": 4100,
"maxImageWidth": 15000,
"allowRasterFunction": true,
"rasterFunctionInfos": [
{
"name": "aria_displacement_pr_202001",
"description": "A raster function template.",
"help": ""
},
{
"name": "None",
"description": "",
"help": ""
}
],
"rasterTypeInfos": [
{
"name": "Raster Dataset",
"description": "Supports all ArcGIS Raster Datasets",
"help": ""
}
],
"mensurationCapabilities": "Basic",
"hasHistograms": true,
"hasColormap": false,
"hasRasterAttributeTable": false,
"minScale": 0,
"maxScale": 0,
"exportTilesAllowed": false,
"supportsStatistics": false,
"supportsAdvancedQueries": false,
"editFieldsInfo": null,
"ownershipBasedAccessControlForRasters": null,
"allowComputeTiePoints": false,
"useStandardizedQueries": true,
"advancedQueryCapabilities": {
"useStandardizedQueries": true,
"supportsStatistics": false,
"supportsOrderBy": false,
"supportsDistinct": false,
"supportsPagination": false
},
"spatialReference": {
"wkid": 4326,
"latestWkid": 4326
}
}