Date of Image:<\/span><\/p>1/14/2020<\/span><\/p>Date of Next Image:<\/span><\/p>Unknown<\/span><\/p>Summary:<\/span><\/p>The Advanced Rapid Imaging and Analysis (ARIA) data system at NASA's Jet Propulsion Laboratory in Pasadena, California, automatically processed this interferogram or difference between two radar images to produce this suface displacement map. The maps were derived from synthetic aperture radar (SAR) data acquired on 1/2/2020 and 1/14/2020 by the Copernicus Sentinel-1 satellites operated by the European Space Agency (ESA). Areas with low-quality measurements have been masked out.<\/span><\/p>Suggested Use:<\/span><\/p>Areas in red are surface displacement down and to the west. Areas in blue are up and to the east.<\/span><\/p>Satellite/Sensor:<\/span><\/p>Copernicus Sentinel-1 Sythetic Aperture Radar (SAR)<\/span><\/p>Resolution: 30 meters<\/span><\/p>Credits:<\/span><\/p>Contains modified Copernicus Sentinel data, processed by ESA (2020). Analyzed by the NASA-JPL/Caltech ARIA team. This task was carried out at JPL funded by NASA.<\/span><\/p>Esri REST Endpoint:<\/span><\/p>See URL section on right side of page<\/span><\/p>WMS Endpoint:<\/span><\/p>https://maps.disasters.nasa.gov/ags04/services/puerto_rico_earthquake_202001/aria_displacement_sentinel1_20200114/ImageServer/WMSServer<\/span><\/a><\/p><\/div><\/div><\/div>",
"extent": {
"xmin": -68.2375,
"ymin": 17.003888889,
"xmax": -66.235833333,
"ymax": 18.948888889,
"spatialReference": {
"wkid": 4326,
"latestWkid": 4326
}
},
"initialExtent": {
"xmin": -68.2375,
"ymin": 17.003888889,
"xmax": -66.235833333,
"ymax": 18.948888889,
"spatialReference": {
"wkid": 4326,
"latestWkid": 4326
}
},
"fullExtent": {
"xmin": -68.2375,
"ymin": 17.003888889,
"xmax": -66.235833333,
"ymax": 18.948888889,
"spatialReference": {
"wkid": 4326,
"latestWkid": 4326
}
},
"hasMultidimensions": false,
"pixelSizeX": 8.333333334721044E-4,
"pixelSizeY": 8.333333333333335E-4,
"datasetFormat": "TIFF",
"uncompressedSize": 22425072,
"blockWidth": 2402,
"blockHeight": 1,
"compressionType": "None",
"bandNames": [
"Band_1"
],
"allowCopy": true,
"allowAnalysis": true,
"bandCount": 1,
"noDataValue": "NaN",
"noDataValues": [
"NaN"
],
"pixelType": "F32",
"minPixelSize": 0,
"maxPixelSize": 0,
"copyrightText": "NASA-JPL/Caltech ARIA team, ESA, Copernicus",
"serviceDataType": "esriImageServiceDataTypeGeneric",
"serviceSourceType": "esriImageServiceSourceTypeDataset",
"minValues": [],
"maxValues": [],
"meanValues": [],
"stdvValues": [],
"objectIdField": "",
"fields": [],
"capabilities": "Mensuration,Image,Metadata",
"defaultMosaicMethod": "Center",
"allowedMosaicMethods": "",
"sortField": "",
"sortValue": null,
"sortAscending": true,
"mosaicOperator": "First",
"defaultCompressionQuality": 75,
"defaultResamplingMethod": "Bilinear",
"maxImageHeight": 4100,
"maxImageWidth": 15000,
"allowRasterFunction": true,
"rasterFunctionInfos": [
{
"name": "aria_displacement_pr_20200114",
"description": "A raster function template.",
"help": ""
},
{
"name": "None",
"description": "",
"help": ""
}
],
"rasterTypeInfos": [
{
"name": "Raster Dataset",
"description": "Supports all ArcGIS Raster Datasets",
"help": ""
}
],
"mensurationCapabilities": "Basic",
"hasHistograms": false,
"hasColormap": false,
"hasRasterAttributeTable": false,
"minScale": 0,
"maxScale": 0,
"exportTilesAllowed": false,
"supportsStatistics": false,
"supportsAdvancedQueries": false,
"editFieldsInfo": null,
"ownershipBasedAccessControlForRasters": null,
"allowComputeTiePoints": false,
"useStandardizedQueries": true,
"advancedQueryCapabilities": {
"useStandardizedQueries": true,
"supportsStatistics": false,
"supportsOrderBy": false,
"supportsDistinct": false,
"supportsPagination": false
},
"spatialReference": {
"wkid": 4326,
"latestWkid": 4326
}
}