{
 "currentVersion": 10.91,
 "serviceDescription": "Summary:\n\nThe Advanced Rapid Imaging and Analysis (ARIA) team at NASA's Jet Propulsion Laboratory and California Institute of Technology, both in Pasadena, California, created this Damage Proxy Map (DPM) depicting areas that are likely damaged caused by the recent major earthquakes in Puerto Rico in January 2020. \n\nThe map was derived from synthetic aperture radar (SAR) images from the Copernicus Sentinel-1 satellites, operated by the European Space Agency (ESA). The images were taken before and after (January 9, 2020) the sequence of earthquakes.The color variation from yellow to red indicates increasingly more significant surface change. This damage proxy map should be used as guidance to identify damaged areas, and may be less reliable over vegetated areas. For example, the scattered colored pixels over vegetated areas may be false positives, and the lack of colored pixels over vegetated areas does not necessarily mean no damage.\n\nSuggested Use:\nThis damage proxy map shows surface change with yellow to red indiciating more significant change due to the recent earthquakes. The damage proxy map should be used as guidance to identify damaged areas and may be less reliable over vegetated areas. The lack of colored pixels over vegeated areas does not necessarily mean no damage.\n\nSatellite/Sensor:\nCopernicus Sentinel-1 Sythetic Aperture Radar (SAR)\nResolution: 30 meters\n\nCredits:\nContains modified Copernicus Sentinel data, processed by ESA. Analyzed by the NASA-JPL/Caltech ARIA team. This task was carried out at JPL funded by NASA.\n\nESRI REST Endpoint:\nSee URL section on right side of the page\n\nWMS Endpoint:",
 "name": "puerto_rico_earthquake_202001/aria_dpm_sentinel1_20200109",
 "description": "Summary:\n\nThe Advanced Rapid Imaging and Analysis (ARIA) team at NASA's Jet Propulsion Laboratory and California Institute of Technology, both in Pasadena, California, created this Damage Proxy Map (DPM) depicting areas that are likely damaged caused by the recent major earthquakes in Puerto Rico in January 2020. \n\nThe map was derived from synthetic aperture radar (SAR) images from the Copernicus Sentinel-1 satellites, operated by the European Space Agency (ESA). The images were taken before and after (January 9, 2020) the sequence of earthquakes.The color variation from yellow to red indicates increasingly more significant surface change. This damage proxy map should be used as guidance to identify damaged areas, and may be less reliable over vegetated areas. For example, the scattered colored pixels over vegetated areas may be false positives, and the lack of colored pixels over vegetated areas does not necessarily mean no damage.\n\nSuggested Use:\nThis damage proxy map shows surface change with yellow to red indiciating more significant change due to the recent earthquakes. The damage proxy map should be used as guidance to identify damaged areas and may be less reliable over vegetated areas. The lack of colored pixels over vegeated areas does not necessarily mean no damage.\n\nSatellite/Sensor:\nCopernicus Sentinel-1 Sythetic Aperture Radar (SAR)\nResolution: 30 meters\n\nCredits:\nContains modified Copernicus Sentinel data, processed by ESA. Analyzed by the NASA-JPL/Caltech ARIA team. This task was carried out at JPL funded by NASA.\n\nESRI REST Endpoint:\nSee URL section on right side of the page\n\nWMS Endpoint:",
 "extent": {
  "xmin": -66.74327386,
  "ymin": 17.730617722,
  "xmax": -65.867440527,
  "ymax": 18.547006611,
  "spatialReference": {
   "wkid": 4326,
   "latestWkid": 4326
  }
 },
 "initialExtent": {
  "xmin": -66.74327386,
  "ymin": 17.730617722,
  "xmax": -65.867440527,
  "ymax": 18.547006611,
  "spatialReference": {
   "wkid": 4326,
   "latestWkid": 4326
  }
 },
 "fullExtent": {
  "xmin": -66.74327386,
  "ymin": 17.730617722,
  "xmax": -65.867440527,
  "ymax": 18.547006611,
  "spatialReference": {
   "wkid": 4326,
   "latestWkid": 4326
  }
 },
 "hasMultidimensions": false,
 "pixelSizeX": 2.7777777767205923E-4,
 "pixelSizeY": 2.7777777781558315E-4,
 "datasetFormat": "TIFF",
 "uncompressedSize": 37066668,
 "blockWidth": 3153,
 "blockHeight": 1,
 "compressionType": "None",
 "bandNames": [
  "Band_1",
  "Band_2",
  "Band_3",
  "Band_4"
 ],
 "allowCopy": true,
 "allowAnalysis": true,
 "bandCount": 4,
 "pixelType": "U8",
 "minPixelSize": 0,
 "maxPixelSize": 0,
 "copyrightText": "NASA, NASA Disasters Program, ARIA, Copernicus Sentinel-1",
 "serviceDataType": "esriImageServiceDataTypeGeneric",
 "serviceSourceType": "esriImageServiceSourceTypeDataset",
 "minValues": [],
 "maxValues": [],
 "meanValues": [],
 "stdvValues": [],
 "objectIdField": "",
 "fields": [],
 "capabilities": "Mensuration,Image,Metadata",
 "defaultMosaicMethod": "Center",
 "allowedMosaicMethods": "",
 "sortField": "",
 "sortValue": null,
 "sortAscending": true,
 "mosaicOperator": "First",
 "defaultCompressionQuality": 75,
 "defaultResamplingMethod": "Nearest",
 "maxImageHeight": 4100,
 "maxImageWidth": 15000,
 "allowRasterFunction": true,
 "rasterFunctionInfos": [
  {
   "name": "RGB Composite",
   "description": "A raster function template.",
   "help": ""
  },
  {
   "name": "None",
   "description": "",
   "help": ""
  }
 ],
 "rasterTypeInfos": [
  {
   "name": "Raster Dataset",
   "description": "Supports all ArcGIS Raster Datasets",
   "help": ""
  }
 ],
 "mensurationCapabilities": "Basic",
 "hasHistograms": false,
 "hasColormap": false,
 "hasRasterAttributeTable": false,
 "minScale": 0,
 "maxScale": 0,
 "exportTilesAllowed": false,
 "supportsStatistics": false,
 "supportsAdvancedQueries": false,
 "editFieldsInfo": null,
 "ownershipBasedAccessControlForRasters": null,
 "allowComputeTiePoints": false,
 "useStandardizedQueries": true,
 "advancedQueryCapabilities": {
  "useStandardizedQueries": true,
  "supportsStatistics": false,
  "supportsOrderBy": false,
  "supportsDistinct": false,
  "supportsPagination": false
 },
 "spatialReference": {
  "wkid": 4326,
  "latestWkid": 4326
 }
}
