{ "currentVersion": 10.91, "serviceDescription": "

Date of Images:<\/span><\/p>
1/14/2020 and 1/26/2020<\/span><\/p>
Date of Next Image:<\/span><\/p>
Unknown<\/span><\/p>
Summary:<\/span><\/p>
The Advanced Rapid Imaging and Analysis (ARIA) team at NASA's Jet Propulsion Laboratory and California Institute of Technology, both in Pasadena, California, created this Damage Proxy Map (DPM) depicting areas that are likely damaged caused by the recent major earthquakes in Puerto Rico, including the M6.4 (Jan 7, 2020) event. The map was derived from synthetic aperture radar (SAR) images from the Copernicus Sentinel-1 satellites, operated by the European Space Agency (ESA). The team compared the post-event images acquired on January 14, 2020 and January 26, 2020 with pre-event images taken since September 2019. The color variation from yellow to red indicates increasingly more significant surface change.<\/span><\/p>
Preliminary validation was done by comparing with the Civil Air Patrol Damage Assessment and Crowdsourced Photos by NAPSG, GIS Corps, CEDR. This damage proxy map should be used as guidance to identify damaged areas, and may be less reliable over vegetated areas. For example, the scattered colored pixels over vegetated areas may be false positives, and the lack of colored pixels over vegetated areas does not necessarily mean no damage. This map is most sensitive to building damage, but small scale change or partial structural damage may not be detected by this map. <\/span><\/p>
Suggested Use:<\/span><\/p>
This damage proxy map shows surface change with yellow to red indiciating more significant change or building damage due to the recent earthquakes. The damage proxy map should be used as guidance to identify damaged areas and may be less reliable over vegetated areas. The lack of colored pixels over vegeated areas does not necessarily mean no damage. Small scale change or partial structural damage may not be detected by this map.<\/span><\/p>
Satellite/Sensor:<\/span><\/p>
Copernicus Sentinel-1 Synthetic Aperture Radar (SAR)<\/span><\/p>
Resolution:<\/span><\/p>
30 meters<\/span><\/p>
Credits:<\/span><\/p>
Contains modified Copernicus Sentinel data (2020), processed by ESA. Analyzed by the NASA-JPL/Caltech ARIA team. This task was carried out at JPL funded by NASA.<\/span><\/p>
ESRI REST Endpoint:<\/span><\/p>
See URL section on right side of the page<\/span><\/p>
WMS Endpoint:<\/span><\/p>
https://maps.disasters.nasa.gov/ags04/services/puerto_rico_earthquake_202001/aria_dpm_sentinel1_20200126/ImageServer/WMSServer<\/span><\/a><\/p>
Download Link:<\/span><\/p>
http://aria-share.jpl.nasa.gov/20200106-Puerto_Rico_EQ/DPM/<\/span><\/a><\/p><\/div><\/div><\/div>", "name": "puerto_rico_earthquake_202001/aria_dpm_sentinel1_20200126", "description": "

Date of Images:<\/span><\/p>
1/14/2020 and 1/26/2020<\/span><\/p>
Date of Next Image:<\/span><\/p>
Unknown<\/span><\/p>
Summary:<\/span><\/p>
The Advanced Rapid Imaging and Analysis (ARIA) team at NASA's Jet Propulsion Laboratory and California Institute of Technology, both in Pasadena, California, created this Damage Proxy Map (DPM) depicting areas that are likely damaged caused by the recent major earthquakes in Puerto Rico, including the M6.4 (Jan 7, 2020) event. The map was derived from synthetic aperture radar (SAR) images from the Copernicus Sentinel-1 satellites, operated by the European Space Agency (ESA). The team compared the post-event images acquired on January 14, 2020 and January 26, 2020 with pre-event images taken since September 2019. The color variation from yellow to red indicates increasingly more significant surface change.<\/span><\/p>
Preliminary validation was done by comparing with the Civil Air Patrol Damage Assessment and Crowdsourced Photos by NAPSG, GIS Corps, CEDR. This damage proxy map should be used as guidance to identify damaged areas, and may be less reliable over vegetated areas. For example, the scattered colored pixels over vegetated areas may be false positives, and the lack of colored pixels over vegetated areas does not necessarily mean no damage. This map is most sensitive to building damage, but small scale change or partial structural damage may not be detected by this map. <\/span><\/p>
Suggested Use:<\/span><\/p>
This damage proxy map shows surface change with yellow to red indiciating more significant change or building damage due to the recent earthquakes. The damage proxy map should be used as guidance to identify damaged areas and may be less reliable over vegetated areas. The lack of colored pixels over vegeated areas does not necessarily mean no damage. Small scale change or partial structural damage may not be detected by this map.<\/span><\/p>
Satellite/Sensor:<\/span><\/p>
Copernicus Sentinel-1 Synthetic Aperture Radar (SAR)<\/span><\/p>
Resolution:<\/span><\/p>
30 meters<\/span><\/p>
Credits:<\/span><\/p>
Contains modified Copernicus Sentinel data (2020), processed by ESA. Analyzed by the NASA-JPL/Caltech ARIA team. This task was carried out at JPL funded by NASA.<\/span><\/p>
ESRI REST Endpoint:<\/span><\/p>
See URL section on right side of the page<\/span><\/p>
WMS Endpoint:<\/span><\/p>
https://maps.disasters.nasa.gov/ags04/services/puerto_rico_earthquake_202001/aria_dpm_sentinel1_20200126/ImageServer/WMSServer<\/span><\/a><\/p>
Download Link:<\/span><\/p>
http://aria-share.jpl.nasa.gov/20200106-Puerto_Rico_EQ/DPM/<\/span><\/a><\/p><\/div><\/div><\/div>", "extent": { "xmin": -68.074566986, "ymin": 17.593299435, "xmax": -66.280678097, "ymax": 18.599132768, "spatialReference": { "wkid": 4326, "latestWkid": 4326 } }, "initialExtent": { "xmin": -68.074566986, "ymin": 17.593299435, "xmax": -66.280678097, "ymax": 18.599132768, "spatialReference": { "wkid": 4326, "latestWkid": 4326 } }, "fullExtent": { "xmin": -68.074566986, "ymin": 17.593299435, "xmax": -66.280678097, "ymax": 18.599132768, "spatialReference": { "wkid": 4326, "latestWkid": 4326 } }, "hasMultidimensions": false, "pixelSizeX": 2.7777777779498103E-4, "pixelSizeY": 2.7777777768572267E-4, "datasetFormat": "TIFF", "uncompressedSize": 93523188, "blockWidth": 6458, "blockHeight": 1, "compressionType": "None", "bandNames": [ "Band_1", "Band_2", "Band_3", "Band_4" ], "allowCopy": true, "allowAnalysis": true, "bandCount": 4, "pixelType": "U8", "minPixelSize": 0, "maxPixelSize": 0, "copyrightText": "NASA-JPL/Caltech ARIA Team, Copernicus, ESA", "serviceDataType": "esriImageServiceDataTypeGeneric", "serviceSourceType": "esriImageServiceSourceTypeDataset", "minValues": [], "maxValues": [], "meanValues": [], "stdvValues": [], "objectIdField": "", "fields": [], "capabilities": "Mensuration,Image,Metadata", "defaultMosaicMethod": "Center", "allowedMosaicMethods": "", "sortField": "", "sortValue": null, "sortAscending": true, "mosaicOperator": "First", "defaultCompressionQuality": 75, "defaultResamplingMethod": "Nearest", "maxImageHeight": 4100, "maxImageWidth": 15000, "allowRasterFunction": true, "rasterFunctionInfos": [ { "name": "RGB Composite", "description": "A raster function template.", "help": "" }, { "name": "None", "description": "", "help": "" } ], "rasterTypeInfos": [ { "name": "Raster Dataset", "description": "Supports all ArcGIS Raster Datasets", "help": "" } ], "mensurationCapabilities": "Basic", "hasHistograms": false, "hasColormap": false, "hasRasterAttributeTable": false, "minScale": 0, "maxScale": 0, "exportTilesAllowed": false, "supportsStatistics": false, "supportsAdvancedQueries": false, "editFieldsInfo": null, "ownershipBasedAccessControlForRasters": null, "allowComputeTiePoints": false, "useStandardizedQueries": true, "advancedQueryCapabilities": { "useStandardizedQueries": true, "supportsStatistics": false, "supportsOrderBy": false, "supportsDistinct": false, "supportsPagination": false }, "spatialReference": { "wkid": 4326, "latestWkid": 4326 } }