{ "currentVersion": 10.91, "serviceDescription": "

Date of Image:<\/span><\/p>
12/16/2021<\/span><\/p>
Date of Next Image:<\/span><\/p>
Unknown<\/span><\/p>
Summary:<\/span><\/p>
The Advanced Rapid Imaging and Analysis (ARIA) team at NASA's Jet Propulsion Laboratory and California Institute of Technology in Southern California created this Damage Proxy Map (DPM) depicting areas that are likely damaged by the Tornadoes (December 10, 2021) in Kentucky state, US. The map was derived from synthetic aperture radar (SAR) images on Dec 11, 2021 by the Copernicus Sentinel-1 satellites operated by the European Space Agency (ESA). The pre-event images were taken from June 26, 2021 to Nov 17, 2021. Preliminary validation was done by comparing with the Media reports and drone images.<\/span><\/p>
Suggested Use:<\/span><\/p>
The color variation from yellow to red indicates increasingly more significant surface change.<\/span><\/p>
This damage proxy map should be used as guidance to identify damaged areas, and may be less reliable over vegetated. For example, the scattered colored pixels over vegetated areas may be false positives, and the lack of colored pixels over vegetated areas does not necessarily mean no damage. This map is most sensitive to building damage, but small-scale change or partial structural damage may not be detected by this map.<\/span><\/p>
Satellite/Sensor:<\/span><\/p>
Copernicus Sentinel-1 Synthetic Aperture Radar (SAR)<\/span><\/p>
Resolution:<\/span><\/p>
30 meters<\/span><\/p>
Credits:<\/span><\/p>
Sentinel-1 data were accessed through the Copernicus Open Hub and the Alaska Satellite Facility server. The product contains modified Copernicus Sentinel data (2021), processed by ESA and analyzed by the NASA-JPL/Caltech ARIA team. Part of the funding was provided by NASA's Earth Applied Sciences Disasters Program.<\/span><\/p>
For more information about ARIA, visit: <\/span>http://aria.jpl.nasa.gov<\/span><\/a><\/p>
Esri REST Endpoint:<\/span><\/p>
See URL section on right side of page<\/span><\/p>
WMS Endpoint:<\/span><\/p>
https://maps.disasters.nasa.gov/ags04/services/tornado_outbreak_20211210/aria_dpm_sentinel1_20211216/ImageServer/WMSServer<\/span><\/a><\/p>
Data Download:<\/span><\/p>
https://aria-share.jpl.nasa.gov/20211210-Tornados_AR_KY/DPM/<\/span><\/a><\/p><\/div><\/div><\/div>", "name": "tornado_outbreak_20211210/aria_dpm_sentinel1_20211216", "description": "

Date of Image:<\/span><\/p>
12/16/2021<\/span><\/p>
Date of Next Image:<\/span><\/p>
Unknown<\/span><\/p>
Summary:<\/span><\/p>
The Advanced Rapid Imaging and Analysis (ARIA) team at NASA's Jet Propulsion Laboratory and California Institute of Technology in Southern California created this Damage Proxy Map (DPM) depicting areas that are likely damaged by the Tornadoes (December 10, 2021) in Kentucky state, US. The map was derived from synthetic aperture radar (SAR) images on Dec 11, 2021 by the Copernicus Sentinel-1 satellites operated by the European Space Agency (ESA). The pre-event images were taken from June 26, 2021 to Nov 17, 2021. Preliminary validation was done by comparing with the Media reports and drone images.<\/span><\/p>
Suggested Use:<\/span><\/p>
The color variation from yellow to red indicates increasingly more significant surface change.<\/span><\/p>
This damage proxy map should be used as guidance to identify damaged areas, and may be less reliable over vegetated. For example, the scattered colored pixels over vegetated areas may be false positives, and the lack of colored pixels over vegetated areas does not necessarily mean no damage. This map is most sensitive to building damage, but small-scale change or partial structural damage may not be detected by this map.<\/span><\/p>
Satellite/Sensor:<\/span><\/p>
Copernicus Sentinel-1 Synthetic Aperture Radar (SAR)<\/span><\/p>
Resolution:<\/span><\/p>
30 meters<\/span><\/p>
Credits:<\/span><\/p>
Sentinel-1 data were accessed through the Copernicus Open Hub and the Alaska Satellite Facility server. The product contains modified Copernicus Sentinel data (2021), processed by ESA and analyzed by the NASA-JPL/Caltech ARIA team. Part of the funding was provided by NASA's Earth Applied Sciences Disasters Program.<\/span><\/p>
For more information about ARIA, visit: <\/span>http://aria.jpl.nasa.gov<\/span><\/a><\/p>
Esri REST Endpoint:<\/span><\/p>
See URL section on right side of page<\/span><\/p>
WMS Endpoint:<\/span><\/p>
https://maps.disasters.nasa.gov/ags04/services/tornado_outbreak_20211210/aria_dpm_sentinel1_20211216/ImageServer/WMSServer<\/span><\/a><\/p>
Data Download:<\/span><\/p>
https://aria-share.jpl.nasa.gov/20211210-Tornados_AR_KY/DPM/<\/span><\/a><\/p><\/div><\/div><\/div>", "extent": { "xmin": -87.929856336, "ymin": 37.009217043, "xmax": -87.479300781, "ymax": 37.343939265, "spatialReference": { "wkid": 4326, "latestWkid": 4326 } }, "initialExtent": { "xmin": -87.929856336, "ymin": 37.009217043, "xmax": -87.479300781, "ymax": 37.343939265, "spatialReference": { "wkid": 4326, "latestWkid": 4326 } }, "fullExtent": { "xmin": -87.929856336, "ymin": 37.009217043, "xmax": -87.479300781, "ymax": 37.343939265, "spatialReference": { "wkid": 4326, "latestWkid": 4326 } }, "hasMultidimensions": false, "pixelSizeX": 2.777777774352614E-4, "pixelSizeY": 2.777777775933639E-4, "datasetFormat": "TIFF", "uncompressedSize": 7818040, "blockWidth": 1622, "blockHeight": 1, "compressionType": "None", "bandNames": [ "Band_1", "Band_2", "Band_3", "Band_4" ], "allowCopy": true, "allowAnalysis": true, "bandCount": 4, "pixelType": "U8", "minPixelSize": 0, "maxPixelSize": 0, "copyrightText": "NASA-JPL/Caltech ARIA Team, ESA, Copernicus", "serviceDataType": "esriImageServiceDataTypeGeneric", "serviceSourceType": "esriImageServiceSourceTypeDataset", "minValues": [], "maxValues": [], "meanValues": [], "stdvValues": [], "objectIdField": "", "fields": [], "capabilities": "Mensuration,Image,Metadata", "defaultMosaicMethod": "Center", "allowedMosaicMethods": "", "sortField": "", "sortValue": null, "sortAscending": true, "mosaicOperator": "First", "defaultCompressionQuality": 75, "defaultResamplingMethod": "Nearest", "maxImageHeight": 4100, "maxImageWidth": 15000, "allowRasterFunction": true, "rasterFunctionInfos": [ { "name": "RGB Composite", "description": "A raster function template.", "help": "" }, { "name": "None", "description": "", "help": "" } ], "rasterTypeInfos": [ { "name": "Raster Dataset", "description": "Supports all ArcGIS Raster Datasets", "help": "" } ], "mensurationCapabilities": "Basic", "hasHistograms": false, "hasColormap": false, "hasRasterAttributeTable": false, "minScale": 0, "maxScale": 0, "exportTilesAllowed": false, "supportsStatistics": false, "supportsAdvancedQueries": false, "editFieldsInfo": null, "ownershipBasedAccessControlForRasters": null, "allowComputeTiePoints": false, "useStandardizedQueries": true, "advancedQueryCapabilities": { "useStandardizedQueries": true, "supportsStatistics": false, "supportsOrderBy": false, "supportsDistinct": false, "supportsPagination": false }, "spatialReference": { "wkid": 4326, "latestWkid": 4326 } }