View In:
  ArcGIS JavaScript
  ArcGIS Online Map Viewer
  ArcGIS Earth
  ArcMap
View Footprint In:
  ArcGIS Online Map Viewer
Service Description:  Date of Imagery: 11/10/2018 02:00 UTC (6:00pm PST) Next Update: None currently planned Summary: The Advanced Rapid Imaging and Analysis (ARIA) team at NASA's Jet Propulsion Laboratory in Pasadena, California, created this single band Damage Proxy Map (DPM) depicting areas of Southern Cailfornia that are likely damaged as a result of the Camp Fire. The map is derived from synthetic aperture radar (SAR) images from the Copernicus Sentinel-1 satellites, operated by the European Space Agency (ESA). The pre-event images were taken before (November 5, 2018) and the post-event image was acquired during the fire (November 10, 2018). The map covers an area of 50 miles x 25 miles (80 km x 40 km). Each pixel measures about 33 yards x 33 yards (30 m x 30 m). Values of 0 and below indicate no change while values over 0 indicate increasingly more significant ground surface change. Preliminary validation was done by comparing to the Approximate fire location by the Google Crisis map. This damage proxy map should be used as guidance to identify damaged areas, and may be less reliable over vegetated areas. For example, the scattered single colored pixels over vegetated areas may be false positives, and the lack of colored pixels over vegetated areas does not necessarily mean no damage. Satellite/Sensor: Synthetic Aperture Radar (SAR) from Copernicus Sentinel-1 operated by the European Space Agency (ESA); 30 meter resolution Credits/Acknowledgements: Sentinel-1 data were accessed through the Copernicus Open Access Hub. The image contains modified Copernicus Sentinel data (2018), processed by ESA and analyzed by the NASA-JPL/Caltech ARIA team. This research was carried out at JPL funded by NASA. For more information about ARIA, visit: http://aria.jpl.nasa.gov
Name:  CA_fires_2018/camp_aria_dpm_single_band_11112018_0200
Description:  Date of Imagery: 11/10/2018 02:00 UTC (6:00pm PST) Next Update: None currently planned Summary: The Advanced Rapid Imaging and Analysis (ARIA) team at NASA's Jet Propulsion Laboratory in Pasadena, California, created this single band Damage Proxy Map (DPM) depicting areas of Southern Cailfornia that are likely damaged as a result of the Camp Fire. The map is derived from synthetic aperture radar (SAR) images from the Copernicus Sentinel-1 satellites, operated by the European Space Agency (ESA). The pre-event images were taken before (November 5, 2018) and the post-event image was acquired during the fire (November 10, 2018). The map covers an area of 50 miles x 25 miles (80 km x 40 km). Each pixel measures about 33 yards x 33 yards (30 m x 30 m). Values of 0 and below indicate no change while values over 0 indicate increasingly more significant ground surface change. Preliminary validation was done by comparing to the Approximate fire location by the Google Crisis map. This damage proxy map should be used as guidance to identify damaged areas, and may be less reliable over vegetated areas. For example, the scattered single colored pixels over vegetated areas may be false positives, and the lack of colored pixels over vegetated areas does not necessarily mean no damage. Satellite/Sensor: Synthetic Aperture Radar (SAR) from Copernicus Sentinel-1 operated by the European Space Agency (ESA); 30 meter resolution Credits/Acknowledgements: Sentinel-1 data were accessed through the Copernicus Open Access Hub. The image contains modified Copernicus Sentinel data (2018), processed by ESA and analyzed by the NASA-JPL/Caltech ARIA team. This research was carried out at JPL funded by NASA. For more information about ARIA, visit: http://aria.jpl.nasa.gov
Single Fused Map Cache:  false
Extent: 
XMin: -122.37477202799214
YMin: 38.536482777356326
XMax: -120.96560536132547
YMax: 40.20023277735633
Spatial Reference: 4326
 (4326)
Initial Extent:
XMin: -122.37477202799214
YMin: 38.536482777356326
XMax: -120.96560536132547
YMax: 40.20023277735633
Spatial Reference: 4326
 (4326)
Full Extent:
XMin: -122.37477202799214
YMin: 38.536482777356326
XMax: -120.96560536132547
YMax: 40.20023277735633
Spatial Reference: 4326
 (4326)
Pixel Size X: 1.3888888888888862E-4
Pixel Size Y:  1.3888888888888892E-4
Band Count: 1
Pixel Type: F32
RasterFunction Infos:  {"rasterFunctionInfos": [{
 "name": "None",
 "description": "",
 "help": ""
}]}
Mensuration Capabilities: Basic
Has Histograms:  true
Has Colormap:  false
Has Multi Dimensions :  false
Rendering Rule: 
Min Scale:  0
Max Scale:  0
Copyright Text:  NASA Disasters Program, ARIA, ESA
Service Data Type:  esriImageServiceDataTypeGeneric
Min Values:  -0.95069497823715
Max Values:  0.89620131254196
Mean Values:  -0.07253608932501
Standard Deviation Values:  0.17155234528101
Object ID Field:  
Fields: 
None
Default Mosaic Method:  Center
Allowed Mosaic Methods:  
SortField:  
SortValue:  null
Mosaic Operator:  First
Default Compression Quality:  75
Default Resampling Method:  Nearest
Max Record Count:  null
Max Image Height:  4100
Max Image Width:  15000
Max Download Image Count:  null
Max Mosaic Image Count:  null
Allow Raster Function:  true
Allow Copy:  true
Allow Analysis:  true
Allow Compute TiePoints:  false
Supports Statistics:  false
Supports Advanced Queries:  false
Use StandardizedQueries:  true
Raster Type Infos: 
Name: Raster Dataset
Description: Supports all ArcGIS Raster Datasets
Help: 
Has Raster Attribute Table: false
Edit Fields Info:  null
Ownership Based AccessControl For Rasters:  null
Child Resources:
  
Info
  Histograms
  Statistics
  Key Properties
  Legend
  Raster Function Infos
Supported Operations:
  
Export Image
  Identify
  Measure
  Compute Histograms
  Compute Statistics Histograms
  Get Samples
  Compute Class Statistics
  Query Boundary
  Compute Pixel Location
  Compute Angles
  Validate
  Project