View In:
  ArcGIS JavaScript
  ArcGIS Online Map Viewer
  ArcGIS Earth
  ArcMap
View Footprint In:
  ArcGIS Online Map Viewer
Service Description:  Date of Imagery: 11/11/2018 02:00 UTC (6:00pm PST) Next Update: None currently planned Summary: The Advanced Rapid Imaging and Analysis (ARIA) team at NASA's Jet Propulsion Laboratory in Pasadena, California, created this Damage Proxy Map (DPM) depicting areas of Southern Cailfornia that are likely damaged (shown by red and yellow pixels) as a result of the Woolsey Fire. The map is derived from synthetic aperture radar (SAR) images from the Copernicus Sentinel-1 satellites, operated by the European Space Agency (ESA). The pre-event images were taken before (November 5, 2018) and the post-event image was acquired during the fire (November 11, 2018). The map covers an area of 50 miles x 25 miles (80 km x 40 km), indicated with the big red polygon. Each pixel measures about 33 yards x 33 yards (30 m x 30 m). The color variation from yellow to red indicates increasingly more significant ground surface change. Preliminary validation was done by comparing to the Approximate fire location by the Google Crisismap. This damage proxy map should be used as guidance to identify damaged areas, and may be less reliable over vegetated areas. For example, the scattered single colored pixels over vegetated areas may be false positives, and the lack of colored pixels over vegetated areas does not necessarily mean no damage.
Satellite/Sensor:
Synthetic Aperture Radar (SAR) from Copernicus Sentinel-1 operated by the European Space Agency (ESA); 30 meter resolution
Credits/Acknowledgements:
Sentinel-1 data were accessed through the Copernicus Open Access Hub. The image contains modified Copernicus Sentinel data (2018), processed by ESA and analyzed by the NASA-JPL/Caltech ARIA team. This research was carried out at JPL funded by NASA. For more information about ARIA, visit: http://aria.jpl.nasa.gov
Name:  CA_fires_2018/woolsey_aria_dpm_11112018_0200
Description:  Date of Imagery: 11/11/2018 02:00 UTC (6:00pm PST) Next Update: None currently planned Summary: The Advanced Rapid Imaging and Analysis (ARIA) team at NASA's Jet Propulsion Laboratory in Pasadena, California, created this Damage Proxy Map (DPM) depicting areas of Southern Cailfornia that are likely damaged (shown by red and yellow pixels) as a result of the Woolsey Fire. The map is derived from synthetic aperture radar (SAR) images from the Copernicus Sentinel-1 satellites, operated by the European Space Agency (ESA). The pre-event images were taken before (November 5, 2018) and the post-event image was acquired during the fire (November 11, 2018). The map covers an area of 50 miles x 25 miles (80 km x 40 km), indicated with the big red polygon. Each pixel measures about 33 yards x 33 yards (30 m x 30 m). The color variation from yellow to red indicates increasingly more significant ground surface change. Preliminary validation was done by comparing to the Approximate fire location by the Google Crisismap. This damage proxy map should be used as guidance to identify damaged areas, and may be less reliable over vegetated areas. For example, the scattered single colored pixels over vegetated areas may be false positives, and the lack of colored pixels over vegetated areas does not necessarily mean no damage.
Satellite/Sensor:
Synthetic Aperture Radar (SAR) from Copernicus Sentinel-1 operated by the European Space Agency (ESA); 30 meter resolution
Credits/Acknowledgements:
Sentinel-1 data were accessed through the Copernicus Open Access Hub. The image contains modified Copernicus Sentinel data (2018), processed by ESA and analyzed by the NASA-JPL/Caltech ARIA team. This research was carried out at JPL funded by NASA. For more information about ARIA, visit: http://aria.jpl.nasa.gov
Single Fused Map Cache:  false
Extent: 
XMin: -119.0747399
YMin: 33.951215319584605
XMax: -118.11876773924959
YMax: 34.4285764
Spatial Reference: 4326
 (4326)
Initial Extent:
XMin: -119.0747399
YMin: 33.951215319584605
XMax: -118.11876773924959
YMax: 34.4285764
Spatial Reference: 4326
 (4326)
Full Extent:
XMin: -119.0747399
YMin: 33.951215319584605
XMax: -118.11876773924959
YMax: 34.4285764
Spatial Reference: 4326
 (4326)
Pixel Size X: 1.3888887995792618E-4
Pixel Size Y:  1.3888887995792604E-4
Band Count: 4
Pixel Type: U8
RasterFunction Infos:  {"rasterFunctionInfos": [
 {
  "name": "RGB Composite",
  "description": "A raster function template.",
  "help": ""
 },
 {
  "name": "None",
  "description": "",
  "help": ""
 }
]}
Mensuration Capabilities: 
Has Histograms:  true
Has Colormap:  false
Has Multi Dimensions :  false
Rendering Rule: 
Min Scale:  0
Max Scale:  0
Copyright Text:  NASA Disasters Program, ARIA, ESA
Service Data Type:  esriImageServiceDataTypeGeneric
Min Values:  0, 0, 0, 0
Max Values:  255, 255, 0, 255
Mean Values:  8.6515527772044, 4.5267158112325, 0, 7.4706207765174
Standard Deviation Values:  44.655410543143, 30.981047552473, 0, 38.383650366669
Object ID Field:  
Fields: 
None
Default Mosaic Method:  Northwest
Allowed Mosaic Methods:  NorthWest,Center,LockRaster,ByAttribute,Nadir,Viewpoint,Seamline,None
SortField:  
SortValue:  null
Mosaic Operator:  First
Default Compression Quality:  75
Default Resampling Method:  Nearest
Max Record Count:  1000
Max Image Height:  4100
Max Image Width:  15000
Max Download Image Count:  20
Max Mosaic Image Count:  20
Allow Raster Function:  true
Allow Copy:  true
Allow Analysis:  true
Allow Compute TiePoints:  false
Supports Statistics:  false
Supports Advanced Queries:  false
Use StandardizedQueries:  true
Raster Type Infos: 
Name: Raster Dataset
Description: Supports all ArcGIS Raster Datasets
Help: 
Has Raster Attribute Table: false
Edit Fields Info:  null
Ownership Based AccessControl For Rasters:  null
Child Resources:
  
Info
  Histograms
  Statistics
  Key Properties
  Legend
  Raster Function Infos
Supported Operations:
  
Export Image
  Identify
  Compute Histograms
  Compute Statistics Histograms
  Get Samples
  Compute Class Statistics
  Query Boundary
  Compute Pixel Location
  Compute Angles
  Validate
  Project