View In:
  ArcGIS JavaScript
  ArcGIS Online Map Viewer
  ArcGIS Earth
  ArcMap
View Footprint In:
  ArcGIS Online Map Viewer
Service Description:  CumulativePrecipitation_Clip
Name:  CumulativePrecipitation_Clip
Description:  
Single Fused Map Cache:  false
Extent: 
XMin: -97.0999958843655
YMin: 18.199999228583458
XMax: -71.1999969821506
YMax: 35.999998474121114
Spatial Reference: 4326
 (4326)
Initial Extent:
XMin: -97.0999958843655
YMin: 18.199999228583458
XMax: -71.1999969821506
YMax: 35.999998474121114
Spatial Reference: 4326
 (4326)
Full Extent:
XMin: -97.0999958843655
YMin: 18.199999228583458
XMax: -71.1999969821506
YMax: 35.999998474121114
Spatial Reference: 4326
 (4326)
Pixel Size X: 0.09999999576144751
Pixel Size Y:  0.09999999576144751
Band Count: 1
Pixel Type: F32
RasterFunction Infos:  {"rasterFunctionInfos": [{
 "name": "None",
 "description": "",
 "help": ""
}]}
Mensuration Capabilities: Basic
Has Histograms:  true
Has Colormap:  false
Has Multi Dimensions :  false
Rendering Rule: 
Min Scale:  0
Max Scale:  0
Copyright Text:  
Service Data Type:  esriImageServiceDataTypeGeneric
Min Values:  0
Max Values:  486.8590393066406
Mean Values:  28.764846309261863
Standard Deviation Values:  45.85196353163771
Object ID Field:  
Fields: 
None
Default Mosaic Method:  Center
Allowed Mosaic Methods:  
SortField:  
SortValue:  null
Mosaic Operator:  First
Default Compression Quality:  75
Default Resampling Method:  Bilinear
Max Record Count:  null
Max Image Height:  4100
Max Image Width:  15000
Max Download Image Count:  null
Max Mosaic Image Count:  null
Allow Raster Function:  true
Allow Copy:  true
Allow Analysis:  true
Allow Compute TiePoints:  false
Supports Statistics:  false
Supports Advanced Queries:  false
Use StandardizedQueries:  true
Raster Type Infos: 
Name: Raster Dataset
Description: Supports all ArcGIS Raster Datasets
Help: 
Has Raster Attribute Table: false
Edit Fields Info:  null
Ownership Based AccessControl For Rasters:  null
Child Resources:
  
Info
  Histograms
  Statistics
  Key Properties
  Legend
  Raster Function Infos
Supported Operations:
  
Export Image
  Identify
  Measure
  Compute Histograms
  Compute Statistics Histograms
  Get Samples
  Compute Class Statistics
  Query Boundary
  Compute Pixel Location
  Compute Angles
  Validate
  Project