View In:
  ArcGIS JavaScript
  ArcGIS Online Map Viewer
  ArcGIS Earth
  ArcMap
View Footprint In:
  ArcGIS Online Map Viewer
Service Description:  Fuego_Volcano/Sentinel1AE20180608RGBColorMapFuegoVolcano
Name:  Fuego_Volcano/Sentinel1AE20180608RGBColorMapFuegoVolcano
Description:  
Single Fused Map Cache:  false
Extent: 
XMin: -90.97788399999999
YMin: 14.34793800000001
XMax: -90.78535600000001
YMax: 14.56264199999999
Spatial Reference: 4326
 (4326)
Initial Extent:
XMin: -90.97788399999999
YMin: 14.34793800000001
XMax: -90.78535600000001
YMax: 14.56264199999999
Spatial Reference: 4326
 (4326)
Full Extent:
XMin: -90.97788399999999
YMin: 14.34793800000001
XMax: -90.78535600000001
YMax: 14.56264199999999
Spatial Reference: 4326
 (4326)
Pixel Size X: 8.984041063928213E-5
Pixel Size Y:  8.983430962342252E-5
Band Count: 4
Pixel Type: U8
RasterFunction Infos:  {"rasterFunctionInfos": [{
 "name": "None",
 "description": "",
 "help": ""
}]}
Mensuration Capabilities: Basic
Has Histograms:  false
Has Colormap:  false
Has Multi Dimensions :  false
Rendering Rule: 
Min Scale:  0
Max Scale:  0
Copyright Text:  GSFC
Service Data Type:  esriImageServiceDataTypeGeneric
Min Values:  N/A
Max Values:  N/A
Mean Values:  N/A
Standard Deviation Values:  N/A
Object ID Field:  
Fields: 
None
Default Mosaic Method:  Center
Allowed Mosaic Methods:  
SortField:  
SortValue:  null
Mosaic Operator:  First
Default Compression Quality:  75
Default Resampling Method:  Bilinear
Max Record Count:  null
Max Image Height:  4100
Max Image Width:  15000
Max Download Image Count:  null
Max Mosaic Image Count:  null
Allow Raster Function:  true
Allow Copy:  true
Allow Analysis:  true
Allow Compute TiePoints:  false
Supports Statistics:  false
Supports Advanced Queries:  false
Use StandardizedQueries:  true
Raster Type Infos: 
Name: Raster Dataset
Description: Supports all ArcGIS Raster Datasets
Help: 
Has Raster Attribute Table: false
Edit Fields Info:  null
Ownership Based AccessControl For Rasters:  null
Child Resources:
  
Info
  Statistics
  Key Properties
  Legend
  Raster Function Infos
Supported Operations:
  
Export Image
  Identify
  Measure
  Compute Histograms
  Compute Statistics Histograms
  Get Samples
  Compute Class Statistics
  Query Boundary
  Compute Pixel Location
  Compute Angles
  Validate
  Project