View In:
ArcGIS JavaScript
ArcGIS Online Map Viewer
ArcGIS Earth
ArcMap
View Footprint In:
ArcGIS Online Map Viewer
Service Description: Fuego_Volcano/Sentinel1BE20180606RGBColorMapFuegoVolcano
Name: Fuego_Volcano/Sentinel1BE20180606RGBColorMapFuegoVolcano
Description:
Single Fused Map Cache: false
Extent:
XMin: -90.9733
YMin: 14.36876
XMax: -90.78994
YMax: 14.54182
Spatial Reference: 4326
(4326)
Initial Extent:
XMin: -90.9733
YMin: 14.36876
XMax: -90.78994
YMax: 14.54182
Spatial Reference: 4326
(4326)
Full Extent:
XMin: -90.9733
YMin: 14.36876
XMax: -90.78994
YMax: 14.54182
Spatial Reference: 4326
(4326)
Pixel Size X: 8.983831455168707E-5
Pixel Size Y: 8.985462097611607E-5
Band Count: 4
Pixel Type: U8
RasterFunction Infos: {"rasterFunctionInfos": [{
"name": "None",
"description": "",
"help": ""
}]}
Mensuration Capabilities: Basic
Has Histograms: false
Has Colormap: false
Has Multi Dimensions : false
Rendering Rule:
Min Scale: 0
Max Scale: 0
Copyright Text:
Service Data Type: esriImageServiceDataTypeGeneric
Min Values: N/A
Max Values: N/A
Mean Values: N/A
Standard Deviation Values: N/A
Object ID Field:
Fields:
None
Default Mosaic Method: Center
Allowed Mosaic Methods:
SortField:
SortValue: null
Mosaic Operator: First
Default Compression Quality: 75
Default Resampling Method: Bilinear
Max Record Count: null
Max Image Height: 4100
Max Image Width: 15000
Max Download Image Count: null
Max Mosaic Image Count: null
Allow Raster Function: true
Allow Copy: true
Allow Analysis: true
Allow Compute TiePoints: false
Supports Statistics: false
Supports Advanced Queries: false
Use StandardizedQueries: true
Raster Type Infos:
Name: Raster Dataset
Description: Supports all ArcGIS Raster Datasets
Help:
Has Raster Attribute Table: false
Edit Fields Info: null
Ownership Based AccessControl For Rasters: null
Child Resources:
Info
Statistics
Key Properties
Legend
Raster Function Infos
Supported Operations:
Export Image
Identify
Measure
Compute Histograms
Compute Statistics Histograms
Get Samples
Compute Class Statistics
Query Boundary
Compute Pixel Location
Compute Angles
Validate
Project