View In:
  ArcGIS JavaScript
  ArcGIS Online Map Viewer
  ArcGIS Earth
  ArcMap
View Footprint In:
  ArcGIS Online Map Viewer
Service Description:  Fuego_Volcano/Sobrevuelo_20180608_0730_DEM
Name:  Fuego_Volcano/Sobrevuelo_20180608_0730_DEM
Description:  
Single Fused Map Cache:  false
Extent: 
XMin: -90.87043021566605
YMin: 14.329528393278103
XMax: -90.79336259277605
YMax: 14.464349283468101
Spatial Reference: 4326
 (4326)
Initial Extent:
XMin: -90.87043021566605
YMin: 14.329528393278103
XMax: -90.79336259277605
YMax: 14.464349283468101
Spatial Reference: 4326
 (4326)
Full Extent:
XMin: -90.87043021566605
YMin: 14.329528393278103
XMax: -90.79336259277605
YMax: 14.464349283468101
Spatial Reference: 4326
 (4326)
Pixel Size X: 9.038069999999846E-6
Pixel Size Y:  9.038069999999843E-6
Band Count: 1
Pixel Type: F32
RasterFunction Infos:  {"rasterFunctionInfos": [{
 "name": "None",
 "description": "",
 "help": ""
}]}
Mensuration Capabilities: Basic
Has Histograms:  false
Has Colormap:  false
Has Multi Dimensions :  false
Rendering Rule: 
Min Scale:  0
Max Scale:  0
Copyright Text:  
Service Data Type:  esriImageServiceDataTypeGeneric
Min Values:  N/A
Max Values:  N/A
Mean Values:  N/A
Standard Deviation Values:  N/A
Object ID Field:  
Fields: 
None
Default Mosaic Method:  Center
Allowed Mosaic Methods:  
SortField:  
SortValue:  null
Mosaic Operator:  First
Default Compression Quality:  75
Default Resampling Method:  Bilinear
Max Record Count:  null
Max Image Height:  4100
Max Image Width:  15000
Max Download Image Count:  null
Max Mosaic Image Count:  null
Allow Raster Function:  true
Allow Copy:  true
Allow Analysis:  true
Allow Compute TiePoints:  false
Supports Statistics:  false
Supports Advanced Queries:  false
Use StandardizedQueries:  true
Raster Type Infos: 
Name: Raster Dataset
Description: Supports all ArcGIS Raster Datasets
Help: 
Has Raster Attribute Table: false
Edit Fields Info:  null
Ownership Based AccessControl For Rasters:  null
Child Resources:
  
Info
  Statistics
  Key Properties
  Legend
  Raster Function Infos
Supported Operations:
  
Export Image
  Identify
  Measure
  Compute Histograms
  Compute Statistics Histograms
  Get Samples
  Compute Class Statistics
  Query Boundary
  Compute Pixel Location
  Compute Angles
  Validate
  Project