View In:
ArcGIS JavaScript
ArcGIS Online Map Viewer
ArcGIS Earth
ArcMap
View Footprint In:
ArcGIS Online Map Viewer
Service Description: Hurricance_Florence_2018/20180917_landsat8_trueColorRGB
Name: Hurricance_Florence_2018/20180917_landsat8_trueColorRGB
Description:
Single Fused Map Cache: false
Extent:
XMin: -81.29223628820002
YMin: 32.10498048625092
XMax: -77.49058702933647
YMax: 38.53371643164715
Spatial Reference: 4326
(4326)
Initial Extent:
XMin: -81.29223628820002
YMin: 32.10498048625092
XMax: -77.49058702933647
YMax: 38.53371643164715
Spatial Reference: 4326
(4326)
Full Extent:
XMin: -81.29223628820002
YMin: 32.10498048625092
XMax: -77.49058702933647
YMax: 38.53371643164715
Spatial Reference: 4326
(4326)
Pixel Size X: 3.0444856721899163E-4
Pixel Size Y: 3.044485672189916E-4
Band Count: 3
Pixel Type: U8
RasterFunction Infos: {"rasterFunctionInfos": [
{
"name": "None",
"description": "A No-Op Function.",
"help": ""
},
{
"name": "sentinel_rgb",
"description": "A raster function template.",
"help": ""
}
]}
Mensuration Capabilities: Basic
Has Histograms: false
Has Colormap: false
Has Multi Dimensions : false
Rendering Rule:
Min Scale: 0
Max Scale: 0
Copyright Text:
Service Data Type: esriImageServiceDataTypeRGB
Min Values: N/A
Max Values: N/A
Mean Values: N/A
Standard Deviation Values: N/A
Object ID Field:
Fields:
None
Default Mosaic Method: Center
Allowed Mosaic Methods:
SortField:
SortValue: null
Mosaic Operator: First
Default Compression Quality: 75
Default Resampling Method: Bilinear
Max Record Count: null
Max Image Height: 4100
Max Image Width: 15000
Max Download Image Count: null
Max Mosaic Image Count: null
Allow Raster Function: true
Allow Copy: null
Allow Analysis: null
Allow Compute TiePoints: false
Supports Statistics: false
Supports Advanced Queries: false
Use StandardizedQueries: true
Raster Type Infos:
Name: Raster Dataset
Description: Supports all ArcGIS Raster Datasets
Help:
Has Raster Attribute Table: false
Edit Fields Info: null
Ownership Based AccessControl For Rasters: null
Child Resources:
Info
Key Properties
Legend
Raster Function Infos
Supported Operations:
Export Image
Identify
Measure
Compute Histograms
Compute Statistics Histograms
Get Samples
Compute Class Statistics
Query Boundary
Compute Pixel Location
Compute Angles
Validate
Project