View In:
  ArcGIS JavaScript
  ArcGIS Online Map Viewer
  ArcGIS Earth
  ArcMap
View Footprint In:
  ArcGIS Online Map Viewer
Service Description:  Hurricance_Florence_2018/Black_Marble_DNB_20180914
Name:  Hurricance_Florence_2018/Black_Marble_DNB_20180914
Description:  
Single Fused Map Cache:  false
Extent: 
XMin: -89.995833335
YMin: 29.995837335
XMax: -69.995841335
YMax: 39.995833335
Spatial Reference: 4326
 (4326)
Initial Extent:
XMin: -89.995833335
YMin: 29.995837335
XMax: -69.995841335
YMax: 39.995833335
Spatial Reference: 4326
 (4326)
Full Extent:
XMin: -89.995833335
YMin: 29.995837335
XMax: -69.995841335
YMax: 39.995833335
Spatial Reference: 4326
 (4326)
Pixel Size X: 0.008333330000000002
Pixel Size Y:  0.00833333
Band Count: 3
Pixel Type: U8
RasterFunction Infos:  {"rasterFunctionInfos": [
 {
  "name": "None",
  "description": "Make a Raster or Raster Dataset into a Function Raster Dataset.",
  "help": ""
 },
 {
  "name": "viirs_dnb",
  "description": "A raster function template.",
  "help": ""
 }
]}
Mensuration Capabilities: Basic
Has Histograms:  false
Has Colormap:  false
Has Multi Dimensions :  false
Rendering Rule: 
Min Scale:  0
Max Scale:  0
Copyright Text:  
Service Data Type:  esriImageServiceDataTypeRGB
Min Values:  N/A
Max Values:  N/A
Mean Values:  N/A
Standard Deviation Values:  N/A
Object ID Field:  
Fields: 
None
Default Mosaic Method:  Center
Allowed Mosaic Methods:  
SortField:  
SortValue:  null
Mosaic Operator:  First
Default Compression Quality:  75
Default Resampling Method:  Bilinear
Max Record Count:  null
Max Image Height:  4100
Max Image Width:  15000
Max Download Image Count:  null
Max Mosaic Image Count:  null
Allow Raster Function:  true
Allow Copy:  true
Allow Analysis:  true
Allow Compute TiePoints:  false
Supports Statistics:  false
Supports Advanced Queries:  false
Use StandardizedQueries:  true
Raster Type Infos: 
Name: Raster Dataset
Description: Supports all ArcGIS Raster Datasets
Help: 
Has Raster Attribute Table: false
Edit Fields Info:  null
Ownership Based AccessControl For Rasters:  null
Child Resources:
  
Info
  Statistics
  Key Properties
  Legend
  Raster Function Infos
Supported Operations:
  
Export Image
  Identify
  Measure
  Compute Histograms
  Compute Statistics Histograms
  Get Samples
  Compute Class Statistics
  Query Boundary
  Compute Pixel Location
  Compute Angles
  Validate
  Project