View In:
ArcGIS JavaScript
ArcGIS Online Map Viewer
ArcGIS Earth
ArcMap
View Footprint In:
ArcGIS Online Map Viewer
Service Description: Purpose/Summary:
The Natural Color RGB provides a false composite look at the surface. This RGB uses a shortwave, the near-infrared, and red channels from the instrument. This product contains imagery from Landsat 8. Image produced: 09-17-2018
Suggested Usage:
Healthy green vegetation will appear as a bright green, urban areas in various shades of magenta, and bare soils being multicolor dependent on their makeup. Areas of water will be blue.
Satellite/Sensor:
Landsat-8 Operational Land Imager (OLI); 30m resolution
Credit/Acknowledgments:
NASA/MSFC, USGS
Name: Hurricance_Florence_2018/L8_naturalColor_20180926
Description: Purpose/Summary:
The Natural Color RGB provides a false composite look at the surface. This RGB uses a shortwave, the near-infrared, and red channels from the instrument. This product contains imagery from Landsat 8. Image produced: 09-17-2018
Suggested Usage:
Healthy green vegetation will appear as a bright green, urban areas in various shades of magenta, and bare soils being multicolor dependent on their makeup. Areas of water will be blue.
Satellite/Sensor:
Landsat-8 Operational Land Imager (OLI); 30m resolution
Credit/Acknowledgments:
NASA/MSFC, USGS
Single Fused Map Cache: false
Extent:
XMin: -79.74893819928184
YMin: 32.100225717987676
XMax: -76.38565299691756
YMax: 37.1387617578011
Spatial Reference: 4326
(4326)
Initial Extent:
XMin: -79.74893819928184
YMin: 32.100225717987676
XMax: -76.38565299691756
YMax: 37.1387617578011
Spatial Reference: 4326
(4326)
Full Extent:
XMin: -79.74893819928184
YMin: 32.100225717987676
XMax: -76.38565299691756
YMax: 37.1387617578011
Spatial Reference: 4326
(4326)
Pixel Size X: 3.0436970157142815E-4
Pixel Size Y: 3.043697015714282E-4
Band Count: 3
Pixel Type: U8
RasterFunction Infos: {"rasterFunctionInfos": [
{
"name": "sentinel_rgb",
"description": "A raster function template.",
"help": ""
},
{
"name": "None",
"description": "",
"help": ""
}
]}
Mensuration Capabilities: Basic
Has Histograms: false
Has Colormap: false
Has Multi Dimensions : false
Rendering Rule:
Min Scale: 0
Max Scale: 0
Copyright Text:
Service Data Type: esriImageServiceDataTypeRGB
Min Values: N/A
Max Values: N/A
Mean Values: N/A
Standard Deviation Values: N/A
Object ID Field:
Fields:
None
Default Mosaic Method: Center
Allowed Mosaic Methods:
SortField:
SortValue: null
Mosaic Operator: First
Default Compression Quality: 75
Default Resampling Method: Bilinear
Max Record Count: null
Max Image Height: 4100
Max Image Width: 15000
Max Download Image Count: null
Max Mosaic Image Count: null
Allow Raster Function: true
Allow Copy: null
Allow Analysis: null
Allow Compute TiePoints: false
Supports Statistics: false
Supports Advanced Queries: false
Use StandardizedQueries: true
Raster Type Infos:
Name: Raster Dataset
Description: Supports all ArcGIS Raster Datasets
Help:
Has Raster Attribute Table: false
Edit Fields Info: null
Ownership Based AccessControl For Rasters: null
Child Resources:
Info
Key Properties
Legend
Raster Function Infos
Supported Operations:
Export Image
Identify
Measure
Compute Histograms
Compute Statistics Histograms
Get Samples
Compute Class Statistics
Query Boundary
Compute Pixel Location
Compute Angles
Validate
Project