View In:
ArcGIS JavaScript
ArcGIS Online Map Viewer
ArcGIS Earth
ArcMap
View Footprint In:
ArcGIS Online Map Viewer
Service Description: Hurricance_Florence_2018/L8_panchromatic_20180917
Name: Hurricance_Florence_2018/L8_panchromatic_20180917
Description:
Single Fused Map Cache: false
Extent:
XMin: -81.291048898696
YMin: 32.115261944066006
XMax: -77.518627237812
YMax: 38.52694785950601
Spatial Reference: 4326
(4326)
Initial Extent:
XMin: -81.291048898696
YMin: 32.115261944066006
XMax: -77.518627237812
YMax: 38.52694785950601
Spatial Reference: 4326
(4326)
Full Extent:
XMin: -81.291048898696
YMin: 32.115261944066006
XMax: -77.518627237812
YMax: 38.52694785950601
Spatial Reference: 4326
(4326)
Pixel Size X: 1.5222426200000027E-4
Pixel Size Y: 1.5222426200000008E-4
Band Count: 1
Pixel Type: S16
RasterFunction Infos: {"rasterFunctionInfos": [{
"name": "None",
"description": "",
"help": ""
}]}
Mensuration Capabilities: Basic
Has Histograms: true
Has Colormap: false
Has Multi Dimensions : false
Rendering Rule:
Min Scale: 0
Max Scale: 0
Copyright Text:
Service Data Type: esriImageServiceDataTypeGeneric
Min Values: 0
Max Values: 255
Mean Values: 164.92355498922763
Standard Deviation Values: 99.54168013126872
Object ID Field:
Fields:
None
Default Mosaic Method: Center
Allowed Mosaic Methods:
SortField:
SortValue: null
Mosaic Operator: First
Default Compression Quality: 75
Default Resampling Method: Bilinear
Max Record Count: null
Max Image Height: 4100
Max Image Width: 15000
Max Download Image Count: null
Max Mosaic Image Count: null
Allow Raster Function: true
Allow Copy: true
Allow Analysis: true
Allow Compute TiePoints: false
Supports Statistics: false
Supports Advanced Queries: false
Use StandardizedQueries: true
Raster Type Infos:
Name: Raster Dataset
Description: Supports all ArcGIS Raster Datasets
Help:
Has Raster Attribute Table: true
Edit Fields Info: null
Ownership Based AccessControl For Rasters: null
Child Resources:
Info
Raster Attribute Table
Histograms
Statistics
Key Properties
Legend
Raster Function Infos
Supported Operations:
Export Image
Identify
Measure
Compute Histograms
Compute Statistics Histograms
Get Samples
Compute Class Statistics
Query Boundary
Compute Pixel Location
Compute Angles
Validate
Project