View In:
ArcGIS JavaScript
ArcGIS Online Map Viewer
ArcGIS Earth
ArcMap
View Footprint In:
ArcGIS Online Map Viewer
Service Description: Landsat-7 Normalized Difference Water Index (NDWI) 9/25/2018
Name: Hurricance_Florence_2018/LE07_20180925_ndwiMcfeeters_wgs84
Description: Landsat-7 Normalized Difference Water Index (NDWI) 9/25/2018
Single Fused Map Cache: false
Extent:
XMin: -81.41886798783445
YMin: 32.21282776355352
XMax: -77.47732197277818
YMax: 38.45360895405928
Spatial Reference: 4326
(4326)
Initial Extent:
XMin: -81.41886798783445
YMin: 32.21282776355352
XMax: -77.47732197277818
YMax: 38.45360895405928
Spatial Reference: 4326
(4326)
Full Extent:
XMin: -81.41886798783445
YMin: 32.21282776355352
XMax: -77.47732197277818
YMax: 38.45360895405928
Spatial Reference: 4326
(4326)
Pixel Size X: 3.064012760460402E-4
Pixel Size Y: 3.064012760460407E-4
Band Count: 1
Pixel Type: F32
RasterFunction Infos: {"rasterFunctionInfos": [
{
"name": "L8_mndwi",
"description": "A raster function template.",
"help": ""
},
{
"name": "None",
"description": "",
"help": ""
}
]}
Mensuration Capabilities: Basic
Has Histograms: false
Has Colormap: false
Has Multi Dimensions : false
Rendering Rule:
Min Scale: 0
Max Scale: 0
Copyright Text: NASA/MSFC, USGS
Service Data Type: esriImageServiceDataTypeGeneric
Min Values: N/A
Max Values: N/A
Mean Values: N/A
Standard Deviation Values: N/A
Object ID Field:
Fields:
None
Default Mosaic Method: Center
Allowed Mosaic Methods:
SortField:
SortValue: null
Mosaic Operator: First
Default Compression Quality: 75
Default Resampling Method: Bilinear
Max Record Count: null
Max Image Height: 4100
Max Image Width: 15000
Max Download Image Count: null
Max Mosaic Image Count: null
Allow Raster Function: true
Allow Copy: true
Allow Analysis: true
Allow Compute TiePoints: false
Supports Statistics: false
Supports Advanced Queries: false
Use StandardizedQueries: true
Raster Type Infos:
Name: Raster Dataset
Description: Supports all ArcGIS Raster Datasets
Help:
Has Raster Attribute Table: false
Edit Fields Info: null
Ownership Based AccessControl For Rasters: null
Child Resources:
Info
Statistics
Key Properties
Legend
Raster Function Infos
Supported Operations:
Export Image
Identify
Measure
Compute Histograms
Compute Statistics Histograms
Get Samples
Compute Class Statistics
Query Boundary
Compute Pixel Location
Compute Angles
Validate
Project