View In:
  ArcGIS JavaScript
  ArcGIS Online Map Viewer
  ArcGIS Earth
  ArcMap
View Footprint In:
  ArcGIS Online Map Viewer
Service Description:  Hurricance_Florence_2018/NWC_WaterDepth_MaxFlood_Sep18_Florence
Name:  Hurricance_Florence_2018/NWC_WaterDepth_MaxFlood_Sep18_Florence
Description:  
Single Fused Map Cache:  false
Extent: 
XMin: -80.001666666385
YMin: 32.998333331148
XMax: -76.998333330649
YMax: 36.001666666884
Spatial Reference: 4269
 (4269)
Initial Extent:
XMin: -80.001666666385
YMin: 32.998333331148
XMax: -76.998333330649
YMax: 36.001666666884
Spatial Reference: 4269
 (4269)
Full Extent:
XMin: -80.001666666385
YMin: 32.998333331148
XMax: -76.998333330649
YMax: 36.001666666884
Spatial Reference: 4269
 (4269)
Pixel Size X: 2.777777780000002E-4
Pixel Size Y:  2.777777780000002E-4
Band Count: 1
Pixel Type: F32
RasterFunction Infos:  {"rasterFunctionInfos": [
 {
  "name": "Water_Center_Maximum_Floodwater_Depth",
  "description": "A raster function template.",
  "help": ""
 },
 {
  "name": "None",
  "description": "",
  "help": ""
 }
]}
Mensuration Capabilities: Basic
Has Histograms:  true
Has Colormap:  false
Has Multi Dimensions :  false
Rendering Rule: 
Min Scale:  0
Max Scale:  0
Copyright Text:  
Service Data Type:  esriImageServiceDataTypeGeneric
Min Values:  0
Max Values:  129.88133239746
Mean Values:  3.0195484167835
Standard Deviation Values:  5.5840401154886
Object ID Field:  
Fields: 
None
Default Mosaic Method:  Center
Allowed Mosaic Methods:  
SortField:  
SortValue:  null
Mosaic Operator:  First
Default Compression Quality:  75
Default Resampling Method:  Bilinear
Max Record Count:  null
Max Image Height:  4100
Max Image Width:  15000
Max Download Image Count:  null
Max Mosaic Image Count:  null
Allow Raster Function:  true
Allow Copy:  true
Allow Analysis:  true
Allow Compute TiePoints:  false
Supports Statistics:  false
Supports Advanced Queries:  false
Use StandardizedQueries:  true
Raster Type Infos: 
Name: Raster Dataset
Description: Supports all ArcGIS Raster Datasets
Help: 
Has Raster Attribute Table: false
Edit Fields Info:  null
Ownership Based AccessControl For Rasters:  null
Child Resources:
  
Info
  Histograms
  Statistics
  Key Properties
  Legend
  Raster Function Infos
Supported Operations:
  
Export Image
  Identify
  Measure
  Compute Histograms
  Compute Statistics Histograms
  Get Samples
  Compute Class Statistics
  Query Boundary
  Compute Pixel Location
  Compute Angles
  Validate
  Project